Workbook

Sheet 1r curs 1r sem
A1: Grau de CCAA - Primer curs - 1r semestre (CURS 2026/2027)
M4: Teoria | O4: Pràctiques d'aula | Q4: Pràc. de laboratori | U4: Seminaris | W4: Pràc. de camp
M5: TE | O5: PAUL (Pb) | Q5: PLAB (Pr) | S5: PLAB40 | U5: SESP (Se) | W5: PCAM (So)
M6: Hores | N6: Grups | O6: Hores | P6: Grups | Q6: Hores | R6: Grups | S6: Hores | T6: Grups | U6: Hores | V6: Grups | W6: Hores | X6: Grups
B7: 106751 | D7: FGR | F7: Fonaments de Geografia | M7: 38 | N7: 1 | O7: 12 | P7: 2 | Q7: - | R7: - | S7: - | T7: - | U7: - | V7: - | W7: - | X7: -
B8: 106749 | D8: FGEO | F8: Fonaments de Geologia | M8: 37 | N8: 1 | O8: - | P8: - | Q8: 8 | R8: 3 | S8: - | T8: - | U8: - | V8: - | W8: 8 | X8: 3
B9: 106747 | D9: FMAT | F9: Fonaments de Matemàtiques | M9: 38 | N9: 1 | O9: 12 | P9: 2 | Q9: - | R9: - | S9: - | T9: - | U9: - | V9: - | W9: - | X9: -
B10: 106750 | D10: FQUI | F10: Fonaments de Química | M10: 29 | N10: 2 | O10: 10 | P10: 2 | Q10: - | R10: - | S10: 14 | T10: 3 | U10: - | V10: - | W10: - | X10: -
B11: 106757 | D11: IRCA | F11: Introducció i Reptes de les Ciències Ambientals | M11: 30 | N11: 1 | O11: 6 | P11: 2 | Q11: - | R11: - | S11: - | T11: - | U11: 8 | V11: 4 | W11: 6 | X11: 4
B15: 46265 | D15: =B15+1 -> 46266 | F15: =D15+1 -> 46267 | H15: =F15+1 -> 46268 | J15: =H15+1 -> 46269 | N15: =B15+7 -> 46272 | P15: =N15+1 -> 46273 | R15: =P15+1 -> 46274 | T15: =R15+1 -> 46275 | V15: =T15+1 -> 46276
B16: DILLUNS | D16: DIMARTS | F16: DIMECRES | H16: DIJOUS | J16: DIVENDRES | N16: DILLUNS | P16: DIMARTS | R16: DIMECRES | T16: DIJOUS | V16: DIVENDRES
A17: 9-10 | B17: NO LECTIU | M17: 9-10 | V17: FESTIU
A18: 10-11 | M18: 10-11
A19: 11-12 | M19: 11-12
A20: 12-13 | M20: 12-13
A21: 13-14 | M21: 13-14
A22: 14-15 | M22: 14-15 | N22: SESSIÓ D'ACOLLIDA CCAA
A23: 15-16 | M23: 15-16 | N23: FQUI 1 | P23: FQUI 2 | R23: FQUI 1 | T23: FGEO
A24: 16-17 | M24: 16-17 | N24: FGR | P24: FMAT | R24: FGEO | T24: FGR
A25: 17-18 | M25: 17-18 | N25: FMAT | P25: IRCA | R25: IRCA | T25: FMAT
A26: 18-19 | M26: 18-19 | P26: FQUI 2 | R26: FGR
A27: 19-20 | M27: 19-20
B29: =V15+3 -> 46279 | D29: =B29+1 -> 46280 | F29: =D29+1 -> 46281 | H29: =F29+1 -> 46282 | J29: =H29+1 -> 46283 | N29: =B29+7 -> 46286 | P29: =N29+1 -> 46287 | R29: =P29+1 -> 46288 | T29: =R29+1 -> 46289 | V29: =T29+1 -> 46290
B30: DILLUNS | D30: DIMARTS | F30: DIMECRES | H30: DIJOUS | J30: DIVENDRES | N30: DILLUNS | P30: DIMARTS | R30: DIMECRES | T30: DIJOUS | V30: DIVENDRES
A31: 9-10 | M31: 9-10 | T31: FESTIU
A32: 10-11 | M32: 10-11
A33: 11-12 | M33: 11-12 | P33: FGEO Pr1 | R33: FGEO Pr2 | V33: FGEO Pr3
A34: 12-13 | M34: 12-13 | P34: FGEO Pr1 | R34: FGEO Pr2 | V34: FGEO Pr3
A35: 13-14 | M35: 13-14
A36: 14-15 | M36: 14-15 | V36: FQUI-presentació pràctiques
A37: 15-16 | B37: FQUI 1 | D37: FQUI 2 | F37: FQUI 1 | H37: FGEO | J37: FQUI 2 | M37: 15-16 | N37: FQUI 1 | P37: FQUI 2 | R37: FQUI 1 | V37: FQUI 2
A38: 16-17 | B38: FGR | D38: FMAT | F38: FGEO | H38: FGR | J38: FMAT | M38: 16-17 | N38: FGR | P38: FMAT | R38: FGEO | V38: FMAT
A39: 17-18 | B39: FMAT | D39: IRCA | F39: IRCA | H39: FMAT Pb1 | J39: FGEO | M39: 17-18 | N39: FMAT | P39: IRCA | R39: IRCA | V39: FGEO
A40: 18-19 | B40: FQUI Pb1 | C40: FGR Pb2 | D40: FGR Pb1 | E40: FQUI Pb2 | F40: FGR | I40: FMAT Pb2 | J40: IRCA | M40: 18-19 | N40: FQUI Pb1 | O40: FGR Pb2 | P40: FGR Pb1 | Q40: FQUI Pb2 | R40: FGR | V40: IRCA
A41: 19-20 | B41: FQUI 2 | D41: FQUI 1 | M41: 19-20
B43: =V29+3 -> 46293 | D43: =B43+1 -> 46294 | F43: =D43+1 -> 46295 | H43: =F43+1 -> 46296 | J43: =H43+1 -> 46297 | N43: =B43+7 -> 46300 | P43: =N43+1 -> 46301 | R43: =P43+1 -> 46302 | T43: =R43+1 -> 46303 | V43: =T43+1 -> 46304
B44: DILLUNS | D44: DIMARTS | F44: DIMECRES | H44: DIJOUS | J44: DIVENDRES | N44: DILLUNS | P44: DIMARTS | R44: DIMECRES | T44: DIJOUS | V44: DIVENDRES
A45: 9-10 | M45: 9-10 | P45: FQUI Pr1 | R45: FQUI Pr2 | T45: FQUI Pr3 | V45: FQUI Pr1
A46: 10-11 | B46: IRCA Se1 | D46: FGEO Pr1 | F46: IRCA Se3 | M46: 10-11 | P46: FQUI Pr1 | R46: FQUI Pr2 | T46: FQUI Pr3 | V46: FQUI Pr1
A47: 11-12 | B47: IRCA Se1 | D47: FGEO Pr1 | F47: IRCA Se3 | H47: FGEO Pr2 | J47: FGEO Pr3 | M47: 11-12 | P47: FQUI Pr1 | R47: FQUI Pr2 | T47: FQUI Pr3 | V47: FQUI Pr1
A48: 12-13 | B48: IRCA Se2 | D48: LA COMUNITÀRIA UAB (12-16h) | F48: IRCA Se4 | H48: FGEO Pr2 | J48: FGEO Pr3 | M48: 12-13 | P48: FQUI Pr1 | R48: FQUI Pr2 | T48: FQUI Pr3
A49: 13-14 | B49: IRCA Se2 | F49: IRCA Se4 | M49: 13-14
A50: 14-15 | M50: 14-15
A51: 15-16 | B51: FQUI 1 | F51: FQUI 1 | H51: FGEO | J51: FQUI 2 | M51: 15-16 | N51: FQUI 1 | P51: FQUI 2 | R51: FQUI 1 | T51: FGEO | V51: FQUI 2
A52: 16-17 | B52: FGR | D52: FQUI 2 | F52: FGEO | H52: FGR | J52: FMAT | M52: 16-17 | N52: FGR | P52: FMAT | R52: FGEO | T52: FGR | V52: FMAT
A53: 17-18 | B53: FMAT | D53: IRCA | F53: IRCA | H53: FMAT Pb1 | I53: IRCA Pb2 | J53: FGEO | M53: 17-18 | N53: FMAT | P53: IRCA | R53: IRCA | T53: FMAT Pb1 | U53: IRCA Pb2 | V53: FGEO
A54: 18-19 | B54: FQUI Pb1 | C54: FGR Pb2 | D54: FGR Pb1 | E54: FQUI Pb2 | F54: FGR | H54: IRCA Pb1 | I54: FMAT Pb2 | J54: IRCA | M54: 18-19 | N54: FQUI Pb1 | O54: FGR Pb2 | P54: FGR Pb1 | Q54: FQUI Pb2 | R54: FGR | T54: IRCA Pb1 | U54: FMAT Pb2 | V54: IRCA
A55: 19-20 | M55: 19-20
B57: =V43+3 -> 46307 | D57: =B57+1 -> 46308 | F57: =D57+1 -> 46309 | H57: =F57+1 -> 46310 | J57: =H57+1 -> 46311 | N57: =B57+7 -> 46314 | P57: =N57+1 -> 46315 | R57: =P57+1 -> 46316 | T57: =R57+1 -> 46317 | V57: =T57+1 -> 46318
B58: DILLUNS | D58: DIMARTS | F58: DIMECRES | H58: DIJOUS | J58: DIVENDRES | N58: DILLUNS | P58: DIMARTS | R58: DIMECRES | T58: DIJOUS | V58: DIVENDRES
A59: 9-10 | D59: FQUI Pr3 | F59: FQUI Pr2 | M59: 9-10 | V59: sortida UAB 8:15
A60: 10-11 | D60: FQUI Pr3 | F60: FQUI Pr2 | H60: IRCA Se1 | J60: IRCA Se3 | M60: 10-11 | V60: FGEO So1, 2, 3
A61: 11-12 | D61: FQUI Pr3 | F61: FQUI Pr2 | H61: IRCA Se1 | J61: IRCA Se3 | M61: 11-12 | P61: FGEO Pr1 | R61: FGEO Pr2 | T61: FGEO Pr3 | V61: FGEO So1, 2, 3
A62: 12-13 | H62: IRCA Se2 | J62: IRCA Se4 | M62: 12-13 | P62: FGEO Pr1 | R62: FGEO Pr2 | T62: FGEO Pr3 | V62: FGEO So1, 2, 3
A63: 13-14 | B63: FESTIU | H63: IRCA Se2 | J63: IRCA Se4 | M63: 13-14 | V63: FGEO So1, 2, 3
A64: 14-15 | M64: 14-15 | V64: FGEO So1, 2, 3
A65: 15-16 | D65: FQUI 2 | F65: FQUI 1 | H65: FGEO | J65: FQUI 2 | M65: 15-16 | N65: FQUI 1 | P65: FQUI 2 | R65: FQUI 1 | T65: FGEO | V65: FGEO So1, 2, 3
A66: 16-17 | D66: FMAT | F66: FGEO | H66: FGR | J66: FMAT | M66: 16-17 | N66: FGR | P66: FMAT | R66: FGEO | T66: FGR | V66: FGEO So1, 2, 3
A67: 17-18 | D67: IRCA | F67: IRCA | H67: FMAT Pb1 | J67: FGEO | M67: 17-18 | N67: FMAT | P67: IRCA | R67: IRCA | T67: FMAT Pb1 | V67: FGEO So1, 2, 3
A68: 18-19 | D68: FGR Pb1 | E68: FQUI Pb2 | F68: FGR | I68: FMAT Pb2 | M68: 18-19 | N68: FQUI Pb1 | O68: FGR Pb2 | P68: FGR Pb1 | Q68: FQUI Pb2 | R68: FGR | U68: FMAT Pb2 | V68: tornada UAB 20:15
A69: 19-20 | D69: FQUI Pb1 | E69: FGR Pb2 | M69: 19-20
B70: PRIMERS PARCIALS
B71: =V57+3 -> 46321 | D71: =B71+1 -> 46322 | F71: =D71+1 -> 46323 | H71: =F71+1 -> 46324 | J71: =H71+1 -> 46325 | N71: =B71+7 -> 46328 | P71: =N71+1 -> 46329 | R71: =P71+1 -> 46330 | T71: =R71+1 -> 46331 | V71: =T71+1 -> 46332
B72: DILLUNS | D72: DIMARTS | F72: DIMECRES | H72: DIJOUS | J72: DIVENDRES | N72: DILLUNS | P72: DIMARTS | R72: DIMECRES | T72: DIJOUS | V72: DIVENDRES
A73: 9-10 | M73: 9-10
A74: 10-11 | M74: 10-11
A75: 11-12 | M75: 11-12
A76: 12-13 | M76: 12-13
A77: 13-14 | M77: 13-14 | T77: SANT ALBERT ACTIVITATS CAMPUS (13-15h)
A78: 14-15 | M78: 14-15
A79: 15-16 | M79: 15-16 | R79: FQUI 1 | T79: FGEO | V79: FQUI 2
A80: 16-17 | M80: 16-17 | R80: FGEO | T80: FGR | V80: FMAT
A81: 17-18 | B81: Exam FMAT | D81: Examen FGR | H81: Examen FGEO | J81: Examen IRCA | M81: 17-18 | N81: Examen FQUI | R81: IRCA | T81: FMAT | V81: FGEO
A82: 18-19 | M82: 18-19 | R82: FGR
A83: 19-20 | M83: 19-20
B85: =V71+3 -> 46335 | D85: =B85+1 -> 46336 | F85: =D85+1 -> 46337 | H85: =F85+1 -> 46338 | J85: =H85+1 -> 46339 | N85: =B85+7 -> 46342 | P85: =N85+1 -> 46343 | R85: =P85+1 -> 46344 | T85: =R85+1 -> 46345 | V85: =T85+1 -> 46346
B86: DILLUNS | D86: DIMARTS | F86: DIMECRES | H86: DIJOUS | J86: DIVENDRES | N86: DILLUNS | P86: DIMARTS | R86: DIMECRES | T86: DIJOUS | V86: DIVENDRES
A87: 9-10 | M87: 9-10 | V87: IRCA So
A88: 10-11 | B88: IRCA Se1 | D88: FGEO Pr1 | F88: IRCA Se3 | M88: 10-11 | V88: IRCA So
A89: 11-12 | B89: IRCA Se1 | D89: FGEO Pr1 | F89: IRCA Se3 | H89: FGEO Pr2 | J89: FGEO Pr3 | M89: 11-12 | V89: IRCA So
A90: 12-13 | B90: IRCA Se2 | F90: IRCA Se4 | H90: FGEO Pr2 | J90: FGEO Pr3 | M90: 12-13 | V90: IRCA So
A91: 13-14 | B91: IRCA Se2 | F91: IRCA Se4 | M91: 13-14 | V91: IRCA So
A92: 14-15 | M92: 14-15 | V92: IRCA So
A93: 15-16 | B93: FQUI 1 | D93: FQUI 2 | F93: FQUI 1 | H93: FGEO | J93: FQUI 2 | M93: 15-16 | N93: FQUI 1 | P93: FQUI 2 | R93: FQUI 1 | T93: FGEO
A94: 16-17 | B94: FGR | D94: FMAT | F94: FGEO | H94: FGR | J94: FMAT | M94: 16-17 | N94: FGR | P94: FMAT | R94: FGEO | T94: FGR | V94: FMAT
A95: 17-18 | B95: FMAT | D95: IRCA | F95: IRCA | H95: FMAT Pb1 | J95: FMAT | M95: 17-18 | N95: FMAT | P95: IRCA | R95: IRCA | T95: FMAT Pb1 | V95: FGEO
A96: 18-19 | B96: FQUI 1 | C96: FGR Pb2 | D96: FGR Pb1 | E96: FQUI 2 | F96: FGR | I96: FMAT Pb2 | M96: 18-19 | N96: FQUI Pb1 | O96: FGR Pb2 | P96: FGR Pb1 | Q96: FQUI Pb2 | R96: FGR | U96: FMAT Pb2
A97: 19-20 | M97: 19-20 | P97: FQUI 2
B99: =V85+3 -> 46349 | D99: =B99+1 -> 46350 | F99: =D99+1 -> 46351 | H99: =F99+1 -> 46352 | J99: =H99+1 -> 46353 | N99: =B99+7 -> 46356 | P99: =N99+1 -> 46357 | R99: =P99+1 -> 46358 | T99: =R99+1 -> 46359 | V99: =T99+1 -> 46360
B100: DILLUNS | D100: DIMARTS | F100: DIMECRES | H100: DIJOUS | J100: DIVENDRES | N100: DILLUNS | P100: DIMARTS | R100: DIMECRES | T100: DIJOUS | V100: DIVENDRES
A101: 9-10 | M101: 9-10
A102: 10-11 | B102: IRCA Se1 | F102: IRCA Se3 | M102: 10-11
A103: 11-12 | B103: IRCA Se1 | F103: IRCA Se3 | M103: 11-12
A104: 12-13 | B104: IRCA Se2 | F104: IRCA Se4 | M104: 12-13 | R104: FMAT Pb1
A105: 13-14 | B105: IRCA Se2 | F105: IRCA Se4 | M105: 13-14 | R105: FMAT Pb2
A106: 14-15 | M106: 14-15
A107: 15-16 | B107: FQUI 1 | D107: FQUI 2 | F107: FQUI 1 | H107: FGEO | J107: FQUI 2 | M107: 15-16 | N107: FQUI 1 | P107: FQUI 2 | R107: FQUI 1 | T107: FGEO | V107: FQUI 2
A108: 16-17 | B108: FGR | D108: FMAT | F108: FGEO | H108: FGR | J108: FMAT | M108: 16-17 | N108: FGR | P108: FMAT | R108: FGEO | T108: FGR | V108: FMAT
A109: 17-18 | B109: FMAT | D109: IRCA | F109: IRCA | H109: FMAT Pb1 | I109: IRCA Pb2 | J109: FGEO | M109: 17-18 | N109: FMAT | P109: IRCA | R109: IRCA | T109: FMAT Pb1 | V109: FGEO
A110: 18-19 | B110: FQUI Pb1 | C110: FGR Pb2 | D110: FGR Pb1 | E110: FQUI Pb2 | F110: FGR | H110: IRCA Pb1 | I110: FMAT Pb2 | M110: 18-19 | N110: FQUI Pb1 | O110: FGR Pb2 | P110: FGR Pb1 | Q110: FQUI Pb2 | R110: FGR | U110: FMAT Pb2
...

Sheet 2n curs 1r sem
A1: Grau de CCAA - Segon curs - 1r semestre Curs 2026/2027
S3: Teoria | U3: Pràctiques d'aula | W3: Pràc. de laboratori | AA3: Seminaris | AD3: Pràc. de camp
S4: TE | U4: PAUL (Pb) | W4: PLAB (Pr) | Y4: PLAB40 (Pr) | AA4: SESP (Se) | AD4: PCAM (So)
S5: Hores | T5: Grups | U5: Hores | V5: Grups | W5: Hores | X5: Grups | Y5: Hores | Z5: Grups | AA5: Hores | AB5: Grups | AD5: Hores
B6: 106748 | D6: E I | F6: Eina I: Tractament Estadístic de Dades | S6: 30 | T6: 1 | U6: 10 | V6: 2 | W6: 10 | X6: 4 | Y6: - | Z6: - | AA6: - | AB6: - | AD6: -
B7: 106779 | D7: BAV | F7: Biologia Animal i Vegetal | S7: 28 | T7: 1 | U7: 2 | V7: 2 | W7: 9 | X7: 4 | Y7: - | Z7: - | AA7: - | AB7: - | AD7: 9
B8: 106778 | D8: ECO | F8: Ecologia | S8: 24 | T8: 1 | U8: 12 | V8: 2 | W8: 6 | X8: 4 | Y8: - | Z8: - | AA8: - | AB8: - | AD8: 6
B9: 106768 | D9: HIDRO | F9: Hidrologia | S9: 32 | T9: 1 | U9: - | V9: - | W9: 8 | X9: 4 | Y9: - | Z9: - | AA9: - | AB9: - | AD9: 8
B10: 106761 | D10: PI | F10: Projecte Integral I: Medis Físic i Biòtic | S10: 6 | T10: 1 | U10: - | V10: - | W10: 4 | X10: 4 | Y10: - | Z10: - | AA10: - | AB10: - | AD10: 40
B12: 46265 | E12: =B12+1 -> 46266 | H12: =E12+1 -> 46267 | K12: =H12+1 -> 46268 | N12: =K12+1 -> 46269 | S12: =B12+7 -> 46272 | V12: =S12+1 -> 46273 | Y12: =V12+1 -> 46274 | AB12: =Y12+1 -> 46275 | AE12: =AB12+1 -> 46276
B13: DILLUNS | E13: DIMARTS | H13: DIMECRES | K13: DIJOUS | N13: DIVENDRES | S13: DILLUNS | V13: DIMARTS | Y13: DIMECRES | AB13: DIJOUS | AE13: DIVENDRES
A14: 9-10 | B14: NO LECTIU | R14: 9-10 | S14: BAV | V14: ECO | Y14: ECO | AB14: HIDRO | AE14: FESTIU
A15: 10-11 | R15: 10-11 | S15: HIDRO | V15: HIDRO | Y15: EI | AB15: EI
A16: 11-12 | R16: 11-12 | V16: EI | Y16: BAV | AB16: BAV
A17: 12-13 | R17: 12-13 | V17: ECO | AB17: PI
A18: 13-14 | R18: 13-14
A19: 14-15 | R19: 14-15
A20: 15-16 | R20: 15-16
A21: 16-17 | R21: 16-17
A22: 17-18 | R22: 17-18
A23: 18-19 | R23: 18-19
A24: 19-20 | R24: 19-20
B26: =AE12+3 -> 46279 | E26: =B26+1 -> 46280 | H26: =E26+1 -> 46281 | K26: =H26+1 -> 46282 | N26: =K26+1 -> 46283 | S26: =N26+3 -> 46286 | V26: =S26+1 -> 46287 | Y26: =V26+1 -> 46288 | AB26: =Y26+1 -> 46289 | AE26: =AB26+1 -> 46290
B27: DILLUNS | E27: DIMARTS | H27: DIMECRES | K27: DIJOUS | N27: DIVENDRES | S27: DILLUNS | V27: DIMARTS | Y27: DIMECRES | AB27: DIJOUS | AE27: DIVENDRES
A28: 9-10 | B28: BAV | E28: ECO | H28: ECO | K28: HIDRO | N28: ECO So1 | P28: ECO So3 | R28: 9-10 | S28: BAV | V28: ECO | AB28: FESTIU
A29: 10-11 | B29: HIDRO | E29: HIDRO | H29: EI | K29: EI | N29: ECO So1 | P29: ECO So3 | R29: 10-11 | S29: HIDRO | V29: HIDRO | Y29: BAV So1 | AA29: BAV So2 | AE29: BAV So3 | AG29: BAV So4
A30: 11-12 | B30: ECO Pb1 | D30: EI Pb2 | E30: EI | H30: BAV | K30: BAV | N30: ECO So1 | P30: ECO So3 | R30: 11-12 | S30: ECO Pb1 | U30: EI Pb2 | V30: EI | Y30: BAV So1 | AA30: BAV So2 | AE30: BAV So3 | AG30: BAV So4
A31: 12-13 | B31: EI Pb1 | D31: ECO Pb2 | E31: ECO | K31: PI | N31: ECO So1 | P31: ECO So3 | R31: 12-13 | S31: EI Pb1 | U31: ECO Pb2 | Y31: BAV So1 | AA31: BAV So2 | AE31: BAV So3 | AG31: BAV So4
A32: 13-14 | N32: ECO So1 | P32: ECO So3 | R32: 13-14
A33: 14-15 | N33: ECO So1 | P33: ECO So3 | R33: 14-15
A34: 15-16 | B34: BAV Pr1 | E34: BAV Pr2 | H34: BAV Pr4 | K34: BAV Pr3 | R34: 15-16 | S34: EI Pr1 | U34: EI Pr3 | V34: EI Pr2 | X34: EI Pr4
A35: 16-17 | B35: BAV Pr1 | E35: BAV Pr2 | H35: BAV Pr4 | K35: BAV Pr3 | R35: 16-17 | S35: EI Pr1 | U35: EI Pr3 | V35: EI Pr2 | X35: EI Pr4
A36: 17-18 | B36: BAV Pr1 | E36: BAV Pr2 | H36: BAV Pr4 | K36: BAV Pr3 | R36: 17-18
A37: 18-19 | R37: 18-19
A38: 19-20 | R38: 19-20
B40: =AE26+3 -> 46293 | E40: =B40+1 -> 46294 | H40: =E40+1 -> 46295 | K40: =H40+1 -> 46296 | N40: =K40+1 -> 46297 | S40: =B40+7 -> 46300 | V40: =S40+1 -> 46301 | Y40: =V40+1 -> 46302 | AB40: =Y40+1 -> 46303 | AE40: =AB40+1 -> 46304
B41: DILLUNS | E41: DIMARTS | H41: DIMECRES | K41: DIJOUS | N41: DIVENDRES | S41: DILLUNS | V41: DIMARTS | Y41: DIMECRES | AB41: DIJOUS | AE41: DIVENDRES
A42: 9-10 | B42: PI So1 i 3 | E42: PI So1 i 3 | H42: PI So1 i 3 | I42: BAV So2 | J42: BAV So4 | K42: PI So1 i 3 | N42: PI So1 i 3 | O42: ECO So2 | P42: ECO So4 | R42: 9-10 | S42: PI So2 i 4 | T42: BAV So1 | U42: BAV So3 | V42: PI So2 i 4 | Y42: PI So2 i 4 | AB42: PI So2 i 4 | AE42: PI So2 i 4
A43: 10-11 | B43: PI So1 i 3 | E43: PI So1 i 3 | H43: PI So1 i 3 | I43: BAV So2 | J43: BAV So4 | K43: PI So1 i 3 | N43: PI So1 i 3 | O43: ECO So2 | P43: ECO So4 | R43: 10-11 | S43: PI So2 i 4 | T43: BAV So1 | U43: BAV So3 | V43: PI So2 i 4 | Y43: PI So2 i 4 | AB43: PI So2 i 4 | AE43: PI So2 i 4
A44: 11-12 | B44: PI So1 i 3 | E44: PI So1 i 3 | H44: PI So1 i 3 | I44: BAV So2 | J44: BAV So4 | K44: PI So1 i 3 | N44: PI So1 i 3 | O44: ECO So2 | P44: ECO So4 | R44: 11-12 | S44: PI So2 i 4 | T44: BAV So1 | U44: BAV So3 | V44: PI So2 i 4 | Y44: PI So2 i 4 | AB44: PI So2 i 4 | AE44: PI So2 i 4
A45: 12-13 | B45: PI So1 i 3 | E45: PI So1 i 3 | H45: PI So1 i 3 | I45: BAV So2 | J45: BAV So4 | K45: PI So1 i 3 | N45: PI So1 i 3 | O45: ECO So2 | P45: ECO So4 | R45: 12-13 | S45: PI So2 i 4 | T45: BAV So1 | U45: BAV So3 | V45: PI So2 i 4 | Y45: PI So2 i 4 | AB45: PI So2 i 4 | AE45: PI So2 i 4
A46: 13-14 | B46: PI So1 i 3 | E46: PI So1 i 3 | H46: PI So1 i 3 | I46: BAV So2 | J46: BAV So4 | K46: PI So1 i 3 | N46: PI So1 i 3 | O46: ECO So2 | P46: ECO So4 | R46: 13-14 | S46: PI So2 i 4 | T46: BAV So1 | U46: BAV So3 | V46: PI So2 i 4 | Y46: PI So2 i 4 | AB46: PI So2 i 4 | AE46: PI So2 i 4
A47: 14-15 | B47: PI So1 i 3 | E47: PI So1 i 3 | H47: PI So1 i 3 | I47: BAV So2 | J47: BAV So4 | K47: PI So1 i 3 | N47: PI So1 i 3 | O47: ECO So2 | P47: ECO So4 | R47: 14-15 | S47: PI So2 i 4 | T47: BAV So1 | U47: BAV So3 | V47: PI So2 i 4 | Y47: PI So2 i 4 | AB47: PI So2 i 4 | AE47: PI So2 i 4
A48: 15-16 | B48: PI So1 i 3 | C48: BAV Pr4 | E48: PI So1 i 3 | F48: BAV Pr2 | H48: PI So1 i 3 | K48: PI So1 i 3 | N48: PI So1 i 3 | R48: 15-16 | S48: PI So2 i 4 | V48: PI So2 i 4 | Y48: PI So2 i 4 | AB48: PI So2 i 4 | AD48: BAV Pr1 | AE48: PI So2 i 4 | AF48: BAV Pr3
A49: 16-17 | B49: PI So1 i 3 | C49: BAV Pr4 | E49: PI So1 i 3 | F49: BAV Pr2 | H49: PI So1 i 3 | K49: PI So1 i 3 | N49: PI So1 i 3 | R49: 16-17 | S49: PI So2 i 4 | V49: PI So2 i 4 | Y49: PI So2 i 4 | AB49: PI So2 i 4 | AD49: BAV Pr1 | AE49: PI So2 i 4 | AF49: BAV Pr3
A50: 17-18 | B50: BAV Pr4 | E50: BAV Pr2 | R50: 17-18 | AB50: BAV Pr1 | AE50: BAV Pr3
A51: 18-19 | R51: 18-19
A52: 19-20 | R52: 19-20
B54: =AE40+3 -> 46307 | E54: =B54+1 -> 46308 | H54: =E54+1 -> 46309 | K54: =H54+1 -> 46310 | N54: =K54+1 -> 46311 | S54: =B54+7 -> 46314 | V54: =S54+1 -> 46315 | Y54: =V54+1 -> 46316 | AB54: =Y54+1 -> 46317 | AE54: =AB54+1 -> 46318
B55: DILLUNS | E55: DIMARTS | H55: DIMECRES | K55: DIJOUS | N55: DIVENDRES | S55: DILLUNS | V55: DIMARTS | Y55: DIMECRES | AB55: DIJOUS | AE55: DIVENDRES
A56: 9-10 | B56: FESTIU | E56: ECO | H56: ECO | K56: HIDRO | N56: EI Pr1 | P56: EI Pr3 | R56: 9-10 | S56: BAV | V56: ECO | Y56: ECO | AB56: HIDRO So1 | AD56: HIDRO So3 | AE56: HIDRO So2 | AG56: HIDRO So4
A57: 10-11 | E57: HIDRO | H57: EI | K57: EI | N57: EI Pr1 | P57: EI Pr3 | R57: 10-11 | S57: HIDRO | V57: HIDRO | Y57: EI | AB57: HIDRO So1 | AD57: HIDRO So3 | AE57: HIDRO So2 | AG57: HIDRO So4
A58: 11-12 | E58: EI | H58: BAV | K58: BAV | N58: EI Pr2 | P58: EI Pr4 | R58: 11-12 | S58: ECO Pb1 | U58: EI Pb2 | V58: EI | Y58: BAV | AB58: HIDRO So1 | AD58: HIDRO So3 | AE58: HIDRO So2 | AG58: HIDRO So4
A59: 12-13 | E59: ECO | K59: PI | N59: EI Pr2 | P59: EI Pr4 | R59: 12-13 | S59: EI Pb1 | U59: ECO Pb2 | AB59: HIDRO So1 | AD59: HIDRO So3 | AE59: HIDRO So2 | AG59: HIDRO So4
A60: 13-14 | R60: 13-14 | AB60: HIDRO So1 | AD60: HIDRO So3 | AE60: HIDRO So2 | AG60: HIDRO So4
A61: 14-15 | R61: 14-15 | AB61: HIDRO So1 | AD61: HIDRO So3 | AE61: HIDRO So2 | AG61: HIDRO So4
A62: 15-16 | R62: 15-16 | S62: PI Pr2 | U62: PI Pr4 | V62: PI Pr1 | X62: PI Pr3 | Y62: PI Pr2 | AA62: PI Pr4 | AB62: HIDRO So1 | AD62: HIDRO So3 | AE62: PI Pr1 | AF62: PI Pr3 | AG62: HIDRO So2
A63: 16-17 | R63: 16-17 | S63: PI Pr2 | U63: PI Pr4 | V63: PI Pr1 | X63: PI Pr3 | Y63: PI Pr2 | AA63: PI Pr4 | AB63: HIDRO So1 | AD63: HIDRO So3 | AE63: PI Pr1 | AF63: PI Pr3 | AG63: HIDRO So4
A64: 17-18 | R64: 17-18
A65: 18-19 | R65: 18-19 | AE65: HIDRO So 2 i 4 acaba a les 17:00
A66: 19-20 | R66: 19-20
B68: PRIMERS PARCIALS
B69: =AE54+3 -> 46321 | E69: =B69+1 -> 46322 | H69: =E69+1 -> 46323 | K69: =H69+1 -> 46324 | N69: =K69+1 -> 46325 | S69: =B69+7 -> 46328 | V69: =S69+1 -> 46329 | Y69: =V69+1 -> 46330 | AB69: =Y69+1 -> 46331 | AE69: =AB69+1 -> 46332
B70: DILLUNS | E70: DIMARTS | H70: DIMECRES | K70: DIJOUS | N70: DIVENDRES | S70: DILLUNS | V70: DIMARTS | Y70: DIMECRES | AB70: DIJOUS | AE70: DIVENDRES
A71: 9-10 | B71: Exam EI | E71: Exam HIDRO | K71: Exam ECO | N71: Exam BAV Teoria | R71: 9-10 | Y71: ECO | AB71: HIDRO
A72: 10-11 | R72: 10-11 | Y72: EI | AB72: EI
A73: 11-12 | N73: Exam BAV Laboratori | R73: 11-12 | Y73: BAV | AB73: BAV
A74: 12-13 | R74: 12-13 | AB74: PI
A75: 13-14 | R75: 13-14 | AB75: SANT ALBERT ACTIVITATS CAMPUS (13-15h)
A76: 14-15 | R76: 14-15
A77: 15-16 | R77: 15-16
A78: 16-17 | R78: 16-17
A79: 17-18 | R79: 17-18
A80: 18-19 | R80: 18-19
A81: 19-20 | R81: 19-20
B83: =AE69+3 -> 46335 | E83: =B83+1 -> 46336 | H83: =E83+1 -> 46337 | K83: =H83+1 -> 46338 | N83: =K83+1 -> 46339 | S83: =B83+7 -> 46342 | V83: =S83+1 -> 46343 | Y83: =V83+1 -> 46344 | AB83: =Y83+1 -> 46345 | AE83: =AB83+1 -> 46346
B84: DILLUNS | E84: DIMARTS | H84: DIMECRES | K84: DIJOUS | N84: DIVENDRES | S84: DILLUNS | V84: DIMARTS | Y84: DIMECRES | AB84: DIJOUS | AE84: DIVENDRES
A85: 9-10 | B85: BAV | E85: ECO | H85: ECO | K85: HIDRO | N85: EI Pr1 | P85: EI Pr3 | R85: 9-10 | S85: BAV | V85: ECO | Y85: ECO | AB85: HIDRO
A86: 10-11 | B86: HIDRO | E86: HIDRO | H86: EI | K86: EI | N86: EI Pr1 | P86: EI Pr3 | R86: 10-11 | S86: HIDRO | V86: HIDRO | Y86: EI | AB86: EI
A87: 11-12 | B87: ECO Pb1 | D87: EI Pb2 | E87: EI | H87: BAV | K87: BAV | N87: EI Pr2 | P87: EI Pr4 | R87: 11-12 | S87: ECO Pb1 | U87: EI Pb2 | V87: EI | Y87: BAV | AB87: BAV
A88: 12-13 | B88: EI Pb1 | D88: ECO Pb2 | K88: PI | N88: EI Pr2 | P88: EI Pr4 | R88: 12-13 | S88: EI Pb1 | U88: ECO Pb2 | AB88: PI
A89: 13-14 | R89: 13-14
A90: 14-15 | R90: 14-15
A91: 15-16 | B91: BAV Pr1 | E91: BAV Pr2 | H91: BAV Pr3 | K91: HIDRO Pr2 | L91: HIDRO Pr3 | M91: BAV Pr4 | N91: HIDRO Pr1 | P91: HIDRO Pr3 | R91: 15-16 | S91: ECO Pr2 | V91: ECO Pr4 | Y91: ECO Pr1 | AB91: ECO Pr3
A92: 16-17 | B92: BAV Pr1 | E92: BAV Pr2 | H92: BAV Pr3 | K92: HIDRO Pr2 | L92: HIDRO Pr3 | M92: BAV Pr4 | N92: HIDRO Pr1 | P92: HIDRO Pr3 | R92: 16-17 | S92: ECO Pr2 | V92: ECO Pr4 | Y92: ECO Pr1 | AB92: ECO Pr3
A93: 17-18 | B93: BAV Pr1 | E93: BAV Pr2 | H93: BAV Pr3 | K93: HIDRO Pr2 | L93: HIDRO Pr3 | M93: BAV Pr4 | N93: HIDRO Pr1 | P93: HIDRO Pr3 | R93: 17-18 | S93: ECO Pr2 | V93: ECO Pr4 | Y93: ECO Pr1 | AB93: ECO Pr3
A94: 18-19 | K94: HIDRO Pr2 | L94: HIDRO Pr3 | N94: HIDRO Pr1 | P94: HIDRO Pr3 | R94: 18-19 | S94: ECO Pr2 | V94: ECO Pr4 | Y94: ECO Pr1 | AB94: ECO Pr3
A95: 19-20 | R95: 19-20
B97: =AE83+3 -> 46349 | E97: =B97+1 -> 46350 | H97: =E97+1 -> 46351 | K97: =H97+1 -> 46352 | N97: =K97+1 -> 46353 | S97: =B97+7 -> 46356 | V97: =S97+1 -> 46357 | Y97: =V97+1 -> 46358 | AB97: =Y97+1 -> 46359 | AE97: =AB97+1 -> 46360
B98: DILLUNS | E98: DIMARTS | H98: DIMECRES | K98: DIJOUS | N98: DIVENDRES | S98: DILLUNS | V98: DIMARTS | Y98: DIMECRES | AB98: DIJOUS | AE98: DIVENDRES
A99: 9-10 | B99: BAV | E99: ECO | H99: ECO | K99: HIDRO | N99: EI Pr1 | P99: EI Pr3 | R99: 9-10 | S99: BAV | V99: ECO | Y99: ECO | AB99: HIDRO | AE99: EI Pr1 | AG99: EI Pr3
A100: 10-11 | B100: HIDRO | E100: HIDRO | H100: EI | K100: EI | N100: EI Pr1 | P100: EI Pr3 | R100: 10-11 | S100: HIDRO | V100: HIDRO | Y100: EI | AB100: ECO Pb2 | AE100: EI Pr1 | AG100: EI Pr3
A101: 11-12 | B101: ECO Pb1 | D101: EI Pb2 | E101: EI | H101: BAV | K101: BAV | N101: EI Pr2 | P101: EI Pr4 | R101: 11-12 | S101: ECO Pb1 | U101: EI Pb2 | V101: EI | Y101: BAV | AB101: ECO Pb2 | AE101: EI Pr2 | AG101: EI Pr4
A102: 12-13 | B102: EI Pb1 | D102: ECO Pb2 | N102: EI Pr2 | P102: EI Pr4 | R102: 12-13 | S102: EI Pb1 | U102: ECO Pb2 | AB102: ECO Pb1 | AE102: EI Pr2 | AG102: EI Pr4
A103: 13-14 | R103: 13-14 | AB103: ECO Pb1
A104: 14-15 | R104: 14-15
A105: 15-16 | R105: 15-16 | S105: ECO Pr4 | V105: ECO Pr2 | Y105: ECO Pr1 | AB105: ECO Pr3
A106: 16-17 | R106: 16-17 | S106: ECO Pr4 | V106: ECO Pr2 | Y106: ECO Pr1 | AB106: ECO Pr3
A107: 17-18 | R107: 17-18
A108: 18-19 | R108: 18-19
...

Sheet 3r curs 1r sem
A1: Grau de CCAA - Tercer curs - 1r semestre Curs 2026/2027
S3: Teoria | U3: Pràctiques d'aula | W3: Pràc. de laboratori | Y3: Seminaris | AA3: Pràc. de camp
A4: 44721 | S4: TE | U4: PAUL (Pb) | W4: PLAB (Pr) | Y4: SESP (Se) | AA4: PCAM (So)
S5: Hores | T5: Grups | U5: Hores | V5: Grups | W5: Hores | X5: Grups | Y5: Hores | Z5: Grups | AA5: Hores | AB5: Grups
B6: 106759 | E6: EIII | H6: Eina III: Avaluació de l'Impacte Ambiental | S6: 20 | T6: 1 | U6: 10 | V6: 2 | W6: - | X6: - | Y6: 12 | Z6: 2 | AA6: 8 | AB6: 2 | AC6: s'han modificat les hores
B7: 106763 | E7: PI III | H7: Projecte Integral III: Impactes Antropogènics | S7: 14 | T7: 1 | U7: 8 | V7: 2 | W7: - | X7: - | Y7: 4 | Z7: 4 | AA7: 24 | AB7: 4
B8: 106765 | E8: EAMB | H8: Enginyeria Ambiental | S8: 28 | T8: 1 | U8: 14 | V8: 2 | W8: - | X8: - | Y8: 6 | Z8: 2 | AA8: - | AB8: -
B9: 106770 | E9: CS | H9: Ciències del Sòl | S9: 30 | T9: 1 | U9: - | V9: - | W9: 12 | X9: 4 | Y9: - | Z9: - | AA9: 6 | AB9: 2
B10: 106771 | E10: CMA | H10: Contaminació del Medi Ambient | S10: 29 | T10: 1 | U10: 11 | V10: 2 | W10: 7 | X10: 4 | Y10: 1 | Z10: 2 | AA10: - | AB10: -
B12: 46265 | E12: =B12+1 -> 46266 | H12: =E12+1 -> 46267 | K12: =H12+1 -> 46268 | N12: =K12+1 -> 46269 | S12: =B12+7 -> 46272 | V12: =S12+1 -> 46273 | Y12: =V12+1 -> 46274 | AB12: =Y12+1 -> 46275 | AE12: =AB12+1 -> 46276
B13: DILLUNS | E13: DIMARTS | H13: DIMECRES | K13: DIJOUS | N13: DIVENDRES | S13: DILLUNS | V13: DIMARTS | Y13: DIMECRES | AB13: DIJOUS | AE13: DIVENDRES
A14: 9-10 | B14: NO LECTIU | R14: 9-10 | V14: CMA | AE14: FESTIU
A15: 10-11 | R15: 10-11 | V15: EAMB | Y15: EAMB | AB15: PI III
A16: 11-12 | R16: 11-12 | V16: PI III | Y16: EAMB | AB16: CMA
A17: 12-13 | R17: 12-13 | V17: CS | Y17: CS | AB17: CMA
A18: 13-14 | R18: 13-14
A19: 14-15 | R19: 14-15
A20: 15-16 | R20: 15-16 | S20: EIII | AB20: EIII Pb1
A21: 16-17 | R21: 16-17 | S21: EIII | AB21: EIII Pb1
A22: 17-18 | R22: 17-18 | S22: EIII | AB22: EIII Pb2
A23: 18-19 | R23: 18-19 | AB23: EIII Pb2
A24: 19-20 | R24: 19-20
B26: =AE12+3 -> 46279 | E26: =B26+1 -> 46280 | H26: =E26+1 -> 46281 | K26: =H26+1 -> 46282 | N26: =K26+1 -> 46283 | S26: =N26+3 -> 46286 | V26: =S26+1 -> 46287 | Y26: =V26+1 -> 46288 | AB26: =Y26+1 -> 46289 | AE26: =AB26+1 -> 46290
B27: DILLUNS | E27: DIMARTS | H27: DIMECRES | K27: DIJOUS | N27: DIVENDRES | S27: DILLUNS | V27: DIMARTS | Y27: DIMECRES | AB27: DIJOUS | AE27: DIVENDRES
A28: 9-10 | N28: EAMB Se1 | O28: EAMB Se2 | R28: 9-10 | AB28: FESTIU
A29: 10-11 | B29: CMA | E29: EAMB | H29: EAMB | N29: EAMB Se1 | O29: EAMB Se2 | R29: 10-11 | S29: CMA | V29: EAMB | Y29: EAMB
A30: 11-12 | B30: CMA Pb1 | C30: EAMB Pb2 | E30: PI III | H30: EAMB | K30: CMA | N30: CS | R30: 11-12 | S30: CMA Pb1 | T30: EAMB Pb2 | V30: PI III | Y30: EAMB
A31: 12-13 | B31: CMA Pb2 | C31: EAMB Pb1 | E31: CS | H31: CS | K31: CMA | N31: CS | R31: 12-13 | S31: CMA Pb2 | T31: EAMB Pb1 | V31: CS | Y31: CS
A32: 13-14 | R32: 13-14
A33: 14-15 | R33: 14-15
A34: 15-16 | K34: EIII | N34: EIII Pb1 | R34: 15-16
A35: 16-17 | K35: EIII | N35: EIII Pb1 | R35: 16-17
A36: 17-18 | K36: EIII | N36: EIII Pb2 | R36: 17-18
A37: 18-19 | N37: EIII Pb2 | R37: 18-19
A38: 19-20 | R38: 19-20
B40: =AE26+3 -> 46293 | E40: =B40+1 -> 46294 | H40: =E40+1 -> 46295 | K40: =H40+1 -> 46296 | N40: =K40+1 -> 46297 | S40: =B40+7 -> 46300 | V40: =S40+1 -> 46301 | Y40: =V40+1 -> 46302 | AB40: =Y40+1 -> 46303 | AE40: =AB40+1 -> 46304
B41: DILLUNS | E41: DIMARTS | H41: DIMECRES | K41: DIJOUS | N41: DIVENDRES | S41: DILLUNS | V41: DIMARTS | Y41: DIMECRES | AB41: DIJOUS | AE41: DIVENDRES (*)
A42: 9-10 | N42: CS So1 | R42: 9-10 | V42: PI III Pb1 | Y42: PI III Pb2 | AE42: CS So2
A43: 10-11 | B43: CMA | E43: EAMB | H43: EAMB | N43: CS So1 | R43: 10-11 | S43: CMA | V43: EAMB | Y43: EAMB | AE43: CS So2
A44: 11-12 | C44: EAMB Pb2 | E44: PI III | H44: CS | K44: CMA | N44: CS So1 | R44: 11-12 | S44: CMA Pb1 | T44: EAMB Pb2 | V44: PI III | Y44: CS | AB44: CMA | AE44: CS So2
A45: 12-13 | C45: EAMB Pb1 | E45: LA COMUNITÀRIA UAB (12-16h) | H45: CS | K45: CMA | N45: CS So1 | R45: 12-13 | S45: CMA Pb2 | T45: EAMB Pb1 | V45: CS | Y45: CS | AB45: CMA | AE45: CS So2
A46: 13-14 | N46: CS So1 | R46: 13-14 | AE46: CS So2
A47: 14-15 | N47: CS So1 | R47: 14-15 | AE47: CS So2
A48: 15-16 | K48: EIII | R48: 15-16 | AB48: EIII Pb1
A49: 16-17 | K49: EIII | R49: 16-17 | AB49: EIII Pb1
A50: 17-18 | K50: EIII | R50: 17-18 | AB50: EIII Pb2
A51: 18-19 | R51: 18-19 | AB51: EIII Pb2
A52: 19-20 | R52: 19-20
B54: =AE40+3 -> 46307 | E54: =B54+1 -> 46308 | H54: =E54+1 -> 46309 | K54: =H54+1 -> 46310 | N54: =K54+1 -> 46311 | S54: =B54+7 -> 46314 | V54: =S54+1 -> 46315 | Y54: =V54+1 -> 46316 | AB54: =Y54+1 -> 46317 | AE54: =AB54+1 -> 46318
B55: DILLUNS | E55: DIMARTS | H55: DIMECRES | K55: DIJOUS | N55: DIVENDRES | S55: DILLUNS | V55: DIMARTS | Y55: DIMECRES | AB55: DIJOUS | AE55: DIVENDRES
A56: 9-10 | E56: CMA Pb1 | F56: EAMB Pb2 | H56: PI III So1, 2, 3, 4 | K56: PI III So1, 2, 3, 4 | N56: PI III So1, 2, 3, 4 | R56: 9-10 | V56: PI III Pb1 | Y56: PI III Pb2 | AB56: PI III Se3 | AE56: PI III Se4 | AF56: EAMB Se2
A57: 10-11 | E57: CMA Pb2 | F57: EAMB Pb1 | H57: PI III So1, 2, 3, 4 | K57: PI III So1, 2, 3, 4 | N57: PI III So1, 2, 3, 4 | R57: 10-11 | S57: CMA | V57: EAMB | Y57: EAMB | AB57: PI III Se3 | AE57: PI III Se4 | AF57: EAMB Se2
A58: 11-12 | E58: PI III | H58: PI III So1, 2, 3, 4 | K58: PI III So1, 2, 3, 4 | N58: PI III So1, 2, 3, 4 | R58: 11-12 | S58: CMA Pb1 | T58: EAMB Pb2 | V58: PI III | Y58: CS | AB58: PI III Se1 | AE58: PI III Se2 | AF58: EAMB Se1
A59: 12-13 | E59: CS | H59: PI III So1, 2, 3, 4 | K59: PI III So1, 2, 3, 4 | N59: PI III So1, 2, 3, 4 | R59: 12-13 | S59: CMA Pb2 | T59: EAMB Pb1 | V59: CS | Y59: CS | AB59: PI III Se1 | AE59: PI III Se2 | AF59: EAMB Se1
A60: 13-14 | H60: PI III So1, 2, 3, 4 | K60: PI III So1, 2, 3, 4 | N60: PI III So1, 2, 3, 4 | R60: 13-14
A61: 14-15 | B61: FESTIU | H61: PI III So1, 2, 3, 4 | K61: PI III So1, 2, 3, 4 | N61: PI III So1, 2, 3, 4 | R61: 14-15
A62: 15-16 | H62: PI III So1, 2, 3, 4 | K62: PI III So1, 2, 3, 4 | N62: PI III So1, 2, 3, 4 | R62: 15-16 | AB62: EIII | AE62: EIII Se1
A63: 16-17 | K63: PI III So1, 2, 3, 4 | N63: PI III So1, 2, 3, 4 | R63: 16-17 | AB63: EIII | AE63: EIII Se1
A64: 17-18 | N64: PI III So1, 2, 3, 4 | R64: 17-18 | AE64: EIII Se2
A65: 18-19 | R65: 18-19 | AE65: EIII Se2
A66: 19-20 | R66: 19-20
B67: PRIMERS PARCIALS
B68: =AE54+3 -> 46321 | E68: =B68+1 -> 46322 | H68: =E68+1 -> 46323 | K68: =H68+1 -> 46324 | N68: =K68+1 -> 46325 | S68: =B68+7 -> 46328 | V68: =S68+1 -> 46329 | Y68: =V68+1 -> 46330 | AB68: =Y68+1 -> 46331 | AE68: =AB68+1 -> 46332
B69: DILLUNS | E69: DIMARTS | H69: DIMECRES | K69: DIJOUS | N69: DIVENDRES | S69: DILLUNS | V69: DIMARTS | Y69: DIMECRES | AB69: DIJOUS | AE69: DIVENDRES
A70: 9-10 | R70: 9-10 | V70: PI III Pb1 | Y70: PI III Pb2 | AB70: EIII | AE70: EIII Se2
A71: 10-11 | R71: 10-11 | S71: CMA | V71: EAMB | Y71: EAMB | AB71: EIII | AE71: EIII Se2
A72: 11-12 | R72: 11-12 | S72: CMA | V72: PI III | Y72: CS | AB72: CMA | AE72: EIII Se1
A73: 12-13 | R73: 12-13 | V73: CS | Y73: CS | AB73: CMA | AE73: EIII Se1
A74: 13-14 | B74: EAMB exam | E74: CS exam | K74: CMA exam | N74: EIII exam | R74: 13-14 | AB74: SANT ALBERT ACTIVITATS CAMPUS (13-15h)
A75: 14-15 | R75: 14-15
A76: 15-16 | R76: 15-16 | V76: CS Pr1 | Y76: CS Pr1 | AB76: CS Pr1
A77: 16-17 | R77: 16-17 | V77: CS Pr1 | Y77: CS Pr1 | AB77: CS Pr1
A78: 17-18 | R78: 17-18 | V78: CS Pr1 | Y78: CS Pr1 | AB78: CS Pr1
A79: 18-19 | R79: 18-19 | V79: CS Pr1 | Y79: CS Pr1 | AB79: CS Pr1
A80: 19-20 | R80: 19-20
B82: =AE68+3 -> 46335 | E82: =B82+1 -> 46336 | H82: =E82+1 -> 46337 | K82: =H82+1 -> 46338 | N82: =K82+1 -> 46339 | S82: =B82+7 -> 46342 | V82: =S82+1 -> 46343 | Y82: =V82+1 -> 46344 | AB82: =Y82+1 -> 46345 | AE82: =AB82+1 -> 46346
B83: DILLUNS | E83: DIMARTS | H83: DIMECRES | K83: DIJOUS | N83: DIVENDRES | S83: DILLUNS | V83: DIMARTS | Y83: DIMECRES | AB83: DIJOUS | AE83: DIVENDRES
A84: 9-10 | K84: EIII | N84: EIII So1 | R84: 9-10 | S84: CMA Se1 | T84: CMA Se2 | V84: PI III Pb1 | Y84: PI III Pb2 | AE84: EIII So2
A85: 10-11 | B85: CMA | E85: EAMB | H85: EAMB | K85: EIII | N85: EIII So1 | R85: 10-11 | S85: CMA | V85: EAMB | Y85: EAMB | AB85: EIII | AE85: EIII So2
A86: 11-12 | B86: CMA Pb1 | C86: EAMB Pb2 | E86: PI III | H86: CS | K86: CMA | N86: EIII So1 | R86: 11-12 | S86: CMA Pb1 | T86: EAMB Pb2 | V86: PI III | Y86: CS | AB86: CMA | AE86: EIII So2
A87: 12-13 | B87: CMA Pb2 | C87: EAMB Pb1 | E87: CS | H87: CS | K87: CMA | N87: EIII So1 | R87: 12-13 | S87: CMA Pb2 | T87: EAMB Pb1 | V87: CS | Y87: CS | AB87: CMA | AE87: EIII So2
A88: 13-14 | N88: EIII So1 | R88: 13-14 | AE88: EIII So2
A89: 14-15 | N89: EIII So1 | R89: 14-15 | AE89: EIII So2
A90: 15-16 | E90: CS Pr3 | H90: CS Pr3 | K90: CS Pr3 | N90: EIII So1 | R90: 15-16 | V90: CS Pr2 | Y90: CS Pr2 | AB90: CS Pr2 | AE90: EIII So2
A91: 16-17 | E91: CS Pr3 | H91: CS Pr3 | K91: CS Pr3 | N91: EIII So1 | R91: 16-17 | V91: CS Pr2 | Y91: CS Pr2 | AB91: CS Pr2 | AE91: EIII So2
A92: 17-18 | E92: CS Pr3 | H92: CS Pr3 | K92: CS Pr3 | R92: 17-18 | V92: CS Pr2 | Y92: CS Pr2 | AB92: CS Pr2
A93: 18-19 | E93: CS Pr3 | H93: CS Pr3 | K93: CS Pr3 | R93: 18-19 | V93: CS Pr2 | Y93: CS Pr2 | AB93: CS Pr2
A94: 19-20 | R94: 19-20
B96: =AE82+3 -> 46349 | E96: =B96+1 -> 46350 | H96: =E96+1 -> 46351 | K96: =H96+1 -> 46352 | N96: =K96+1 -> 46353 | S96: =B96+7 -> 46356 | V96: =S96+1 -> 46357 | Y96: =V96+1 -> 46358 | AB96: =Y96+1 -> 46359 | AE96: =AB96+1 -> 46360
B97: DILLUNS | E97: DIMARTS | H97: DIMECRES | K97: DIJOUS | N97: DIVENDRES | S97: DILLUNS | V97: DIMARTS | Y97: DIMECRES | AB97: DIJOUS | AE97: DIVENDRES
A98: 9-10 | E98: PI III Pb1 | H98: PI III Pb2 | K98: PI III Se3 | N98: PI III Se1 | O98: EIII Se2 | R98: 9-10 | S98: EIII Pb2 | V98: PI III Pb1 | Y98: PI III Pb2 | AB98: EIII | AE98: EIII Pb2
A99: 10-11 | B99: CMA | E99: EAMB | H99: EAMB | K99: PI III Se3 | N99: PI III Se1 | O99: EIII Se2 | R99: 10-11 | S99: EIII Pb1 | V99: EAMB | Y99: EAMB | AB99: EIII | AE99: EIII Pb2
A100: 11-12 | B100: CMA Pb1 | C100: EAMB Pb2 | E100: PI III | I100: EAMB Pb2 | K100: PI III Se4 | N100: PI III Se2 | O100: EIII Se1 | R100: 11-12 | S100: EAMB Se1 | T100: EAMB Se2 | V100: PI III | Y100: CMA Pb1 | Z100: EAMB Pb2 | AB100: CMA | AE100: EIII Pb1
A101: 12-13 | B101: CMA Pb2 | C101: EAMB Pb1 | E101: CS | I101: EAMB Pb1 | K101: PI III Se4 | N101: PI III Se2 | O101: EIII Se1 | R101: 12-13 | S101: EAMB Se1 | T101: EAMB Se2 | V101: CS | Y101: CMA Pb2 | Z101: EAMB Pb1 | AB101: CMA | AE101: EIII Pb1
A102: 13-14 | R102: 13-14
A103: 14-15 | R103: 14-15
A104: 15-16 | E104: CS Pr4 | H104: CS Pr4 | K104: CS Pr4 | R104: 15-16 | S104: CMA Pr2 | V104: CMA Pr4 | Y104: CMA Pr3 | AB104: CMA Pr1
A105: 16-17 | E105: CS Pr4 | H105: CS Pr4 | K105: CS Pr4 | R105: 16-17 | S105: CMA Pr2 | V105: CMA Pr4 | Y105: CMA Pr3 | AB105: CMA Pr1
A106: 17-18 | E106: CS Pr4 | H106: CS Pr4 | K106: CS Pr4 | R106: 17-18 | S106: CMA Pr2 | V106: CMA Pr4 | Y106: CMA Pr3 | AB106: CMA Pr1
A107: 18-19 | E107: CS Pr4 | H107: CS Pr4 | K107: CS Pr4 | R107: 18-19
...

Sheet 4t curs 1r sem
A1: Grau de CCAA - Quart curs - 1r semestre Curs 2026/2027
S3: Teoria | U3: Pràctiques d'aula | W3: Pràc. de laboratori | Y3: Seminaris | AA3: Pràc. de camp
A4: 44721 | S4: TE | U4: PAUL (Pb) | W4: PLAB (Pr) | Y4: SESP (Se) | AA4: PCAM (So) | AC4: VEXT (So)
S5: Hores | T5: Grups | U5: Hores | V5: Grups | W5: Hores | X5: Grups | Y5: Hores | Z5: Grups | AA5: Hores | AB5: Grups | AC5: Hores | AD5: Grups
B6: 106760 | E6: EIV | H6: Eina IV: Divulgació, Comunicació i Educació Ambiental | S6: 22 | T6: 1 | U6: 20 | V6: 2 | W6: - | X6: - | Y6: 8 | Z6: 2 | AA6: - | AB6: - | AC6: - | AD6: -
B7: 106775 | E7: TAMB | H7: Traçadors Ambientals | S7: 35 | T7: 1 | U7: 7 | V7: 1 | W7: 6 | X7: 1 | Y7: - | Z7: - | AA7: - | AB7: - | AC7: - | AD7: -
B8: 106780 | E8: MIA | H8: Microbiologia Ambiental (1) | S8: 30 | T8: 1 | U8: - | V8: - | W8: 16 | X8: 2 | Y8: - | Z8: - | AA8: - | AB8: - | AC8: 4 | AD8: 2
B9: 106782 | E9: GAMB | H9: Governança Ambiental | S9: 38 | T9: 1 | U9: 10 | V9: 1 | W9: - | X9: - | Y9: - | Z9: - | AA9: - | AB9: - | AC9: - | AD9: -
B10: 106787 | E10: SAMB | H10: Salut Ambiental | S10: 28 | T10: 1 | U10: 14 | V10: 1 | W10: - | X10: - | Y10: - | Z10: - | AA10: 8 | AB10: 1 | AC10: - | AD10: -
B11: 106790 | E11: AGA | H11: Anàlisi i Gestió Ambiental en Empreses i Institucions | S11: 28 | T11: 1 | U11: 15 | V11: 1 | W11: - | X11: - | Y11: - | Z11: - | AA11: - | AB11: - | AC11: 5 | AD11: 1
B12: 106791 | E12: AMCC | H12: Adaptació i Mitigació del Canvi Climàtic i Global | S12: 45 | T12: 1 | U12: - | V12: - | W12: - | X12: - | Y12: - | Z12: - | AA12: - | AB12: - | AC12: 3 | AD12: 1
B13: 106794 | E13: GAC | H13: Gestió i Avaluació de la Ciència (2) | S13: 33.33 | T13: 1 | U13: 16.67 | V13: 1 | W13: - | X13: - | Y13: - | Z13: - | AA13: - | AB13: - | AC13: - | AD13: -
B14: (1) Els horaris de MIA els determina el Grau de Biologia Ambiental (100824 Microbiologia Ambiental) i, per tant, és recomanable consultar els horaris d'aquell Grau. Les classes s'imparteixen a la Facultat de Ciències i Biociències.
B15: (2) Els horaris de GAC els determina el Grau de Ciència, Tecnologia i Humanitats (106237 Gestió i Avaluació de la Ciència) i, per tant, és recomanable consultar els horaris d'aquell Grau.
B17: 46265 | E17: =B17+1 -> 46266 | H17: =E17+1 -> 46267 | K17: =H17+1 -> 46268 | N17: =K17+1 -> 46269 | S17: =B17+7 -> 46272 | V17: =S17+1 -> 46273 | Y17: =V17+1 -> 46274 | AB17: =Y17+1 -> 46275 | AE17: =AB17+1 -> 46276
B18: DILLUNS | E18: DIMARTS | H18: DIMECRES | K18: DIJOUS | N18: DIVENDRES | S18: DILLUNS | V18: DIMARTS | Y18: DIMECRES | AB18: DIJOUS | AE18: DIVENDRES
A19: 9-10 | R19: 9-10 | S19: EIV | V19: GAMB | Y19: TAMB | AB19: AGA
A21: 10-11 | R21: 10-11 | S21: EIV | V21: GAMB | Y21: TAMB | AB21: AGA
A23: 11-12 | R23: 11-12 | S23: EIV Pb1 | T23: EIV Pb2 | V23: AGA | Y23: AMCC | AB23: TAMB
A25: 12-13 | R25: 12-13 | S25: EIV Pb1 | T25: EIV Pb2 | V25: SAMB | Y25: AMCC | AB25: GAMB Pb
A27: 13-14 | R27: 13-14 | V27: SAMB | Y27: AMCC | AB27: SAMB Pb
A29: 14-15 | R29: 14-15
A31: 15-16 | R31: 15-16
A33: 16-17 | R33: 16-17
A35: 17-18 | R35: 17-18
A37: 18-19 | R37: 18-19
A39: 19-20 | R39: 19-20
B42: =AE17+3 -> 46279 | E42: =B42+1 -> 46280 | H42: =E42+1 -> 46281 | K42: =H42+1 -> 46282 | N42: =K42+1 -> 46283 | S42: =B42+7 -> 46286 | V42: =S42+1 -> 46287 | Y42: =V42+1 -> 46288 | AB42: =Y42+1 -> 46289 | AE42: =AB42+1 -> 46290
B43: DILLUNS | E43: DIMARTS | H43: DIMECRES | K43: DIJOUS | N43: DIVENDRES | S43: DILLUNS | V43: DIMARTS | Y43: DIMECRES | AB43: DIJOUS | AE43: DIVENDRES
A44: 9-10 | B44: EIV | E44: GAMB | H44: TAMB | K44: AGA | N44: MIA | R44: 9-10 | S44: EIV | V44: GAMB | Y44: TAMB
A46: 10-11 | B46: EIV | E46: GAMB | H46: TAMB | K46: AGA Pb | N46: MIA | R46: 10-11 | S46: EIV | V46: GAMB | Y46: TAMB
A48: 11-12 | B48: EIV Pb1 | C48: EIV Pb2 | E48: AGA | H48: AMCC | K48: TAMB Pb | N48: GAMB | R48: 11-12 | S48: EIV Pb1 | V48: AGA | Y48: AMCC
A50: 12-13 | B50: EIV Pb1 | C50: EIV Pb2 | E50: SAMB | H50: AMCC | K50: GAMB Pb | N50: GAMB | R50: 12-13 | S50: EIV Pb2 | V50: SAMB | Y50: AMCC
A52: 13-14 | E52: SAMB | H52: AMCC | K52: SAMB Pb | R52: 13-14 | V52: SAMB | Y52: AMCC
A54: 14-15 | R54: 14-15
A56: 15-16 | R56: 15-16
A58: 16-17 | R58: 16-17
A60: 17-18 | R60: 17-18
A62: 18-19 | R62: 18-19
A64: 19-20 | R64: 19-20
B67: =AE42+3 -> 46293 | E67: =B67+1 -> 46294 | H67: =E67+1 -> 46295 | K67: =H67+1 -> 46296 | N67: =K67+1 -> 46297 | S67: =B67+7 -> 46300 | V67: =S67+1 -> 46301 | Y67: =V67+1 -> 46302 | AB67: =Y67+1 -> 46303 | AE67: =AB67+1 -> 46304
B68: DILLUNS | E68: DIMARTS | H68: DIMECRES | K68: DIJOUS | N68: DIVENDRES | S68: DILLUNS | V68: DIMARTS | Y68: DIMECRES | AB68: DIJOUS | AE68: DIVENDRES
A69: 9-10 | B69: EIV Pb1 | E69: GAMB | H69: TAMB | K69: AGA | N69: EIV | R69: 9-10 | S69: EIV | V69: GAMB | Y69: TAMB | AB69: AGA | AE69: AGA
A71: 10-11 | B71: EIV Pb1 | E71: GAMB | H71: TAMB | K71: AGA Pb | N71: EIV | R71: 10-11 | S71: EIV | V71: GAMB | Y71: TAMB | AB71: AGA Pb | AE71: AGA
A73: 11-12 | B73: EIV Pb2 | E73: AGA | H73: AMCC | K73: TAMB Pb | N73: EIV | R73: 11-12 | S73: EIV Pb1 | V73: AGA | Y73: AMCC | AB73: TAMB Pb | AE73: GAMB
A75: 12-13 | B75: EIV Pb2 | E75: LA COMUNITÀRIA UAB (12-16h) | H75: AMCC | K75: GAMB Pb | N75: EIV | R75: 12-13 | S75: EIV Pb2 | V75: SAMB | Y75: AMCC | AB75: GAMB Pb | AE75: GAMB
A77: 13-14 | H77: AMCC | K77: SAMB Pb | R77: 13-14 | V77: SAMB | Y77: AMCC | AB77: SAMB Pb
A79: 14-15 | R79: 14-15
A81: 15-16 | R81: 15-16
A83: 16-17 | R83: 16-17
A85: 17-18 | R85: 17-18
A87: 18-19 | R87: 18-19
A89: 19-20 | R89: 19-20
B92: =AE67+3 -> 46307 | E92: =B92+1 -> 46308 | H92: =E92+1 -> 46309 | K92: =H92+1 -> 46310 | N92: =K92+1 -> 46311 | S92: =B92+7 -> 46314 | V92: =S92+1 -> 46315 | Y92: =V92+1 -> 46316 | AB92: =Y92+1 -> 46317 | AE92: =AB92+1 -> 46318
B93: DILLUNS | E93: DIMARTS | H93: DIMECRES | K93: DIJOUS | N93: DIVENDRES | S93: DILLUNS | V93: DIMARTS | Y93: DIMECRES | AB93: DIJOUS | AE93: DIVENDRES
A94: 9-10 | E94: GAMB | H94: TAMB | K94: AGA | N94: SAMB So | R94: 9-10 | S94: EIV | V94: GAMB | Y94: TAMB | AB94: AGA | AE94: AMCC
A96: 10-11 | E96: GAMB | H96: TAMB | K96: AGA Pb | N96: SAMB So | R96: 10-11 | S96: EIV | V96: GAMB | Y96: TAMB | AB96: AGA Pb | AE96: AMCC
A98: 11-12 | E98: AGA | H98: AMCC | K98: TAMB | N98: SAMB So | R98: 11-12 | S98: EIV Se1 | T98: EIV Se2 | V98: AGA | Y98: AMCC | AB98: TAMB Pb | AE98: AMCC
A100: 12-13 | E100: SAMB | H100: AMCC | K100: GAMB Pb | N100: SAMB So | R100: 12-13 | S100: EIV Se1 | T100: EIV Se2 | V100: SAMB | Y100: AMCC | AB100: GAMB Pb | AE100: SAMB
A102: 13-14 | E102: SAMB | H102: AMCC | K102: SAMB Pb | R102: 13-14 | V102: SAMB | Y102: AMCC | AB102: SAMB Pb | AE102: SAMB
A104: 14-15 | R104: 14-15
A106: 15-16 | R106: 15-16 | AB106: AGA Pb
A108: 16-17 | R108: 16-17 | AB108: AGA Pb
A110: 17-18 | R110: 17-18
A112: 18-19 | R112: 18-19
A114: 19-20 | R114: 19-20
B117: PRIMERS PARCIALS
B118: =AE92+3 -> 46321 | E118: =B118+1 -> 46322 | H118: =E118+1 -> 46323 | K118: =H118+1 -> 46324 | N118: =K118+1 -> 46325 | S118: =B118+7 -> 46328 | V118: =S118+1 -> 46329 | Y118: =V118+1 -> 46330 | AB118: =Y118+1 -> 46331 | AE118: =AB118+1 -> 46332
B119: DILLUNS | E119: DIMARTS | H119: DIMECRES | K119: DIJOUS | N119: DIVENDRES | S119: DILLUNS | V119: DIMARTS | Y119: DIMECRES | AB119: DIJOUS | AE119: DIVENDRES
A120: 9-10 | B120: TAMB Exam | E120: AGA Exam | N120: SAMB Exam | R120: 9-10 | Y120: TAMB | AB120: AGA
A122: 10-11 | R122: 10-11 | Y122: TAMB | AB122: AGA
A124: 11-12 | R124: 11-12 | Y124: AMCC | AB124: TAMB | AE124: GAMB
A126: 12-13 | R126: 12-13 | Y126: AMCC | AB126: GAMB Pb | AE126: GAMB
A128: 13-14 | R128: 13-14 | Y128: AMCC | AB128: SANT ALBERT ACTIVITATS CAMPUS (13-15h)
A130: 14-15 | R130: 14-15
A132: 15-16 | R132: 15-16 | AB132: AGA Pb
A134: 16-17 | R134: 16-17 | AB134: AGA Pb
B135: MIA Exam
A136: 17-18 | H136: AMCC Exam | K136: EIV Exam | N136: GAMB Exam | R136: 17-18
A138: 18-19 | R138: 18-19
A140: 19-20 | R140: 19-20
B143: =AE118+3 -> 46335 | E143: =B143+1 -> 46336 | H143: =E143+1 -> 46337 | K143: =H143+1 -> 46338 | N143: =K143+1 -> 46339 | S143: =B143+7 -> 46342 | V143: =S143+1 -> 46343 | Y143: =V143+1 -> 46344 | AB143: =Y143+1 -> 46345 | AE143: =AB143+1 -> 46346
B144: DILLUNS | E144: DIMARTS | H144: DIMECRES | K144: DIJOUS | N144: DIVENDRES | S144: DILLUNS | V144: DIMARTS | Y144: DIMECRES | AB144: DIJOUS | AE144: DIVENDRES
A145: 9-10 | B145: EIV | E145: GAMB | H145: TAMB | K145: AGA | N145: MIA | R145: 9-10 | S145: EIV Pb1 | T145: EIV Pb2 | V145: GAMB | Y145: TAMB | AB145: AGA | AE145: MIA
A147: 10-11 | B147: EIV | E147: GAMB | H147: TAMB | K147: AGA Pb | N147: GAMB | R147: 10-11 | S147: EIV Pb1 | T147: EIV Pb2 | V147: GAMB | Y147: TAMB | AB147: AGA Pb | AE147: AMCC So
A149: 11-12 | B149: EIV Se1 | C149: EIV Se2 | E149: AGA | H149: AMCC | K149: TAMB Pb | N149: GAMB | R149: 11-12 | S149: EIV Pb1 | T149: EIV Pb2 | V149: AGA | Y149: AMCC | AB149: TAMB Pb | AE149: AMCC So
A151: 12-13 | B151: EIV Se1 | C151: EIV Se2 | E151: SAMB | H151: AMCC | K151: GAMB Pb | N151: TAMB | R151: 12-13 | S151: EIV Pb1 | T151: EIV Pb2 | V151: SAMB | Y151: AMCC | AB151: GAMB Pb | AE151: AMCC So
A153: 13-14 | E153: SAMB | H153: AMCC | K153: SAMB Pb | N153: TAMB | R153: 13-14 | V153: SAMB | Y153: AMCC | AB153: SAMB Pb
A155: 14-15 | R155: 14-15
A157: 15-16 | K157: AGA Pb | R157: 15-16 | Y157: TAMB Pr | AB157: TAMB Pr
A159: 16-17 | K159: AGA Pb | R159: 16-17 | Y159: TAMB Pr | AB159: TAMB Pr
A161: 17-18 | R161: 17-18 | Y161: TAMB Pr | AB161: TAMB Pr
A163: 18-19 | R163: 18-19
A165: 19-20 | R165: 19-20
B168: =AE143+3 -> 46349 | E168: =B168+1 -> 46350 | H168: =E168+1 -> 46351 | K168: =H168+1 -> 46352 | N168: =K168+1 -> 46353 | S168: =B168+7 -> 46356 | V168: =S168+1 -> 46357 | Y168: =V168+1 -> 46358 | AB168: =Y168+1 -> 46359 | AE168: =AB168+1 -> 46360
B169: DILLUNS | E169: DIMARTS | H169: DIMECRES | K169: DIJOUS | N169: DIVENDRES | S169: DILLUNS | V169: DIMARTS | Y169: DIMECRES | AB169: DIJOUS | AE169: DIVENDRES
A170: 9-10 | B170: EIV | E170: GAMB | H170: TAMB | K170: AGA | N170: MIA | R170: 9-10 | S170: EIV | V170: GAMB | Y170: TAMB | AB170: AGA | AE170: SAMB So
A172: 10-11 | B172: EIV | E172: GAMB | H172: TAMB | K172: AGA Pb | N172: GAMB | R172: 10-11 | S172: EIV | V172: GAMB | Y172: TAMB | AB172: AGA Pb | AE172: SAMB So
A174: 11-12 | B174: EIV Se1 | E174: AGA | H174: AMCC | K174: TAMB Pb | N174: GAMB | R174: 11-12 | S174: EIV Se1 | V174: AGA | Y174: AMCC | AB174: TAMB | AE174: SAMB So
A176: 12-13 | B176: EIV Se2 | E176: SAMB | H176: AMCC | K176: GAMB Pb | N176: SAMB | R176: 12-13 | S176: EIV Se2 | V176: SAMB | Y176: AMCC | AB176: GAMB | AE176: SAMB So
...

Sheet 1r curs 2n sem
A1: Grau de CCAA - Primer curs - 2n semestre Curs 2026/2027
S4: Teoria | U4: Pràctiques d'aula | W4: Pràc. de laboratori | Y4: Seminaris | AA4: Pràc. de camp
S5: TE | U5: PAUL (Pb) | W5: PLAB (Pr) | Y5: SESP (Se) | AA5: PCAM (So)
S6: Hores | T6: Grups | U6: Hores | V6: Grups | W6: Hores | X6: Grups | Y6: Hores | Z6: Grups | AA6: Hores | AB6: Grups
B7: 106755 | E7: DAMB | H7: Dret Ambiental | S7: 50 | T7: 1 | U7: - | V7: - | W7: - | X7: - | Y7: - | Z7: - | AA7: - | AB7: -
B8: 106756 | E8: FBIO | H8: Fonaments de Biologia | S8: 38 | T8: 1 | U8: - | V8: - | W8: 15 | X8: 4 | Y8: - | Z8: - | AA8: - | AB8: -
B9: 106753 | E9: FFIS | H9: Fonaments de Física | S9: 37 | T9: 1 | U9: 12 | V9: 2 | W9: - | X9: - | Y9: 1 | Z9: 4 | AA9: - | AB9: -
B10: 106754 | E10: IEA | H10: Introducció a l'Economia Ambiental | S10: 32 | T10: 1 | U10: 17.5 | V10: 2 | W10: - | X10: - | Y10: - | Z10: - | AA10: - | AB10: -
B11: 106752 | E11: SAMB | H11: Sociologia Ambiental | S11: 30 | T11: 1 | U11: 12 | V11: 2 | W11: - | X11: - | Y11: - | Z11: - | AA11: - | AB11: - | AC11: canvi de semestre - s'ha de planificar
B13: 46419 | E13: =B13+1 -> 46420 | H13: =E13+1 -> 46421 | K13: =H13+1 -> 46422 | N13: =K13+1 -> 46423 | S13: =B13+7 -> 46426 | V13: =S13+1 -> 46427 | Y13: =V13+1 -> 46428 | AB13: =Y13+1 -> 46429 | AE13: =AB13+1 -> 46430
B14: DILLUNS | E14: DIMARTS | H14: DIMECRES | K14: DIJOUS | N14: DIVENDRES | S14: DILLUNS | V14: DIMARTS | Y14: DIMECRES | AB14: DIJOUS | AE14: DIVENDRES
A15: 9-10 | R15: 9-10
A16: 10-11 | R16: 10-11
A17: 11-12 | R17: 11-12
A18: 12-13 | R18: 12-13
A19: 13-14 | R19: 13-14
A20: 14-15 | R20: 14-15
A21: 15-16 | B21: SAMB | E21: DAMB | H21: DAMB | N21: IEA 1 | R21: 15-16 | S21: SAMB | V21: DAMB | Y21: DAMB | AE21: IEA 1
A22: 16-17 | B22: FFIS | E22: DAMB | H22: DAMB | K22: FFIS | N22: FBIO | R22: 16-17 | S22: FFIS | V22: DAMB | Y22: DAMB | AB22: FFIS | AE22: FBIO
A23: 17-18 | E23: FBIO | H23: FBIO | K23: IEA 1 | N23: FFIS | R23: 17-18 | S23: SAMB Pb1 | T23: FFIS Pb2 | V23: FBIO | Y23: FBIO | AB23: IEA 1 | AE23: FFIS
A24: 18-19 | E24: SAMB | H24: SAMB | K24: IEA 1 | R24: 18-19 | S24: FFIS Pb1 | T24: SAMB Pb2 | Y24: SAMB | AB24: IEA 1
A25: 19-20 | R25: 19-20
B27: =AE13+3 -> 46433 | E27: =B27+1 -> 46434 | H27: =E27+1 -> 46435 | K27: =H27+1 -> 46436 | N27: =K27+1 -> 46437 | S27: =B27+7 -> 46440 | V27: =S27+1 -> 46441 | Y27: =V27+1 -> 46442 | AB27: =Y27+1 -> 46443 | AE27: =AB27+1 -> 46444
B28: DILLUNS | E28: DIMARTS | H28: DIMECRES | K28: DIJOUS | N28: DIVENDRES | S28: DILLUNS | V28: DIMARTS | Y28: DIMECRES | AB28: DIJOUS | AE28: DIVENDRES
A29: 9-10 | R29: 9-10 | Y29: FFIS Se1 | AB29: IEA Pb2 | AE29: FFIS Se3
A30: 10-11 | R30: 10-11 | Y30: FFIS Se2 | AB30: IEA Pb2 | AE30: FFIS Se4
A31: 11-12 | R31: 11-12 | AB31: IEA Pb1
A32: 12-13 | R32: 12-13 | AB32: IEA Pb1
A33: 13-14 | R33: 13-14
A34: 14-15 | R34: 14-15
A35: 15-16 | B35: SAMB | E35: DAMB | H35: DAMB | N35: IEA 1 | R35: 15-16 | S35: SAMB | V35: DAMB | Y35: DAMB | AE35: IEA 1
A36: 16-17 | B36: FFIS | E36: DAMB | H36: DAMB | K36: FFIS | N36: FBIO | R36: 16-17 | S36: FFIS | V36: DAMB | Y36: DAMB | AB36: FFIS | AE36: FBIO
A37: 17-18 | B37: SAMB Pb1 | C37: FFIS Pb2 | E37: FBIO | H37: FBIO | K37: IEA 1 | N37: FFIS | R37: 17-18 | S37: SAMB Pb1 | T37: FFIS Pb2 | V37: FBIO | Y37: FBIO | AB37: IEA 1 | AE37: FFIS
A38: 18-19 | B38: FFIS Pb1 | C38: SAMB Pb2 | E38: SAMB | H38: SAMB | K38: IEA 1 | R38: 18-19 | S38: FFIS Pb1 | T38: SAMB Pb2 | Y38: SAMB | AB38: IEA 1
A39: 19-20 | R39: 19-20
B41: =AE27+3 -> 46447 | E41: =B41+1 -> 46448 | H41: =E41+1 -> 46449 | K41: =H41+1 -> 46450 | N41: =K41+1 -> 46451 | S41: =B41+7 -> 46454 | V41: =S41+1 -> 46455 | Y41: =V41+1 -> 46456 | AB41: =Y41+1 -> 46457 | AE41: =AB41+1 -> 46458
B42: DILLUNS | E42: DIMARTS | H42: DIMECRES | K42: DIJOUS | N42: DIVENDRES | S42: DILLUNS | V42: DIMARTS | Y42: DIMECRES | AB42: DIJOUS | AE42: DIVENDRES
A43: 9-10 | R43: 9-10 | S43: DIA DE LA DONA - FESTA DE LA FACULTAT | AB43: IEA Pb2
A44: 10-11 | R44: 10-11 | AB44: IEA Pb2
A45: 11-12 | R45: 11-12 | AB45: IEA Pb1
A46: 12-13 | R46: 12-13 | AB46: IEA Pb1
A47: 13-14 | R47: 13-14
A48: 14-15 | R48: 14-15
A49: 15-16 | B49: SAMB | E49: DAMB | H49: DAMB | N49: IEA 1 | R49: 15-16 | S49: SAMB | V49: DAMB | Y49: DAMB | AE49: IEA 1
A50: 16-17 | B50: FFIS | E50: DAMB | H50: DAMB | K50: FFIS | N50: FBIO | R50: 16-17 | S50: FFIS | V50: DAMB | Y50: DAMB | AB50: FFIS | AE50: FBIO
A51: 17-18 | B51: SAMB Pb1 | C51: FFIS Pb2 | E51: FBIO | H51: FBIO | K51: IEA 1 | N51: FFIS | R51: 17-18 | S51: SAMB Pb1 | T51: FFIS Pb2 | V51: FBIO | Y51: FBIO | AB51: IEA 1 | AE51: FFIS
A52: 18-19 | B52: FFIS Pb1 | C52: SAMB Pb2 | E52: SAMB | H52: SAMB | K52: IEA 1 | R52: 18-19 | S52: FFIS Pb1 | T52: SAMB Pb2 | Y52: SAMB | AB52: IEA 1
A53: 19-20 | R53: 19-20
B55: =AE41+3 -> 46461 | E55: =B55+1 -> 46462 | H55: =E55+1 -> 46463 | K55: =H55+1 -> 46464 | N55: =K55+1 -> 46465 | S55: =B55+7 -> 46468 | V55: =S55+1 -> 46469 | Y55: =V55+1 -> 46470 | AB55: =Y55+1 -> 46471 | AE55: =AB55+1 -> 46472
B56: DILLUNS | E56: DIMARTS | H56: DIMECRES | K56: DIJOUS | N56: DIVENDRES | S56: DILLUNS | V56: DIMARTS | Y56: DIMECRES | AB56: DIJOUS | AE56: DIVENDRES
A57: 9-10 | K57: IEA Pb2 | R57: 9-10
A58: 10-11 | K58: IEA Pb2 | R58: 10-11
A59: 11-12 | K59: IEA Pb1 | R59: 11-12
A60: 12-13 | K60: IEA Pb1 | R60: 12-13 | S60: SETMANA SANTA
A61: 13-14 | H61: PREMIS NOBEL - ACTIVITATS CAMPUS (13-15h) | R61: 13-14
A62: 14-15 | R62: 14-15
A63: 15-16 | B63: SAMB | E63: DAMB | H63: DAMB | N63: IEA 1 | R63: 15-16
A64: 16-17 | B64: FFIS | E64: DAMB | H64: DAMB | K64: FFIS | N64: FBIO | R64: 16-17
A65: 17-18 | B65: SAMB Pb1 | C65: FFIS Pb2 | E65: FBIO | H65: FBIO | K65: IEA 1 | N65: FFIS | R65: 17-18
A66: 18-19 | B66: FFIS Pb1 | C66: SAMB Pb2 | H66: SAMB | K66: IEA 1 | R66: 18-19
A67: 19-20 | R67: 19-20
E68: PRIMERS PARCIALS
B69: =AE55+3 -> 46475 | E69: =B69+1 -> 46476 | H69: =E69+1 -> 46477 | K69: =H69+1 -> 46478 | N69: =K69+1 -> 46479 | S69: =B69+7 -> 46482 | V69: =S69+1 -> 46483 | Y69: =V69+1 -> 46484 | AB69: =Y69+1 -> 46485 | AE69: =AB69+1 -> 46486
B70: DILLUNS | E70: DIMARTS | H70: DIMECRES | K70: DIJOUS | N70: DIVENDRES | S70: DILLUNS | V70: DIMARTS | Y70: DIMECRES | AB70: DIJOUS | AE70: DIVENDRES
A71: 9-10 | B71: SETMANA SANTA | R71: 9-10
A72: 10-11 | R72: 10-11
A73: 11-12 | R73: 11-12
A74: 12-13 | R74: 12-13
A75: 13-14 | R75: 13-14
A76: 14-15 | R76: 14-15
A77: 15-16 | R77: 15-16
A78: 16-17 | R78: 16-17
A79: 17-18 | E79: Exam FFIS | H79: Exam DAMB 1 | N79: Exam IEA 1 | R79: 17-18 | S79: Exam SAMB
A80: 18-19 | R80: 18-19
A81: 19-20 | R81: 19-20
B83: =AE69+3 -> 46489 | E83: =B83+1 -> 46490 | H83: =E83+1 -> 46491 | K83: =H83+1 -> 46492 | N83: =K83+1 -> 46493 | S83: =B83+7 -> 46496 | V83: =S83+1 -> 46497 | Y83: =V83+1 -> 46498 | AB83: =Y83+1 -> 46499 | AE83: =AB83+1 -> 46500
B84: DILLUNS | E84: DIMARTS | H84: DIMECRES | K84: DIJOUS | N84: DIVENDRES | S84: DILLUNS | V84: DIMARTS | Y84: DIMECRES | AB84: DIJOUS | AE84: DIVENDRES
A85: 9-10 | E85: FBIO Pr4 | H85: FBIO Pr4 | K85: FBIO Pr4 | N85: FBIO Pr4 | R85: 9-10 | AB85: IEA Pb1
A86: 10-11 | E86: FBIO Pr4 | H86: FBIO Pr4 | K86: FBIO Pr4 | N86: FBIO Pr4 | R86: 10-11 | AB86: IEA Pb1
A87: 11-12 | E87: FBIO Pr4 | H87: FBIO Pr4 | K87: FBIO Pr4 | N87: FBIO Pr4 | R87: 11-12 | AB87: IEA Pb2
A88: 12-13 | R88: 12-13 | V88: LA COMUNITÀRIA UAB (12-16h) | AB88: IEA Pb2
A89: 13-14 | R89: 13-14
A90: 14-15 | R90: 14-15
A91: 15-16 | B91: SAMB | E91: DAMB | H91: DAMB | N91: IEA 1 | R91: 15-16 | S91: SAMB | Y91: DAMB | AE91: IEA 1
A92: 16-17 | B92: FFIS | E92: DAMB | H92: DAMB | K92: FFIS | N92: FBIO | R92: 16-17 | S92: FFIS | Y92: DAMB | AB92: FFIS | AE92: FBIO
A93: 17-18 | B93: SAMB Pb1 | C93: FFIS Pb2 | E93: FBIO | H93: FBIO | K93: IEA 1 | N93: FFIS | R93: 17-18 | S93: SAMB Pb1 | T93: FFIS Pb2 | Y93: FBIO | AB93: IEA 1 | AE93: FFIS
A94: 18-19 | B94: FFIS Pb1 | C94: SAMB Pb2 | H94: SAMB | K94: IEA 1 | R94: 18-19 | S94: FFIS Pb1 | T94: SAMB Pb2 | Y94: SAMB | AB94: IEA 1
A95: 19-20 | R95: 19-20
B97: =AE83+3 -> 46503 | E97: =B97+1 -> 46504 | H97: =E97+1 -> 46505 | K97: =H97+1 -> 46506 | N97: =K97+1 -> 46507 | S97: =B97+7 -> 46510 | V97: =S97+1 -> 46511 | Y97: =V97+1 -> 46512 | AB97: =Y97+1 -> 46513 | AE97: =AB97+1 -> 46514
B98: DILLUNS | E98: DIMARTS | H98: DIMECRES | K98: DIJOUS | N98: DIVENDRES | S98: DILLUNS | V98: DIMARTS | Y98: DIMECRES | AB98: DIJOUS | AE98: DIVENDRES
A99: 9-10 | B99: FBIO Pr2 | E99: FBIO Pr2 | H99: FBIO Pr2 | K99: FBIO Pr2 | R99: 9-10 | AB99: IEA Pb2
A100: 10-11 | B100: FBIO Pr2 | E100: FBIO Pr2 | H100: FBIO Pr2 | K100: FBIO Pr2 | R100: 10-11 | AB100: IEA Pb2
A101: 11-12 | B101: FBIO Pr2 | E101: FBIO Pr2 | H101: FBIO Pr2 | K101: FBIO Pr2 | R101: 11-12 | AB101: IEA Pb1
A102: 12-13 | K102: IEA Pb2 | R102: 12-13 | AB102: IEA Pb1
A103: 13-14 | K103: IEA Pb2 | R103: 13-14
A104: 14-15 | R104: 14-15
A105: 15-16 | B105: SAMB | E105: DAMB | H105: DAMB | N105: IEA 1 | R105: 15-16 | S105: SAMB | V105: DAMB | Y105: DAMB
A106: 16-17 | B106: FFIS | E106: DAMB | H106: DAMB | K106: FFIS | N106: FBIO | R106: 16-17 | S106: FFIS | V106: DAMB | Y106: DAMB | AB106: FFIS
A107: 17-18 | B107: SAMB Pb1 | C107: FFIS Pb2 | E107: FBIO | H107: FBIO | K107: IEA 1 | N107: FFIS | R107: 17-18 | S107: SAMB Pb1 | T107: FFIS Pb2 | V107: FBIO | Y107: FBIO | AB107: IEA Pb1
A108: 18-19 | B108: FFIS Pb1 | C108: SAMB Pb2 | H108: SAMB | K108: IEA 1 | R108: 18-19 | S108: FFIS Pb1 | T108: SAMB Pb2 | Y108: SAMB | AB108: IEA Pb1
...

Sheet 2n curs 2n sem
A1: Grau de CCAA - Segon curs - 2n semestre Curs 2026/2027
S3: Teoria | U3: Pràctiques d'aula | W3: Pràc. de laboratori | Y3: Seminaris | AA3: Pràc. de camp
S4: TE | U4: PAUL (Pb) | W4: PLAB (Pr) | Y4: SESP (Se) | AA4: PCAM (So) | AC4: VEXT
S5: Hores | T5: Grups | U5: Hores | V5: Grups | W5: Hores | X5: Grups | Y5: Hores | Z5: Grups | AA5: Hores | AB5: Grups | AC5: Hores | AD5: Grups
B6: 106769 | E6: CM | H6: Ciències del Mar | S6: 34 | T6: 1 | U6: 4 | V6: 2 | W6: 4 | X6: 4 | Y6: - | Z6: - | AA6: 6 | AB6: 4 | AC6: - | AD6: - | AE6: S'han modificat les hores de PLAB i PCAM
B7: 106758 | E7: EII | H7: Eina II: GIS - Anàlisi de Geoinformació | S7: - | T7: - | U7: - | V7: - | W7: 50 | X7: 2 | Y7: - | Z7: - | AA7: - | AB7: - | AC7: - | AD7: -
B8: 106781 | E8: PSRU | H8: Plantejament Sostenible Rural i Urbà | S8: 36 | T8: 1 | U8: - | V8: - | W8: - | X8: - | Y8: 12 | Z8: 2 | AA8: - | AB8: - | AC8: - | AD8: -
B9: 106762 | E9: PII | H9: Projecte Integral II: Gestió del Territori | S9: 12 | T9: 1 | U9: 9 | V9: 2 | W9: 2 | X9: 4 | Y9: 3 | Z9: 1 | AA9: 24 | AB9: 4 | AC9: - | AD9: -
B10: 106785 | E10: REN | H10: Recursos Energètics Naturals | S10: 38 | T10: 1 | U10: - | V10: - | W10: - | X10: - | Y10: 8 | Z10: 4 | AA10: - | AB10: - | AC10: 2 | AD10: 4
B13: 46419 | E13: =B13+1 -> 46420 | H13: =E13+1 -> 46421 | K13: =H13+1 -> 46422 | N13: =K13+1 -> 46423 | S13: =B13+7 -> 46426 | V13: =S13+1 -> 46427 | Y13: =V13+1 -> 46428 | AB13: =Y13+1 -> 46429 | AE13: =AB13+1 -> 46430
B14: DILLUNS | E14: DIMARTS | H14: DIMECRES | K14: DIJOUS | N14: DIVENDR. | S14: DILLUNS | V14: DIMARTS | Y14: DIMECRES | AB14: DIJOUS | AE14: DIVENDR.
A15: 9-10 | R15: 9-10 | S15: PSRU | Y15: PII | AB15: PSRU
A16: 10-11 | R16: 10-11 | S16: PSRU | V16: REN | Y16: CM | AB16: PSRU
A17: 11-12 | R17: 11-12 | S17: CM | V17: CM | Y17: REN | AB17: REN
A18: 12-13 | R18: 12-13
A19: 13-14 | R19: 13-14
A20: 14-15 | R20: 14-15
A21: 15-16 | R21: 15-16 | S21: EII Pr1 | V21: EII Pr2 | AB21: DIA INTERNACIONAL DE LA NENA I LA DONA A LA CIÈNCIA ACTIVITATS CAMPUS (15-17h)
A22: 16-17 | R22: 16-17 | S22: EII Pr1 | V22: EII Pr2
A23: 17-18 | R23: 17-18 | S23: EII Pr1 | V23: EII Pr2
A24: 18-19 | R24: 18-19 | S24: EII Pr1 | V24: EII Pr2
A25: 19-20 | R25: 19-20
B27: =AE13+3 -> 46433 | E27: =B27+1 -> 46434 | H27: =E27+1 -> 46435 | K27: =H27+1 -> 46436 | N27: =K27+1 -> 46437 | S27: =N27+3 -> 46440 | V27: =S27+1 -> 46441 | Y27: =V27+1 -> 46442 | AB27: =Y27+1 -> 46443 | AE27: =AB27+1 -> 46444
B28: DILLUNS | E28: DIMARTS | H28: DIMECRES | K28: DIJOUS | N28: DIVENDR. | S28: DILLUNS | V28: DIMARTS | Y28: DIMECRES | AB28: DIJOUS | AE28: DIVENDR.
A29: 9-10 | B29: PSRU | E29: REN | H29: PII | K29: PSRU Se1 | R29: 9-10 | S29: PSRU | Y29: PII | AB29: PSRU
A30: 10-11 | B30: PSRU | E30: REN | H30: CM | K30: PSRU Se1 | R30: 10-11 | S30: PSRU | V30: REN | Y30: CM | AB30: PSRU
A31: 11-12 | B31: CM | E31: CM | H31: REN | K31: PSRU Se2 | R31: 11-12 | S31: CM | V31: CM | Y31: REN | AB31: REN
A32: 12-13 | K32: PSRU Se2 | R32: 12-13 | V32: PII Pb1 | Y32: PII Pb2
A33: 13-14 | R33: 13-14
A34: 14-15 | R34: 14-15
A35: 15-16 | B35: EII Pr1 | E35: EII Pr2 | R35: 15-16 | S35: EII Pr1 | V35: EII Pr2
A36: 16-17 | B36: EII Pr1 | E36: EII Pr2 | R36: 16-17 | S36: EII Pr1 | V36: EII Pr2
A37: 17-18 | B37: EII Pr1 | E37: EII Pr2 | R37: 17-18 | S37: EII Pr1 | V37: EII Pr2
A38: 18-19 | B38: EII Pr1 | E38: EII Pr2 | R38: 18-19 | S38: EII Pr1 | V38: EII Pr2
A39: 19-20 | R39: 19-20
B41: =AE27+3 -> 46447 | E41: =B41+1 -> 46448 | H41: =E41+1 -> 46449 | K41: =H41+1 -> 46450 | N41: =K41+1 -> 46451 | S41: =B41+7 -> 46454 | V41: =S41+1 -> 46455 | Y41: =V41+1 -> 46456 | AB41: =Y41+1 -> 46457 | AE41: =AB41+1 -> 46458
B42: DILLUNS | E42: DIMARTS | H42: DIMECRES | K42: DIJOUS | N42: DIVENDR. | S42: DILLUNS | V42: DIMARTS | Y42: DIMECRES | AB42: DIJOUS | AE42: DIVENDR.
A43: 9-10 | B43: PSRU | E43: REN | H43: PII | K43: PSRU Se1 | N43: EII Pr1 | R43: 9-10 | AB43: PSRU | AE43: PII So2 | AF43: PII So4
A44: 10-11 | B44: PSRU | E44: REN | H44: CM | K44: PSRU Se1 | N44: EII Pr1 | R44: 10-11 | S44: DIA DE LA DONA - FESTA DE LA FACULTAT | V44: REN | Y44: CM | AB44: PSRU | AE44: PII So2 | AF44: PII So4
A45: 11-12 | B45: CM | E45: CM | H45: REN | K45: PSRU Se2 | N45: EII Pr1 | R45: 11-12 | V45: CM | Y45: REN | AB45: REN | AE45: PII So2 | AF45: PII So4
A46: 12-13 | B46: PII Se1 | K46: PSRU Se2 | N46: EII Pr1 | R46: 12-13 | V46: PII Pb1 | Y46: PII Pb2 | AE46: PII So2 | AF46: PII So4
A47: 13-14 | B47: PII Se1 | R47: 13-14 | V47: ACTIVITATS CAMPUS (13-15h) | AE47: PII So2 | AF47: PII So4
A48: 14-15 | R48: 14-15 | AE48: PII So2 | AF48: PII So4
A49: 15-16 | B49: EII Pr1 | E49: EII Pr2 | R49: 15-16 | V49: EII Pr2 | Y49: PII Pr3 | AB49: PII Pr1 | AE49: PII So2 | AF49: PII So4
A50: 16-17 | B50: EII Pr1 | E50: EII Pr2 | R50: 16-17 | V50: EII Pr2 | Y50: PII Pr3 | AB50: PII Pr1 | AE50: PII So2 | AF50: PII So4
A51: 17-18 | B51: EII Pr1 | E51: EII Pr2 | R51: 17-18 | V51: EII Pr2 | Y51: PII Pr4 | AB51: PII Pr2
A52: 18-19 | B52: EII Pr1 | E52: EII Pr2 | R52: 18-19 | V52: EII Pr2 | Y52: PII Pr4 | AB52: PII Pr2
A53: 19-20 | R53: 19-20
B55: =AE41+3 -> 46461 | E55: =B55+1 -> 46462 | H55: =E55+1 -> 46463 | K55: =H55+1 -> 46464 | N55: =K55+1 -> 46465 | S55: =B55+7 -> 46468 | V55: =S55+1 -> 46469 | Y55: =V55+1 -> 46470 | AB55: =Y55+1 -> 46471 | AE55: =AB55+1 -> 46472
B56: DILLUNS | E56: DIMARTS | H56: DIMECRES | K56: DIJOUS | N56: DIVENDR. | S56: DILLUNS | V56: DIMARTS | Y56: DIMECRES | AB56: DIJOUS | AE56: DIVENDR.
A57: 9-10 | B57: PSRU | E57: REN | H57: PII | K57: PSRU Se1 | N57: PII So1 | O57: PII So3 | R57: 9-10
A58: 10-11 | B58: PSRU | E58: REN | H58: CM | K58: PSRU Se1 | N58: PII So1 | O58: PII So3 | R58: 10-11
A59: 11-12 | B59: CM | E59: CM | H59: REN | K59: PSRU Se2 | N59: PII So1 | O59: PII So3 | R59: 11-12
A60: 12-13 | B60: PII Se1 | E60: PII Pb1 | H60: PII Pb2 | K60: PSRU Se2 | N60: PII So1 | O60: PII So3 | R60: 12-13
A61: 13-14 | H61: PREMIS NOBEL - ACTIVITATS CAMPUS (13-15h) | N61: PII So1 | O61: PII So3 | R61: 13-14
A62: 14-15 | N62: PII So1 | O62: PII So3 | R62: 14-15
A63: 15-16 | B63: EII Pr1 | E63: EII Pr2 | N63: PII So1 | O63: PII So3 | R63: 15-16
A64: 16-17 | B64: EII Pr1 | E64: EII Pr2 | N64: PII So1 | O64: PII So3 | R64: 16-17
A65: 17-18 | B65: EII Pr1 | E65: EII Pr2 | R65: 17-18
A66: 18-19 | B66: EII Pr1 | E66: EII Pr2 | R66: 18-19
A67: 19-20 | R67: 19-20
E68: PRIMERS PARCIALS
B69: =AE55+3 -> 46475 | E69: =B69+1 -> 46476 | H69: =E69+1 -> 46477 | K69: =H69+1 -> 46478 | N69: =K69+1 -> 46479 | S69: =B69+7 -> 46482 | V69: =S69+1 -> 46483 | Y69: =V69+1 -> 46484 | AB69: =Y69+1 -> 46485 | AE69: =AB69+1 -> 46486
B70: DILLUNS | E70: DIMARTS | H70: DIMECRES | K70: DIJOUS | N70: DIVENDRES | S70: DILLUNS | V70: DIMARTS | Y70: DIMECRES | AB70: DIJOUS | AE70: DIVENDR.
A71: 9-10 | B71: SETMANA SANTA | E71: EII Exam | H71: CM Exam | N71: REN exam | R71: 9-10 | S71: PSRU Exam | Y71: PII | AB71: PSRU | AE71: EII Pr1
A72: 10-11 | R72: 10-11 | V72: REN | Y72: CM | AB72: PSRU | AE72: EII Pr1
A73: 11-12 | R73: 11-12 | V73: CM | Y73: REN | AB73: REN | AE73: EII Pr1
A74: 12-13 | R74: 12-13 | AE74: EII Pr1
A75: 13-14 | R75: 13-14
A76: 14-15 | R76: 14-15
A77: 15-16 | R77: 15-16 | V77: EII Pr2
A78: 16-17 | R78: 16-17 | V78: EII Pr2
A79: 17-18 | R79: 17-18 | V79: EII Pr2
A80: 18-19 | R80: 18-19 | V80: EII Pr2
A81: 19-20 | R81: 19-20
B83: =AE69+3 -> 46489 | E83: =B83+1 -> 46490 | H83: =E83+1 -> 46491 | K83: =H83+1 -> 46492 | N83: =K83+1 -> 46493 | S83: =B83+7 -> 46496 | V83: =S83+1 -> 46497 | Y83: =V83+1 -> 46498 | AB83: =Y83+1 -> 46499 | AE83: =AB83+1 -> 46500
B84: DILLUNS | E84: DIMARTS | H84: DIMECRES | K84: DIJOUS | N84: DIVENDR. | S84: DILLUNS | V84: DIMARTS | Y84: DIMECRES | AB84: DIJOUS | AE84: DIVENDR.
A85: 9-10 | B85: PSRU | H85: PII | K85: PSRU | R85: 9-10 | S85: PSRU | Y85: PII | AB85: PSRU | AE85: PII So1, 2, 3 i 4
A86: 10-11 | B86: PSRU | E86: REN | H86: CM | K86: PSRU | R86: 10-11 | S86: PSRU | V86: REN | Y86: CM | AB86: PSRU | AE86: PII So1, 2, 3 i 4
A87: 11-12 | B87: CM | E87: CM | H87: REN | K87: REN | R87: 11-12 | S87: CM Pb1 | V87: CM | Y87: REN | AB87: REN | AE87: PII So1, 2, 3 i 4
A88: 12-13 | E88: PII Pb1 | H88: PII Pb2 | R88: 12-13 | S88: CM Pb2 | V88: PII Pb1 | Y88: PII Pb2 | AE88: PII So1, 2, 3 i 4
A89: 13-14 | R89: 13-14 | V89: LA COMUNITÀRIA UAB (12-16h) | AE89: PII So1, 2, 3 i 4
A90: 14-15 | R90: 14-15 | AB90: REN So1 | AD90: REN So3 | AE90: PII So1, 2, 3 i 4
A91: 15-16 | B91: EII Pr1 | E91: EII Pr2 | R91: 15-16 | S91: EII Pr1 | AB91: REN So1 | AD91: REN So3 | AE91: PII So1, 2, 3 i 4
A92: 16-17 | B92: EII Pr1 | E92: EII Pr2 | R92: 16-17 | S92: EII Pr1 | V92: EII Pr2 | AB92: REN So2 | AD92: REN So4 | AE92: PII So1, 2, 3 i 4
A93: 17-18 | B93: EII Pr1 | E93: EII Pr2 | R93: 17-18 | V93: EII Pr2 | AB93: REN So2 | AD93: REN So4
A94: 18-19 | B94: EII Pr1 | E94: EII Pr2 | R94: 18-19
A95: 19-20 | R95: 19-20
B97: =AE83+3 -> 46503 | E97: =B97+1 -> 46504 | H97: =E97+1 -> 46505 | K97: =H97+1 -> 46506 | N97: =K97+1 -> 46507 | S97: =B97+7 -> 46510 | V97: =S97+1 -> 46511 | Y97: =V97+1 -> 46512 | AB97: =Y97+1 -> 46513 | AE97: =AB97+1 -> 46514
B98: DILLUNS | E98: DIMARTS | H98: DIMECRES | K98: DIJOUS | N98: DIVENDR. | S98: DILLUNS | V98: DIMARTS | Y98: DIMECRES | AB98: DIJOUS | AE98: DIVENDR.
A99: 9-10 | B99: PSRU | H99: PII | K99: PSRU | N99: REN Se1 | P99: REN Se3 | R99: 9-10 | S99: PSRU | Y99: PII | AB99: PSRU Se1 | AE99: PII So1, 2, 3 i 4
A100: 10-11 | B100: PSRU | E100: REN | H100: CM | K100: PSRU | N100: REN Se1 | P100: REN Se3 | R100: 10-11 | S100: PSRU | V100: REN | Y100: CM | AB100: PSRU Se1 | AE100: PII So1, 2, 3 i 4
A101: 11-12 | B101: CM Pb1 | E101: CM | H101: REN | K101: REN | N101: REN Se2 | P101: REN Se4 | R101: 11-12 | S101: CM Pb1 | V101: CM | Y101: REN | AB101: PSRU Se2 | AE101: PII So1, 2, 3 i 4
A102: 12-13 | B102: CM Pb2 | E102: PII Pb1 | H102: PII Pb2 | N102: REN Se2 | P102: REN Se4 | R102: 12-13 | S102: CM Pb2 | V102: PII Pb1 | Y102: PII Pb2 | AB102: PSRU Se2 | AE102: PII So1, 2, 3 i 4
A103: 13-14 | R103: 13-14 | AE103: PII So1, 2, 3 i 4
A104: 14-15 | R104: 14-15 | AE104: PII So1, 2, 3 i 4
A105: 15-16 | B105: EII Pr1 | E105: EII Pr2 | R105: 15-16 | S105: EII Pr1 | V105: EII Pr2 | AE105: PII So1, 2, 3 i 4
A106: 16-17 | B106: EII Pr1 | E106: EII Pr2 | R106: 16-17 | S106: EII Pr1 | V106: EII Pr2 | AE106: PII So1, 2, 3 i 4
A107: 17-18 | B107: EII Pr1 | E107: EII Pr2 | R107: 17-18 | S107: EII Pr1 | V107: EII Pr2
A108: 18-19 | B108: EII Pr1 | E108: EII Pr2 | R108: 18-19 | S108: EII Pr1 | V108: EII Pr2
...

Sheet 3r curs 2n sem
A1: Grau de CCAA - Tercer curs - 2n semestre Curs 2026/2027
S3: Teoria | U3: Pràctiques d'aula | W3: Pràc. de laboratori | Y3: Seminaris | AA3: Pràc. de camp
S4: TE | U4: PAUL (Pb) | W4: PLAB (Pr) | Y4: SESP (Se) | AA4: PCAM (So) | AC4: VEXT (So)
S5: Hores | T5: Grups | U5: Hores | V5: Grups | W5: Hores | X5: Grups | Y5: Hores | Z5: Grups | AA5: Hores | AB5: Grups | AC5: Hores | AD5: Grups
B6: 106764 | E6: PI IV | H6: Projecte Integral IV: Tecnologia Ambiental | S6: 8 | T6: 1 | U6: - | V6: - | W6: 8 | X6: 4 | Y6: 8 | Z6: 4 | AA6: - | AB6: - | AC6: 26 | AD6: 4
B7: 106766 | E7: CTA | H7: Ciència i Tecnologia de l'Aigua | S7: 28 | T7: 1 | U7: 14 | V7: 2 | W7: - | X7: - | Y7: 6 | Z7: 4 | AA7: - | AB7: - | AC7: - | AD7: -
B8: 106767 | E8: PRTR | H8: Prevenció, Reciclatge i Tractament de Residus | S8: 28 | T8: 1 | U8: 14 | V8: 2 | W8: - | X8: - | Y8: 6 | Z8: 4 | AA8: - | AB8: - | AC8: - | AD8: -
B9: 106773 | E9: CA | H9: Ciències de l'Atmosfera | S9: 32 | T9: 1 | U9: 8 | V9: 2 | W9: 8 | X9: 4 | Y9: - | Z9: - | AA9: - | AB9: - | AC9: - | AD9: -
B10: 106786 | E10: CCG | H10: Canvi Climàtic i Global | S10: 38 | T10: 1 | U10: 10 | V10: 2 | W10: - | X10: - | Y10: - | Z10: - | AA10: - | AB10: - | AC10: - | AD10: -
B12: 46419 | E12: =B12+1 -> 46420 | H12: =E12+1 -> 46421 | K12: =H12+1 -> 46422 | N12: =K12+1 -> 46423 | S12: =B12+7 -> 46426 | V12: =S12+1 -> 46427 | Y12: =V12+1 -> 46428 | AB12: =Y12+1 -> 46429 | AE12: =AB12+1 -> 46430
B13: DILLUNS | E13: DIMARTS | H13: DIMECRES | K13: DIJOUS | N13: DIVENDRES | S13: DILLUNS | V13: DIMARTS | Y13: DIMECRES | AB13: DIJOUS | AE13: DIVENDRES
A14: 9-10 | B14: CA | E14: CA | H14: CTA | K14: PRTR | R14: 9-10 | S14: CA | V14: CA | Y14: CTA | AB14: PRTR
A15: 10-11 | B15: PRTR | E15: PRTR | H15: CCG | K15: CA | R15: 10-11 | S15: PRTR | V15: PRTR | Y15: CCG | AB15: CA
A16: 11-12 | B16: CTA | E16: CCG | H16: CCG | K16: PI IV | R16: 11-12 | S16: CTA | V16: CCG | Y16: CCG | AB16: PI IV
A17: 12-13 | K17: PI IV | R17: 12-13 | S17: CTA Pb1 | U17: CTA Pb2 | V17: PRTR Pb1 | W17: PRTR Pb2 | AB17: PI IV
A18: 13-14 | R18: 13-14
A19: 14-15 | R19: 14-15
A20: 15-16 | R20: 15-16
A21: 16-17 | R21: 16-17
A22: 17-18 | R22: 17-18
A23: 18-19 | R23: 18-19
A24: 19-20 | R24: 19-20
B26: =AE12+3 -> 46433 | E26: =B26+1 -> 46434 | H26: =E26+1 -> 46435 | K26: =H26+1 -> 46436 | N26: =K26+1 -> 46437 | S26: =N26+3 -> 46440 | V26: =S26+1 -> 46441 | Y26: =V26+1 -> 46442 | AB26: =Y26+1 -> 46443 | AE26: =AB26+1 -> 46444
B27: DILLUNS | E27: DIMARTS | H27: DIMECRES | K27: DIJOUS | N27: DIVENDRES | S27: DILLUNS | V27: DIMARTS | Y27: DIMECRES | AB27: DIJOUS | AE27: DIVENDRES
A28: 9-10 | B28: CA | E28: CA | H28: CTA | K28: PRTR | R28: 9-10 | S28: CA | V28: CA | Y28: CTA | AB28: PRTR
A29: 10-11 | B29: PRTR | E29: PRTR | H29: CCG | K29: CA | R29: 10-11 | S29: PRTR | V29: PRTR | Y29: CCG | AB29: CA
A30: 11-12 | B30: CTA | E30: CCG | H30: CCG | K30: PI IV | R30: 11-12 | S30: CTA | V30: CCG | Y30: CCG | AB30: PI IV
A31: 12-13 | B31: CTA Pb1 | D31: CTA Pb2 | E31: PRTR Pb1 | F31: PRTR Pb2 | H31: CA Pb1 | I31: CCG Pb2 | K31: CCG PB1 | L31: CA Pb2 | R31: 12-13 | S31: CTA Pb1 | U31: CTA Pb2 | V31: PRTR Pb1 | W31: PRTR Pb2 | Y31: CA Pb1 | Z31: CCG Pb2 | AB31: CCG PB1 | AC31: CA Pb2
A32: 13-14 | R32: 13-14
A33: 14-15 | R33: 14-15
A34: 15-16 | R34: 15-16
A35: 16-17 | R35: 16-17
A36: 17-18 | R36: 17-18
A37: 18-19 | R37: 18-19
A38: 19-20 | R38: 19-20
B40: =AE26+3 -> 46447 | E40: =B40+1 -> 46448 | H40: =E40+1 -> 46449 | K40: =H40+1 -> 46450 | N40: =K40+1 -> 46451 | S40: =B40+7 -> 46454 | V40: =S40+1 -> 46455 | Y40: =V40+1 -> 46456 | AB40: =Y40+1 -> 46457 | AE40: =AB40+1 -> 46458
B41: DILLUNS | E41: DIMARTS | H41: DIMECRES | K41: DIJOUS | N41: DIVENDRES | S41: DILLUNS | V41: DIMARTS | Y41: DIMECRES | AB41: DIJOUS | AE41: DIVENDRES
A42: 9-10 | B42: CA | E42: CA | H42: CTA | N42: PRTR Se1 | O42: PRTR Se3 | R42: 9-10 | V42: CA | Y42: CTA | AB42: CTA | AE42: CTA Pb1 | AG42: CTA Pb2
A43: 10-11 | B43: PRTR | E43: PRTR | H43: CCG | K43: CA | N43: PRTR Se1 | O43: PRTR Se3 | R43: 10-11 | V43: PRTR | Y43: CCG | AB43: CA | AE43: CTA Pb1 | AG43: CTA Pb2
A44: 11-12 | B44: CTA | E44: CCG | H44: CCG | K44: PI IV | N44: PRTR Se2 | O44: PRTR Se4 | R44: 11-12 | V44: CCG | Y44: CCG | AB44: PI IV | AE44: PRTR Pb1 | AF44: PRTR Pb2
A45: 12-13 | B45: CTA Pb1 | D45: CTA Pb2 | E45: PRTR Pb1 | F45: PRTR Pb2 | H45: CA Pb1 | I45: CCG Pb2 | K45: CCG PB1 | L45: CA Pb2 | N45: PRTR Se2 | O45: PRTR Se4 | R45: 12-13 | V45: CCG | Y45: CA Pb1 | Z45: CCG Pb2 | AB45: CCG PB1 | AC45: CA Pb2 | AE45: PRTR Pb1 | AF45: PRTR Pb2
A46: 13-14 | R46: 13-14
A47: 14-15 | R47: 14-15 | S47: DIA DE LA DONA - FESTA DE LA FACULTAT
A48: 15-16 | R48: 15-16
A49: 16-17 | R49: 16-17
A50: 17-18 | R50: 17-18
A51: 18-19 | R51: 18-19
A52: 19-20 | R52: 19-20
B54: =AE40+3 -> 46461 | E54: =B54+1 -> 46462 | H54: =E54+1 -> 46463 | K54: =H54+1 -> 46464 | N54: =K54+1 -> 46465 | S54: =B54+7 -> 46468 | V54: =S54+1 -> 46469 | Y54: =V54+1 -> 46470 | AB54: =Y54+1 -> 46471 | AE54: =AB54+1 -> 46472
B55: DILLUNS | E55: DIMARTS | H55: DIMECRES | K55: DIJOUS | N55: DIVENDRES | S55: DILLUNS | V55: DIMARTS | Y55: DIMECRES | AB55: DIJOUS | AE55: DIVENDRES
A56: 9-10 | B56: CA | E56: CA | H56: PI IV So1, 2, 3, 4 | K56: CTA Se1 | L56: CTA Se3 | N56: PI IV Se1 | O56: PI IV Se3 | R56: 9-10
A57: 10-11 | B57: PRTR | E57: PRTR | H57: PI IV So1, 2, 3, 4 | K57: CTA Se1 | L57: CTA Se3 | N57: PI IV Se1 | O57: PI IV Se3 | R57: 10-11
A58: 11-12 | B58: CTA | E58: CCG PB1 | F58: CA Pb2 | H58: PI IV So1, 2, 3, 4 | K58: CTA Se2 | L58: CTA Se4 | N58: PI IV Se1 | O58: PI IV Se3 | R58: 11-12
A59: 12-13 | B59: CTA Pb1 | D59: CTA Pb2 | E59: CA Pb1 | F59: CCG Pb2 | H59: PI IV So1, 2, 3, 4 | K59: CTA Se2 | L59: CTA Se4 | R59: 12-13
A60: 13-14 | H60: PI IV So1, 2, 3, 4 | N60: PI IV Se2 | O60: PI IV Se4 | R60: 13-14
A61: 14-15 | H61: PI IV So1, 2, 3, 4 | N61: PI IV Se2 | O61: PI IV Se4 | R61: 14-15
A62: 15-16 | H62: PI IV So1, 2, 3, 4 | N62: PI IV Se2 | O62: PI IV Se4 | R62: 15-16
A63: 16-17 | H63: PI IV So1, 2, 3, 4 | R63: 16-17
A64: 17-18 | H64: PI IV So1, 2, 3, 4 | R64: 17-18
A65: 18-19 | H65: PREMIS NOBEL - ACTIVITATS CAMPUS (13-15h) | R65: 18-19
A66: 19-20 | R66: 19-20
E67: PRIMERS PARCIALS
B68: =AE54+3 -> 46475 | E68: =B68+1 -> 46476 | H68: =E68+1 -> 46477 | K68: =H68+1 -> 46478 | N68: =K68+1 -> 46479 | S68: =B68+7 -> 46482 | V68: =S68+1 -> 46483 | Y68: =V68+1 -> 46484 | AB68: =Y68+1 -> 46485 | AE68: =AB68+1 -> 46486
B69: DILLUNS | E69: DIMARTS | H69: DIMECRES | K69: DIJOUS | N69: DIVENDRES | S69: DILLUNS | V69: DIMARTS | Y69: DIMECRES | AB69: DIJOUS | AE69: DIVENDRES
A70: 9-10 | B70: SETMANA SANTA | R70: 9-10 | V70: CA | Y70: CTA | AB70: CTA
A71: 10-11 | R71: 10-11 | V71: PRTR | Y71: CCG | AB71: CA
A72: 11-12 | R72: 11-12 | V72: CCG | Y72: CCG
A73: 12-13 | R73: 12-13
A74: 13-14 | R74: 13-14
A75: 14-15 | E75: Exam CTA | H75: Exam CCG | N75: Exam CA | R75: 14-15 | S75: Exam PRTR
A76: 15-16 | R76: 15-16
A77: 16-17 | R77: 16-17
A78: 17-18 | R78: 17-18
A79: 18-19 | R79: 18-19
A80: 19-20 | R80: 19-20
B82: =AE68+3 -> 46489 | E82: =B82+1 -> 46490 | H82: =E82+1 -> 46491 | K82: =H82+1 -> 46492 | N82: =K82+1 -> 46493 | S82: =B82+7 -> 46496 | V82: =S82+1 -> 46497 | Y82: =V82+1 -> 46498 | AB82: =Y82+1 -> 46499 | AE82: =AB82+1 -> 46500
B83: DILLUNS | E83: DIMARTS | H83: DIMECRES | K83: DIJOUS | N83: DIVENDRES | S83: DILLUNS | V83: DIMARTS | Y83: DIMECRES | AB83: DIJOUS | AE83: DIVENDRES
A84: 9-10 | E84: PI IV So1, 2, 3, 4 | H84: CTA | K84: CTA | N84: PI IV Se1 | O84: PI IV Se3 | R84: 9-10 | S84: CA | V84: CA | Y84: CTA | AB84: CTA Se2 | AC84: CTA Se4
A85: 10-11 | E85: PI IV So1, 2, 3, 4 | H85: CCG | K85: PRTR Pb1 | L85: PRTR Pb2 | N85: PI IV Se1 | O85: PI IV Se3 | R85: 10-11 | S85: PRTR | V85: PRTR | Y85: CCG | AB85: CTA Se2 | AC85: CTA Se4
A86: 11-12 | B86: JORNADES OCUPABILITAT (a partir de les 11h) | E86: PI IV So1, 2, 3, 4 | H86: CCG | K86: PRTR Pb1 | L86: PRTR Pb2 | N86: PI IV Se1 | O86: PI IV Se3 | R86: 11-12 | S86: CTA | V86: CCG | Y86: CCG | AB86: CTA Se1 | AC86: CTA Se3
A87: 12-13 | E87: PI IV So1, 2, 3, 4 | N87: PI IV Se2 | O87: PI IV Se4 | R87: 12-13 | S87: CTA Pb1 | U87: CTA Pb2 | V87: LA COMUNITÀRIA UAB (12-16h) | AB87: CTA Se1 | AC87: CTA Se3
A88: 13-14 | E88: PI IV So1, 2, 3, 4 | N88: PI IV Se2 | O88: PI IV Se4 | R88: 13-14
A89: 14-15 | E89: PI IV So1, 2, 3, 4 | N89: PI IV Se2 | O89: PI IV Se4 | R89: 14-15
A90: 15-16 | E90: PI IV So1, 2, 3, 4 | R90: 15-16
A91: 16-17 | E91: PI IV So1, 2, 3, 4 | R91: 16-17
A92: 17-18 | R92: 17-18
A93: 18-19 | R93: 18-19
A94: 19-20 | R94: 19-20
B96: =AE82+3 -> 46503 | E96: =B96+1 -> 46504 | H96: =E96+1 -> 46505 | K96: =H96+1 -> 46506 | N96: =K96+1 -> 46507 | S96: =B96+7 -> 46510 | V96: =S96+1 -> 46511 | Y96: =V96+1 -> 46512 | AB96: =Y96+1 -> 46513 | AE96: =AB96+1 -> 46514
B97: DILLUNS | E97: DIMARTS | H97: DIMECRES | K97: DIJOUS | N97: DIVENDRES | S97: DILLUNS | V97: DIMARTS | Y97: DIMECRES | AB97: DIJOUS | AE97: DIVENDRES
A98: 9-10 | B98: CA | E98: CA | H98: CTA | K98: PRTR Se1 | L98: PRTR Se3 | R98: 9-10 | S98: CA | V98: CA | Y98: CTA
A99: 10-11 | B99: PRTR | E99: PRTR | H99: CCG | K99: PRTR Se1 | L99: PRTR Se3 | R99: 10-11 | S99: PRTR | V99: PRTR | Y99: CCG
A100: 11-12 | B100: CTA | E100: CCG | H100: CCG | K100: PRTR Se2 | L100: PRTR Se4 | R100: 11-12 | S100: CTA | V100: CCG | Y100: CCG
A101: 12-13 | B101: CTA Pb1 | D101: CTA Pb2 | E101: PRTR Pb1 | F101: PRTR Pb2 | K101: PRTR Se2 | L101: PRTR Se4 | R101: 12-13 | S101: CTA Pb1 | U101: CTA Pb2 | V101: PRTR Pb1 | W101: PRTR Pb2
A102: 13-14 | R102: 13-14
A103: 14-15 | R103: 14-15
A104: 15-16 | B104: CA Pr1 | E104: CA Pr2 | H104: CA Pr3 | K104: CA Pr4 | R104: 15-16 | V104: CA Pr2 | Y104: CA Pr1 | AB104: CA Pr4 | AE104: CA Pr3
A105: 16-17 | B105: CA Pr1 | E105: CA Pr2 | H105: CA Pr3 | K105: CA Pr4 | R105: 16-17 | V105: CA Pr2 | Y105: CA Pr1 | AB105: CA Pr4 | AE105: CA Pr3
A106: 17-18 | B106: CA Pr1 | E106: CA Pr2 | H106: CA Pr3 | K106: CA Pr4 | R106: 17-18 | V106: CA Pr2 | Y106: CA Pr1 | AB106: CA Pr4 | AE106: CA Pr3
A107: 18-19 | B107: CA Pr1 | E107: CA Pr2 | H107: CA Pr3 | K107: CA Pr4 | R107: 18-19 | V107: CA Pr2 | Y107: CA Pr1 | AB107: CA Pr4 | AE107: CA Pr3
...

Sheet 4t curs 2n sem
A1: Grau de CCAA - Quart curs - 2n semestre Curs 2026/2027
S3: Teoria | U3: Pràctiques d'aula | W3: Pràc. de laboratori | Y3: Seminaris | AA3: Pràc. de camp
S4: TE | U4: PAUL (Pb) | W4: PLAB (Pr) | Y4: SESP (Se) | AA4: PCAM (So) | AC4: VEXT (So)
S5: Hores | T5: Grups | U5: Hores | V5: Grups | W5: Hores | X5: Grups | Y5: Hores | Z5: Grups | AA5: Hores | AB5: Grups | AC5: Hores | AD5: Grups
B6: 106772 | E6: MAMB | H6: Modelització Ambiental | S6: 30 | T6: 1 | U6: 18 | V6: 1 | W6: - | X6: - | Y6: - | Z6: - | AA6: - | AB6: - | AC6: - | AD6: -
B7: 106774 | E7: MTA | H7: Mostreig i Tècniques Analítiques | S7: 26 | T7: 1 | U7: 10 | V7: 1 | W7: 8 | X7: 1 | Y7: - | Z7: - | AA7: 4 | AB7: 1 | AC7: - | AD7: -
B8: 106776 | E8: PQS | H8: Processos Químics Sostenibles | S8: 38 | T8: 1 | U8: 10 | V8: 1 | W8: - | X8: - | Y8: - | Z8: - | AA8: - | AB8: - | AC8: - | AD8: -
B9: 106777 | E9: PGE | H9: Processos Geològics Externs | S9: 18 | T9: 1 | U9: - | V9: - | W9: - | X9: - | Y9: - | Z9: - | AA9: 30 | AB9: 1 | AC9: - | AD9: -
B10: 106783 | E10: EECO | H10: Economia Ecològica | S10: 40 | T10: 1 | U10: 8 | V10: 1 | W10: - | X10: - | Y10: - | Z10: - | AA10: - | AB10: - | AC10: - | AD10: -
B11: 106784 | E11: NEA | H11: Negociació i Política Ambiental (1) | S11: 30 | T11: 1 | U11: 19.5 | V11: 1 | W11: - | X11: - | Y11: - | Z11: - | AA11: - | AB11: - | AC11: - | AD11: -
B12: 106788 | E12: RISC | H12: Risc Ambiental | S12: 28 | T12: 1 | U12: 14 | V12: 1 | W12: - | X12: - | Y12: - | Z12: - | AA12: 6 | AB12: 1 | AC12: - | AD12: -
B13: 106789 | E13: CGS | H13: Ciutats, Globalització i Sostenibilitat (2) | S13: 33.3 | T13: 1 | U13: 8.33 | V13: 2 | W13: 8.33 | X13: 2 | Y13: - | Z13: - | AA13: - | AB13: - | AC13: - | AD13: -
B14: 106792 | E14: GMN | H14: Gestió del Medi Natural | S14: 28 | T14: 1 | U14: 12 | V14: 1 | W14: - | X14: - | Y14: - | Z14: - | AA14: 8 | AB14: 2 | AC14: - | AD14: -
B15: 106796 | E15: TFG | H15: Treball de fi de grau | S15: - | T15: - | U15: - | V15: - | W15: - | X15: - | Y15: - | Z15: - | AA15: - | AB15: - | AC15: - | AD15: -
B16: (1) Els horaris de NEA els determina el Grau de Ciència Política i Gestió Pública (101108 Negociació d'intervencions públiques), i per tant és recomanable consultar els horaris d'aquell Grau. A més les classes s'imparteixen a la Facultat de Ciències Polítiques i Sociologia.
B17: (2) Els horaris de CGS els determina el Grau de Geografia, Medi Ambient i Planificació Territorial (107583 Ciutats, Globalització i Sostenibilitat) i, per tant, és recomanable consultar els horaris d'aquell Grau.
B19: 46419 | E19: =B19+1 -> 46420 | H19: =E19+1 -> 46421 | K19: =H19+1 -> 46422 | N19: =K19+1 -> 46423 | S19: =N19+3 -> 46426 | V19: =S19+1 -> 46427 | Y19: =V19+1 -> 46428 | AB19: =Y19+1 -> 46429 | AE19: =AB19+1 -> 46430
B20: DILLUNS | E20: DIMARTS | H20: DIMECRES | K20: DIJOUS | N20: DIVENDRES | S20: DILLUNS | V20: DIMARTS | Y20: DIMECRES | AB20: DIJOUS | AE20: DIVENDRES
A21: 9-10 | B21: PQS | E21: EECO | H21: PGE | K21: GMN | N21: PGE So | R21: 9-10 | S21: PQS | V21: EECO | Y21: PGE | AB21: GMN | AE21: PGE So
A22: 10-11 | B22: PQS | E22: EECO | H22: MTA | K22: GMN | N22: PGE So | R22: 10-11 | S22: PQS | V22: EECO | Y22: MTA | AB22: GMN | AE22: PGE So
A23: 11-12 | B23: MAMB | E23: RISC | H23: MTA | K23: PGE | N23: PGE So | R23: 11-12 | S23: MAMB | V23: RISC | Y23: MTA | AB23: RISC Pb | AE23: PGE So
A24: 12-13 | B24: MAMB | E24: RISC | H24: MAMB Pb | N24: PGE So | R24: 12-13 | S24: MAMB | V24: RISC | Y24: MAMB Pb | AB24: MTA Pb | AE24: PGE So
A25: 13-14 | N25: PGE So | R25: 13-14 | S25: EECO | V25: PQS Pb | AE25: PGE So
A26: 14-15 | R26: 14-15
A27: 15-16 | R27: 15-16
A28: 16-17 | R28: 16-17
A29: 17-18 | R29: 17-18
A30: 18-19 | R30: 18-19
A31: 19-20 | R31: 19-20
B33: =AE19+3 -> 46433 | E33: =B33+1 -> 46434 | H33: =E33+1 -> 46435 | K33: =H33+1 -> 46436 | N33: =K33+1 -> 46437 | S33: =N33+3 -> 46440 | V33: =S33+1 -> 46441 | Y33: =V33+1 -> 46442 | AB33: =Y33+1 -> 46443 | AE33: =AB33+1 -> 46444
B34: DILLUNS | E34: DIMARTS | H34: DIMECRES | K34: DIJOUS | N34: DIVENDRES | S34: DILLUNS | V34: DIMARTS | Y34: DIMECRES | AB34: DIJOUS | AE34: DIVENDRES
A35: 9-10 | B35: PQS | E35: EECO | H35: PGE | K35: GMN | N35: PGE So | R35: 9-10 | S35: PQS | V35: EECO | Y35: PGE | AB35: GMN | AE35: PGE So
A36: 10-11 | B36: PQS | E36: EECO | H36: MTA | K36: GMN | N36: PGE So | R36: 10-11 | S36: PQS | V36: EECO | Y36: MTA | AB36: GMN | AE36: PGE So
A37: 11-12 | B37: MAMB | E37: RISC | H37: MTA | K37: RISC Pb | N37: PGE So | R37: 11-12 | S37: MAMB | V37: RISC | Y37: MTA | AB37: RISC Pb | AE37: PGE So
A38: 12-13 | B38: MAMB | E38: RISC | H38: MAMB Pb | K38: MTA Pb | N38: PGE So | R38: 12-13 | S38: MAMB | V38: RISC | Y38: MAMB Pb | AE38: PGE So
A39: 13-14 | B39: EECO Pb | E39: PQS Pb | N39: PGE So | R39: 13-14 | S39: EECO Pb | V39: PQS Pb | AB39: MTA So | AE39: PGE So
A40: 14-15 | R40: 14-15 | AB40: MTA So
A41: 15-16 | R41: 15-16 | AB41: MTA So
A42: 16-17 | R42: 16-17 | AB42: MTA So
A43: 17-18 | R43: 17-18
A44: 18-19 | R44: 18-19
A45: 19-20 | R45: 19-20
B47: =AE33+3 -> 46447 | E47: =B47+1 -> 46448 | H47: =E47+1 -> 46449 | K47: =H47+1 -> 46450 | N47: =K47+1 -> 46451 | S47: =B47+7 -> 46454 | V47: =S47+1 -> 46455 | Y47: =V47+1 -> 46456 | AB47: =Y47+1 -> 46457 | AE47: =AB47+1 -> 46458
B48: DILLUNS | E48: DIMARTS | H48: DIMECRES | K48: DIJOUS | N48: DIVENDRES | S48: DILLUNS | V48: DIMARTS | Y48: DIMECRES | AB48: DIJOUS | AE48: DIVENDRES
A49: 9-10 | B49: PQS | E49: EECO | H49: PGE | K49: GMN | N49: PQS | R49: 9-10 | V49: EECO | Y49: PGE | AB49: GMN | AE49: PQS
A50: 10-11 | B50: PQS | E50: EECO | H50: MTA | K50: GMN | N50: PQS | R50: 10-11 | V50: EECO | Y50: MAMB | AB50: GMN | AE50: PQS
A51: 11-12 | B51: MAMB | E51: RISC | H51: MTA | K51: RISC Pb | N51: GMN Pb | R51: 11-12 | V51: RISC | Y51: MAMB | AB51: RISC Pb | AE51: GMN Pb
A52: 12-13 | B52: MAMB | E52: RISC | H52: MAMB Pb | K52: MTA Pb | N52: GMN Pb | R52: 12-13 | V52: RISC | Y52: MAMB Pb | AB52: MTA Pb | AE52: GMN Pb
A53: 13-14 | B53: EECO Pb | E53: PQS Pb | H53: MAMB Pb | K53: PGE | R53: 13-14 | V53: PQS Pb
A54: 14-15 | R54: 14-15
A55: 15-16 | R55: 15-16 | S55: DIA DE LA DONA - FESTA DE LA FACULTAT | AB55: RISC So
A56: 16-17 | R56: 16-17 | AB56: RISC So
A57: 17-18 | R57: 17-18 | AB57: RISC So
A58: 18-19 | R58: 18-19
A59: 19-20 | R59: 19-20
B61: =AE47+3 -> 46461 | E61: =B61+1 -> 46462 | H61: =E61+1 -> 46463 | K61: =H61+1 -> 46464 | N61: =K61+1 -> 46465 | S61: =B61+7 -> 46468 | V61: =S61+1 -> 46469 | Y61: =V61+1 -> 46470 | AB61: =Y61+1 -> 46471 | AE61: =AB61+1 -> 46472
B62: DILLUNS | E62: DIMARTS | H62: DIMECRES | K62: DIJOUS | N62: DIVENDRES | S62: DILLUNS | V62: DIMARTS | Y62: DIMECRES | AB62: DIJOUS | AE62: DIVENDRES
A63: 9-10 | B63: PQS | E63: EECO | H63: PGE | K63: GMN So1 | L63: GMN So2 | N63: PQS | R63: 9-10
A64: 10-11 | B64: PQS | E64: EECO | H64: MTA | K64: GMN So1 | L64: GMN So2 | N64: PQS | R64: 10-11
A65: 11-12 | B65: MAMB | E65: RISC | H65: MTA | K65: GMN So1 | L65: GMN So2 | N65: GMN Pb | R65: 11-12
A66: 12-13 | B66: MAMB | E66: RISC | H66: MAMB Pb | K66: GMN So1 | L66: GMN So2 | N66: GMN Pb | R66: 12-13
A67: 13-14 | B67: EECO Pb | E67: PQS | H67: MAMB Pb | K67: GMN So1 | L67: GMN So2 | R67: 13-14
A68: 14-15 | H68: PREMIS NOBEL - ACTIVITATS CAMPUS (13-15h) | K68: GMN So1 | L68: GMN So2 | R68: 14-15
A69: 15-16 | K69: GMN So1 | L69: GMN So2 | R69: 15-16
A70: 16-17 | K70: GMN So1 | L70: GMN So2 | R70: 16-17
A71: 17-18 | R71: 17-18
A72: 18-19 | R72: 18-19
A73: 19-20 | R73: 19-20
E74: PRIMERS PARCIALS
B75: =AE61+3 -> 46475 | E75: =B75+1 -> 46476 | H75: =E75+1 -> 46477 | K75: =H75+1 -> 46478 | N75: =K75+1 -> 46479 | S75: =B75+7 -> 46482 | V75: =S75+1 -> 46483 | Y75: =V75+1 -> 46484 | AB75: =Y75+1 -> 46485 | AE75: =AB75+1 -> 46486
B76: DILLUNS | E76: DIMARTS | H76: DIMECRES | K76: DIJOUS | N76: DIVENDRES | S76: DILLUNS | V76: DIMARTS | Y76: DIMECRES | AB76: DIJOUS | AE76: DIVENDRES
A77: 9-10 | B77: SETMANA SANTA | E77: Examen PQS | H77: Examen MTA | N77: Examen RISC | R77: 9-10 | S77: Examen GMN | V77: EECO | Y77: PGE | AB77: GMN | AE77: PGE So
A78: 10-11 | R78: 10-11 | V78: EECO | Y78: MTA | AB78: GMN | AE78: PGE So
A79: 11-12 | R79: 11-12 | V79: MAMB | Y79: MTA | AB79: RISC Pb | AE79: PGE So
A80: 12-13 | R80: 12-13 | V80: MAMB | Y80: MAMB Pb | AE80: PGE So
A81: 13-14 | R81: 13-14 | V81: PQS | AE81: PGE So
A82: 14-15 | R82: 14-15
A83: 15-16 | R83: 15-16
A84: 16-17 | R84: 16-17
A85: 17-18 | E85: Examen PGE | H85: Examen EECO | N85: Examen MAMB | R85: 17-18
A86: 18-19 | R86: 18-19
A87: 19-20 | R87: 19-20
B89: =AE75+3 -> 46489 | E89: =B89+1 -> 46490 | H89: =E89+1 -> 46491 | K89: =H89+1 -> 46492 | N89: =K89+1 -> 46493 | S89: =B89+7 -> 46496 | V89: =S89+1 -> 46497 | Y89: =V89+1 -> 46498 | AB89: =Y89+1 -> 46499 | AE89: =AB89+1 -> 46500
B90: DILLUNS | E90: DIMARTS | H90: DIMECRES | K90: DIJOUS | N90: DIVENDRES | S90: DILLUNS | V90: DIMARTS | Y90: DIMECRES | AB90: DIJOUS | AE90: DIVENDRES
A91: 9-10 | E91: EECO | H91: PGE | K91: GMN | N91: PQS | R91: 9-10 | S91: PQS | V91: EECO | Y91: PGE | AB91: GMN | AE91: PGE So
A92: 10-11 | E92: EECO | H92: MTA | K92: GMN | N92: PQS | R92: 10-11 | S92: PQS | V92: EECO | Y92: MTA | AB92: GMN | AE92: PGE So
A93: 11-12 | B93: JORNADES OCUPABILITAT (a partir de les 11h) | E93: RISC | H93: MTA | K93: RISC Pb | N93: GMN Pb | R93: 11-12 | S93: MAMB | V93: RISC | Y93: MTA | AB93: RISC Pb | AE93: PGE So
A94: 12-13 | E94: RISC | H94: MAMB Pb | K94: MTA Pb | N94: GMN Pb | R94: 12-13 | S94: MAMB | V94: RISC | Y94: MAMB Pb | AB94: MTA Pb | AE94: PGE So
A95: 13-14 | E95: PQS | R95: 13-14 | S95: EECO | V95: PQS | AE95: PGE So
A96: 14-15 | R96: 14-15 | V96: LA COMUNITÀRIA UAB (12-16h)
A97: 15-16 | R97: 15-16
A98: 16-17 | R98: 16-17
A99: 17-18 | R99: 17-18
A100: 18-19 | R100: 18-19
A101: 19-20 | R101: 19-20
B103: =AE89+3 -> 46503 | E103: =B103+1 -> 46504 | H103: =E103+1 -> 46505 | K103: =H103+1 -> 46506 | N103: =K103+1 -> 46507 | S103: =B103+7 -> 46510 | V103: =S103+1 -> 46511 | Y103: =V103+1 -> 46512 | AB103: =Y103+1 -> 46513 | AE103: =AB103+1 -> 46514
B104: DILLUNS | E104: DIMARTS | H104: DIMECRES | K104: DIJOUS | N104: DIVENDRES | S104: DILLUNS | V104: DIMARTS | Y104: DIMECRES | AB104: DIJOUS | AE104: DIVENDRES
A105: 9-10 | B105: PQS | E105: EECO | H105: PGE | K105: GMN | N105: PQS | R105: 9-10 | S105: PQS | V105: EECO | Y105: PGE | AB105: GMN | AE105: PQS
A106: 10-11 | B106: PQS | E106: EECO | H106: MTA | K106: GMN | N106: PQS | R106: 10-11 | S106: PQS | V106: EECO | Y106: MTA | AB106: GMN | AE106: PQS
A107: 11-12 | B107: MAMB | E107: RISC | H107: MTA | K107: RISC Pb | N107: EECO | R107: 11-12 | S107: MAMB | V107: RISC | Y107: MTA | AB107: RISC Pb | AE107: EECO
...

Sheet FULL CONTROL
A1: FULL DE CONTROL
A2: COMPARATIVA PROGRAMACIÓ REAL (HORES) VS PLANIFICACIÓ (TPD) Grau Ciències Ambientals - Curs 2026/2027
A5: Els quadres següents mostren HORES DE DOCÈNCIA:
A7: En negre, quan les hores de docència QUADREN amb les planificades a la TPD
A8: En vermell, quan les hores de docència NO quadren amb les planificades a la TPD
A11: PRIMER CURS
A13: 1r SEMESTRE
K15: INVENTARI D'ETIQUETES
A16: HORES VS TPD 1r Curs 1r Semestre | C16: TEORIA
C17: TPD | D17: HORES | K17: 106751
C18: TE | D18: TE1 | E18: TE2 | K18: Tip.Doc. | L18: Etiqueta
A19: ='1r curs 1r sem'!B7 -> 106751 | B19: ='1r curs 1r sem'!D7 -> FGR | C19: ='1r curs 1r sem'!M7 -> 38 | D19: =COUNTIF('1r curs 1r sem'!A15:W167,"FGR") -> 38 | E19: - | K19: TE1 | L19: FGR
A20: ='1r curs 1r sem'!B8 -> 106749 | B20: ='1r curs 1r sem'!D8 -> FGEO | C20: ='1r curs 1r sem'!M8 -> 37 | D20: =COUNTIF('1r curs 1r sem'!A15:W167,"FGEO") -> 37 | E20: - | K20: PAUL1 | L20: FGR Pb1
A21: ='1r curs 1r sem'!B9 -> 106747 | B21: ='1r curs 1r sem'!D9 -> FMAT | C21: ='1r curs 1r sem'!M9 -> 38 | D21: =COUNTIF('1r curs 1r sem'!A15:W167,"FMAT") -> 38 | E21: - | K21: PAUL2 | L21: FGR Pb2
A22: ='1r curs 1r sem'!B10 -> 106750 | B22: ='1r curs 1r sem'!D10 -> FQUI | C22: ='1r curs 1r sem'!M10 -> 29 | D22: =COUNTIF('1r curs 1r sem'!A15:W167,"FQUI 1") -> 28 | E22: =COUNTIF('1r curs 1r sem'!A15:W167,"FQUI 2") -> 28
A23: ='1r curs 1r sem'!B11 -> 106757 | B23: ='1r curs 1r sem'!D11 -> IRCA | C23: ='1r curs 1r sem'!M11 -> 30 | D23: =COUNTIF('1r curs 1r sem'!A15:W167,"IRCA") -> 30 | E23: - | K23: 106749
K24: Tip.Doc. | L24: Etiqueta
C25: PAUL (Pb) | K25: TE1 | L25: FGEO
C26: TPD | D26: HORES | K26: PLAB1 | L26: FGEO Pr1
C27: PAUL | D27: PAUL1 | E27: PAUL2 | K27: PLAB2 | L27: FGEO Pr2
A28: =A19 -> 106751 | B28: =B19 -> FGR | C28: ='1r curs 1r sem'!O7 -> 12 | D28: =COUNTIF('1r curs 1r sem'!A15:W167,"FGR Pb1") -> 12 | E28: =COUNTIF('1r curs 1r sem'!A15:W167,"FGR Pb2") -> 12 | K28: PLAB3 | L28: FGEO Pr3
A29: =A20 -> 106749 | B29: =B20 -> FGEO | C29: ='1r curs 1r sem'!O8 -> - | D29: - | E29: - | K29: PCAM1 | L29: FGEO So1
A30: =A21 -> 106747 | B30: =B21 -> FMAT | C30: ='1r curs 1r sem'!O9 -> 12 | D30: =COUNTIF('1r curs 1r sem'!A15:W167,"FMAT Pb1") -> 12 | E30: =COUNTIF('1r curs 1r sem'!A15:W167,"FMAT Pb2") -> 12 | K30: PCAM2 | L30: FGEO So2
A31: =A22 -> 106750 | B31: =B22 -> FQUI | C31: ='1r curs 1r sem'!O10 -> 10 | D31: =COUNTIF('1r curs 1r sem'!A15:W167,"FQUI Pb1") -> 10 | E31: =COUNTIF('1r curs 1r sem'!A15:W167,"FQUI Pb2") -> 10 | K31: PCAM3 | L31: FGEO So3
A32: =A23 -> 106757 | B32: =B23 -> IRCA | C32: ='1r curs 1r sem'!O11 -> 6 | D32: =COUNTIF('1r curs 1r sem'!A15:W167,"IRCA Pb1") -> 6 | E32: =COUNTIF('1r curs 1r sem'!B15:X167,"IRCA Pb2") -> 6
K33: 106747
C34: PLAB (Pr) | K34: Tip.Doc. | L34: Etiqueta
C35: TPD | D35: HORES | K35: TE1 | L35: FMAT
C36: PLAB | D36: PLAB1 | E36: PLAB2 | F36: PLAB3 | K36: PAUL1 | L36: FMAT Pb1
A37: =A19 -> 106751 | B37: =B19 -> FGR | C37: ='1r curs 1r sem'!Q7 -> - | D37: - | E37: - | F37: - | K37: PAUL2 | L37: FMAT Pb2
A38: =A20 -> 106749 | B38: =B20 -> FGEO | C38: ='1r curs 1r sem'!Q8 -> 8 | D38: =COUNTIF('1r curs 1r sem'!A15:W167,"FGEO Pr1") -> 8 | E38: =COUNTIF('1r curs 1r sem'!A15:W167,"FGEO Pr2") -> 8 | F38: =COUNTIF('1r curs 1r sem'!A15:W167,"FGEO Pr3") -> 8
A39: =A21 -> 106747 | B39: =B21 -> FMAT | C39: ='1r curs 1r sem'!Q9 -> - | D39: - | E39: - | F39: - | K39: 106750
A40: =A22 -> 106750 | B40: =B22 -> FQUI | C40: ='1r curs 1r sem'!Q10 -> - | D40: - | E40: - | F40: - | K40: Tip.Doc. | L40: Etiqueta
A41: =A23 -> 106757 | B41: =B23 -> IRCA | C41: ='1r curs 1r sem'!Q11 -> - | D41: - | E41: - | F41: - | K41: TE1 | L41: FQUI 1
K42: TE2 | L42: FQUI 2
C43: PLAB 40 (Pr) | K43: PAUL1 | L43: FQUI Pb1
C44: TPD | D44: HORES | K44: PAUL2 | L44: FQUI Pb2
C45: PLAB | D45: PLAB1 | E45: PLAB2 | F45: PLAB3 | K45: PLAB40 1 | L45: FQUI Pr1
A46: =A28 -> 106751 | B46: =B28 -> FGR | C46: ='1r curs 1r sem'!S7 -> - | D46: - | E46: - | F46: - | K46: PLAB40 2 | L46: FQUI Pr2
A47: =A29 -> 106749 | B47: =B29 -> FGEO | C47: ='1r curs 1r sem'!S8 -> - | D47: - | E47: - | F47: - | K47: PLAB40 3 | L47: FQUI Pr3
A48: =A30 -> 106747 | B48: =B30 -> FMAT | C48: ='1r curs 1r sem'!S9 -> - | D48: - | E48: - | F48: -
A49: =A31 -> 106750 | B49: =B31 -> FQUI | C49: ='1r curs 1r sem'!S10 -> 14 | D49: =COUNTIF('1r curs 1r sem'!A15:W167,"FQUI Pr1")+COUNTIF('1r curs 1r sem'!A15:W167,"FQUI Pr1 1,5 h")*1.5 -> 14 | E49: =COUNTIF('1r curs 1r sem'!A15:W167,"FQUI Pr2")+COUNTIF('1r curs 1r sem'!A15:W167,"FQUI Pr2 1,5 h")*1.5 -> 14 | F49: =COUNTIF('1r curs 1r sem'!A15:W167,"FQUI Pr3")+COUNTIF('1r curs 1r sem'!A15:W167,"FQUI Pr3 1,5 h")*1.5 -> 14
A50: =A32 -> 106757 | B50: =B32 -> IRCA | C50: ='1r curs 1r sem'!S11 -> - | D50: - | E50: - | F50: - | K50: 106757
K51: Tip.Doc. | L51: Etiqueta
C52: PCAM (So) | K52: TE1 | L52: IRCA
C53: TPD | D53: HORES | K53: PAUL1 | L53: IRCA Pb1
C54: PCAM | D54: PCAM1 | E54: PCAM2 | F54: PCAM3 | G54: PCAM4 | K54: PAUL2 | L54: IRCA Pb2
A55: =A28 -> 106751 | B55: =B28 -> FGR | C55: ='1r curs 1r sem'!W7 -> - | D55: - | E55: - | F55: - | G55: - | K55: SEM1 | L55: IRCA Se1
A56: =A29 -> 106749 | B56: =B29 -> FGEO | C56: ='1r curs 1r sem'!W8 -> 8 | D56: =COUNTIF('1r curs 1r sem'!A15:W167,"FGEO So1*") -> 8 | E56: =COUNTIF('1r curs 1r sem'!A15:W167,"FGEO So*2*") -> 8 | F56: =COUNTIF('1r curs 1r sem'!A15:W167,"FGEO So*3*") -> 8 | G56: =COUNTIF('1r curs 1r sem'!B15:X167,"FGEO So*3*") -> 8 | K56: SEM2 | L56: IRCA Se2
A57: =A30 -> 106747 | B57: =B30 -> FMAT | C57: ='1r curs 1r sem'!W9 -> - | D57: - | E57: - | F57: - | G57: - | K57: SEM3 | L57: IRCA Se3
A58: =A31 -> 106750 | B58: =B31 -> FQUI | C58: ='1r curs 1r sem'!W10 -> - | D58: - | E58: - | F58: - | G58: - | K58: SEM4 | L58: IRCA Se4
A59: =A32 -> 106757 | B59: =B32 -> IRCA | C59: ='1r curs 1r sem'!W11 -> 6 | D59: =COUNTIF('1r curs 1r sem'!A42:W194,"IRCA SO*") -> 6 | E59: =COUNTIF('1r curs 1r sem'!B42:X194,"IRCA SO*") -> 6 | F59: =COUNTIF('1r curs 1r sem'!C42:Y194,"IRCA SO*") -> 6 | G59: =COUNTIF('1r curs 1r sem'!D42:Z194,"IRCA SO*") -> 6 | K59: PCAM1 | L59: IRCA So1
K60: PCAM2 | L60: IRCA So2
C61: SEM | K61: PCAM3 | L61: IRCA So3
C62: TPD | D62: HORES | K62: PCAM4 | L62: IRCA So4
C63: PCAM | D63: SEM1 | E63: SEM2 | F63: SEM3 | G63: SEM4
A64: =A37 -> 106751 | B64: =B37 -> FGR | C64: ='1r curs 1r sem'!U7 -> - | D64: - | E64: - | F64: - | G64: -
A65: =A38 -> 106749 | B65: =B38 -> FGEO | C65: ='1r curs 1r sem'!U8 -> - | D65: - | E65: - | F65: - | G65: -
A66: =A39 -> 106747 | B66: =B39 -> FMAT | C66: ='1r curs 1r sem'!U9 -> - | D66: - | E66: - | F66: - | G66: -
A67: =A40 -> 106750 | B67: =B40 -> FQUI | C67: ='1r curs 1r sem'!U10 -> - | D67: - | E67: - | F67: - | G67: -
A68: =A41 -> 106757 | B68: =B41 -> IRCA | C68: ='1r curs 1r sem'!U11 -> 8 | D68: =COUNTIF('1r curs 1r sem'!A15:W167,"IRCA SE1*") -> 8 | E68: =COUNTIF('1r curs 1r sem'!A15:W167,"IRCA SE2*") -> 8 | F68: =COUNTIF('1r curs 1r sem'!A15:W167,"IRCA SE3*") -> 8 | G68: =COUNTIF('1r curs 1r sem'!A15:W167,"IRCA SE4*") -> 8
A70: 2n SEMESTRE
L72: INVENTARI D'ETIQUETES
A73: HORES VS TPD 1r Curs 2n Semestre | C73: TEORIA
C74: TPD | D74: HORES | L74: 106755
C75: TE | D75: TE1 | E75: TE2 | L75: Tip.Doc. | M75: Etiqueta
A76: ='1r curs 2n sem'!B7 -> 106755 | B76: ='1r curs 2n sem'!H7 -> Dret Ambiental | C76: ='1r curs 2n sem'!S7 -> 50 | D76: =COUNTIF('1r curs 2n sem'!A13:AG165,"DAMB") -> 50 | E76: - | L76: TE1 | M76: DAMB1
A77: ='1r curs 2n sem'!B8 -> 106756 | B77: ='1r curs 2n sem'!H8 -> Fonaments de Biologia | C77: ='1r curs 2n sem'!S8 -> 38 | D77: =COUNTIF('1r curs 2n sem'!A13:AG165,"FBIO") -> 39 | E77: -
A78: ='1r curs 2n sem'!B9 -> 106753 | B78: ='1r curs 2n sem'!H9 -> Fonaments de Física | C78: ='1r curs 2n sem'!S9 -> 37 | D78: =COUNTIF('1r curs 2n sem'!A13:AG165,"FFIS") -> 38 | E78: -
A79: ='1r curs 2n sem'!B10 -> 106754 | B79: ='1r curs 2n sem'!H10 -> Introducció a l'Economia Ambiental | C79: ='1r curs 2n sem'!S10 -> 32 | D79: =COUNTIF('1r curs 2n sem'!A13:AG165,"IEA 1") -> 32 | E79: - | L79: 106756
A80: ='1r curs 2n sem'!B11 -> 106752 | B80: ='1r curs 2n sem'!H11 -> Sociologia Ambiental | C80: ='1r curs 2n sem'!S11 -> 30 | D80: =COUNTIF('1r curs 2n sem'!A13:AG165, "SAMB") -> 30 | E80: - | L80: Tip.Doc. | M80: Etiqueta
L81: TE1 | M81: FBIO
C82: PAUL (Pb) | L82: PLAB1 | M82: FBIO Pr1
C83: TPD | D83: HORES | L83: PLAB2 | M83: FBIO Pr2
C84: PAUL | D84: PAUL1 | E84: PAUL2 | F84: PAUL3 | G84: PAUL4 | L84: PLAB3 | M84: FBIO Pr3
A85: =A76 -> 106755 | B85: =B76 -> Dret Ambiental | C85: ='1r curs 2n sem'!U7 -> - | D85: - | E85: - | F85: - | G85: - | L85: PLAB4 | M85: FBIO Pr4
A86: =A77 -> 106756 | B86: =B77 -> Fonaments de Biologia | C86: ='1r curs 2n sem'!U8 -> - | D86: - | E86: - | F86: - | G86: -
A87: =A78 -> 106753 | B87: =B78 -> Fonaments de Física | C87: ='1r curs 2n sem'!U9 -> 12 | D87: =COUNTIF('1r curs 2n sem'!A13:AG165,"FFIS Pb1") -> 12 | E87: =COUNTIF('1r curs 2n sem'!A13:AG165,"FFIS Pb2") -> 12 | F87: - | G87: - | L87: 106753
A88: =A79 -> 106754 | B88: =B79 -> Introducció a l'Economia Ambiental | C88: ='1r curs 2n sem'!U10 -> 17.5 | D88: =COUNTIF('1r curs 2n sem'!A13:AG165,"IEA Pb1") -> 18 | E88: =COUNTIF('1r curs 2n sem'!A13:AG165,"IEA Pb2") -> 18 | F88: - | G88: - | L88: Tip.Doc. | M88: Etiqueta
A89: =A80 -> 106752 | B89: =B80 -> Sociologia Ambiental | C89: ='1r curs 2n sem'!U11 -> 12 | D89: =COUNTIF('1r curs 2n sem'!A22:AG174, "SAMB Pb1") -> 12 | E89: =COUNTIF('1r curs 2n sem'!B22:AH174, "SAMB Pb2") -> 12 | F89: - | G89: - | L89: TE1 | M89: FFIS
L90: PAUL1 | M90: FFIS Pb1
C91: PLAB (Pr) | L91: PAUL2 | M91: FFIS Pb2
C92: TPD | D92: HORES | L92: SEM1 | M92: FFIS Se1
C93: PLAB | D93: PLAB1 | E93: PLAB2 | F93: PLAB3 | G93: PLAB4 | H93: PLAB5 | L93: SEM2 | M93: FFIS Se2
A94: =A76 -> 106755 | B94: =B76 -> Dret Ambiental | C94: ='1r curs 2n sem'!W7 -> - | D94: - | E94: - | F94: - | G94: - | H94: - | L94: SEM3 | M94: FFIS Se3
A95: =A77 -> 106756 | B95: =B77 -> Fonaments de Biologia | C95: ='1r curs 2n sem'!W8 -> 15 | D95: =COUNTIF('1r curs 2n sem'!A13:AG165,"FBIO Pr1") -> 15 | E95: =COUNTIF('1r curs 2n sem'!A13:AG165,"FBIO Pr2") -> 15 | F95: =COUNTIF('1r curs 2n sem'!A13:AG165,"FBIO Pr3") -> 15 | G95: =COUNTIF('1r curs 2n sem'!A13:AG165,"FBIO Pr4") -> 15 | H95: - | L95: SEM4 | M95: FFIS Se4
A96: =A78 -> 106753 | B96: =B78 -> Fonaments de Física | C96: ='1r curs 2n sem'!W9 -> - | D96: - | E96: - | F96: - | G96: - | H96: -
A97: =A79 -> 106754 | B97: =B79 -> Introducció a l'Economia Ambiental | C97: ='1r curs 2n sem'!W10 -> - | D97: - | E97: - | F97: - | G97: - | H97: - | L97: 106754
A98: =A80 -> 106752 | B98: =B80 -> Sociologia Ambiental | C98: ='1r curs 2n sem'!W11 -> - | D98: - | E98: - | F98: - | G98: - | H98: - | L98: Tip.Doc. | M98: Etiqueta
L99: TE1 | M99: IEA
C100: SEM (Sem) | L100: SEM1 | M100: IEA Pb1
C101: TPD | D101: HORES | L101: SEM2 | M101: IEA Pb2
C102: SEM | D102: SEM1 | E102: SEM2 | F102: SEM3 | G102: SEM4
A103: =A76 -> 106755 | B103: =B76 -> Dret Ambiental | C103: ='1r curs 2n sem'!Y7 -> - | D103: - | E103: - | F103: - | G103: - | L103: Tip.Doc. | M103: Etiqueta
A104: =A77 -> 106756 | B104: =B77 -> Fonaments de Biologia | C104: ='1r curs 2n sem'!Y8 -> - | D104: - | E104: - | F104: - | G104: - | L104: TE | M104: SAMB
A105: =A78 -> 106753 | B105: =B78 -> Fonaments de Física | C105: ='1r curs 2n sem'!Y9 -> 1 | D105: =COUNTIF('1r curs 2n sem'!A13:AG165,"FFIS Se1") -> 1 | E105: =COUNTIF('1r curs 2n sem'!A13:AG165,"FFIS Se2") -> 1 | F105: =COUNTIF('1r curs 2n sem'!A13:AG165,"FFIS Se3") -> 1 | G105: =COUNTIF('1r curs 2n sem'!A13:AG165,"FFIS Se4") -> 1 | L105: PAUL1 | M105: SAMB Pb1
A106: =A79 -> 106754 | B106: =B79 -> Introducció a l'Economia Ambiental | C106: ='1r curs 2n sem'!Y10 -> - | D106: - | E106: - | F106: - | G106: - | L106: PAUL2 | M106: SAMB Pb2
A107: =A80 -> 106752 | B107: =B80 -> Sociologia Ambiental | C107: ='1r curs 2n sem'!Y11 -> - | D107: - | E107: - | F107: - | G107: -
A110: SEGON CURS
A112: 1r SEMESTRE
...
