Workbook

Sheet 1r curs 1r sem
A1: Grau de CCAA - Primer curs - 1r semestre (CURS 2026/2027)
M4: Teoria | O4: Pràctiques d'aula | Q4: Pràc. de laboratori | U4: Seminaris | W4: Pràc. de camp
M5: TE | O5: PAUL (Pb) | Q5: PLAB (Pr) | S5: PLAB40 | U5: SESP (Se) | W5: PCAM (So)
M6: Hores | N6: Grups | O6: Hores | P6: Grups | Q6: Hores | R6: Grups | S6: Hores | T6: Grups | U6: Hores | V6: Grups | W6: Hores | X6: Grups
B7: 106751 | D7: FGR | F7: Fonaments de Geografia | M7: 38 | N7: 1 | O7: 12 | P7: 2 | Q7: - | R7: - | S7: - | T7: - | U7: - | V7: - | W7: - | X7: -
B8: 106749 | D8: FGEO | F8: Fonaments de Geologia | M8: 37 | N8: 1 | O8: - | P8: - | Q8: 8 | R8: 3 | S8: - | T8: - | U8: - | V8: - | W8: 8 | X8: 3
B9: 106747 | D9: FMAT | F9: Fonaments de Matemàtiques | M9: 38 | N9: 1 | O9: 12 | P9: 2 | Q9: - | R9: - | S9: - | T9: - | U9: - | V9: - | W9: - | X9: -
B10: 106750 | D10: FQUI | F10: Fonaments de Química | M10: 29 | N10: 2 | O10: 10 | P10: 2 | Q10: - | R10: - | S10: 14 | T10: 3 | U10: - | V10: - | W10: - | X10: -
B11: 106757 | D11: IRCA | F11: Introducció i Reptes de les Ciències Ambientals | M11: 30 | N11: 1 | O11: 6 | P11: 2 | Q11: - | R11: - | S11: - | T11: - | U11: 8 | V11: 4 | W11: 6 | X11: 4
B15: 46265 | D15: =B15+1 -> 46266 | F15: =D15+1 -> 46267 | H15: =F15+1 -> 46268 | J15: =H15+1 -> 46269 | N15: =B15+7 -> 46272 | P15: =N15+1 -> 46273 | R15: =P15+1 -> 46274 | T15: =R15+1 -> 46275 | V15: =T15+1 -> 46276
B16: DILLUNS | D16: DIMARTS | F16: DIMECRES | H16: DIJOUS | J16: DIVENDRES | N16: DILLUNS | P16: DIMARTS | R16: DIMECRES | T16: DIJOUS | V16: DIVENDRES
A17: 9-10 | B17: NO LECTIU | M17: 9-10 | V17: FESTIU
A18: 10-11 | M18: 10-11
A19: 11-12 | M19: 11-12
A20: 12-13 | M20: 12-13
A21: 13-14 | M21: 13-14
A22: 14-15 | M22: 14-15 | N22: SESSIÓ D'ACOLLIDA CCAA
A23: 15-16 | M23: 15-16 | N23: FQUI 1 | P23: FQUI 2 | R23: FQUI 1 | T23: FGEO
A24: 16-17 | M24: 16-17 | N24: FGR | P24: FMAT | R24: FGEO | T24: FGR
A25: 17-18 | M25: 17-18 | N25: FMAT | P25: IRCA | R25: IRCA | T25: FMAT
A26: 18-19 | M26: 18-19 | P26: FQUI 2 | R26: FGR
A27: 19-20 | M27: 19-20
B29: =V15+3 -> 46279 | D29: =B29+1 -> 46280 | F29: =D29+1 -> 46281 | H29: =F29+1 -> 46282 | J29: =H29+1 -> 46283 | N29: =B29+7 -> 46286 | P29: =N29+1 -> 46287 | R29: =P29+1 -> 46288 | T29: =R29+1 -> 46289 | V29: =T29+1 -> 46290
B30: DILLUNS | D30: DIMARTS | F30: DIMECRES | H30: DIJOUS | J30: DIVENDRES | N30: DILLUNS | P30: DIMARTS | R30: DIMECRES | T30: DIJOUS | V30: DIVENDRES
A31: 9-10 | M31: 9-10 | T31: FESTIU
A32: 10-11 | M32: 10-11
A33: 11-12 | M33: 11-12 | P33: FGEO Pr1 | R33: FGEO Pr2 | V33: FGEO Pr3
A34: 12-13 | M34: 12-13 | P34: FGEO Pr1 | R34: FGEO Pr2 | V34: FGEO Pr3
A35: 13-14 | M35: 13-14
A36: 14-15 | M36: 14-15 | V36: FQUI-presentació pràctiques
A37: 15-16 | B37: FQUI 1 | D37: FQUI 2 | F37: FQUI 1 | H37: FGEO | J37: FQUI 2 | M37: 15-16 | N37: FQUI 1 | P37: FQUI 2 | R37: FQUI 1 | V37: FQUI 2
A38: 16-17 | B38: FGR | D38: FMAT | F38: FGEO | H38: FGR | J38: FMAT | M38: 16-17 | N38: FGR | P38: FMAT | R38: FGEO | V38: FMAT
A39: 17-18 | B39: FMAT | D39: IRCA | F39: IRCA | H39: FMAT Pb1 | J39: FGEO | M39: 17-18 | N39: FMAT | P39: IRCA | R39: IRCA | V39: FGEO
A40: 18-19 | B40: FQUI Pb1 | C40: FGR Pb2 | D40: FGR Pb1 | E40: FQUI Pb2 | F40: FGR | I40: FMAT Pb2 | J40: IRCA | M40: 18-19 | N40: FQUI Pb1 | O40: FGR Pb2 | P40: FGR Pb1 | Q40: FQUI Pb2 | R40: FGR | V40: IRCA
A41: 19-20 | B41: FQUI 2 | D41: FQUI 1 | M41: 19-20
B43: =V29+3 -> 46293 | D43: =B43+1 -> 46294 | F43: =D43+1 -> 46295 | H43: =F43+1 -> 46296 | J43: =H43+1 -> 46297 | N43: =B43+7 -> 46300 | P43: =N43+1 -> 46301 | R43: =P43+1 -> 46302 | T43: =R43+1 -> 46303 | V43: =T43+1 -> 46304
B44: DILLUNS | D44: DIMARTS | F44: DIMECRES | H44: DIJOUS | J44: DIVENDRES | N44: DILLUNS | P44: DIMARTS | R44: DIMECRES | T44: DIJOUS | V44: DIVENDRES
A45: 9-10 | M45: 9-10 | P45: FQUI Pr1 | R45: FQUI Pr2 | T45: FQUI Pr3 | V45: FQUI Pr1
A46: 10-11 | B46: IRCA Se1 | D46: FGEO Pr1 | F46: IRCA Se3 | M46: 10-11 | P46: FQUI Pr1 | R46: FQUI Pr2 | T46: FQUI Pr3 | V46: FQUI Pr1
A47: 11-12 | B47: IRCA Se1 | D47: FGEO Pr1 | F47: IRCA Se3 | H47: FGEO Pr2 | J47: FGEO Pr3 | M47: 11-12 | P47: FQUI Pr1 | R47: FQUI Pr2 | T47: FQUI Pr3 | V47: FQUI Pr1
...

Sheet 2n curs 1r sem
A1: Grau de CCAA - Segon curs - 1r semestre Curs 2026/2027
S3: Teoria | U3: Pràctiques d'aula | W3: Pràc. de laboratori | AA3: Seminaris | AD3: Pràc. de camp
S4: TE | U4: PAUL (Pb) | W4: PLAB (Pr) | Y4: PLAB40 (Pr) | AA4: SESP (Se) | AD4: PCAM (So)
S5: Hores | T5: Grups | U5: Hores | V5: Grups | W5: Hores | X5: Grups | Y5: Hores | Z5: Grups | AA5: Hores | AB5: Grups | AD5: Hores
B6: 106748 | D6: E I | F6: Eina I: Tractament Estadístic de Dades | S6: 30 | T6: 1 | U6: 10 | V6: 2 | W6: 10 | X6: 4 | Y6: - | Z6: - | AA6: - | AB6: - | AD6: -
B7: 106779 | D7: BAV | F7: Biologia Animal i Vegetal | S7: 28 | T7: 1 | U7: 2 | V7: 2 | W7: 9 | X7: 4 | Y7: - | Z7: - | AA7: - | AB7: - | AD7: 9
B8: 106778 | D8: ECO | F8: Ecologia | S8: 24 | T8: 1 | U8: 12 | V8: 2 | W8: 6 | X8: 4 | Y8: - | Z8: - | AA8: - | AB8: - | AD8: 6
B9: 106768 | D9: HIDRO | F9: Hidrologia | S9: 32 | T9: 1 | U9: - | V9: - | W9: 8 | X9: 4 | Y9: - | Z9: - | AA9: - | AB9: - | AD9: 8
B10: 106761 | D10: PI | F10: Projecte Integral I: Medis Físic i Biòtic | S10: 6 | T10: 1 | U10: - | V10: - | W10: 4 | X10: 4 | Y10: - | Z10: - | AA10: - | AB10: - | AD10: 40
B12: 46265 | E12: =B12+1 -> 46266 | H12: =E12+1 -> 46267 | K12: =H12+1 -> 46268 | N12: =K12+1 -> 46269 | S12: =B12+7 -> 46272 | V12: =S12+1 -> 46273 | Y12: =V12+1 -> 46274 | AB12: =Y12+1 -> 46275 | AE12: =AB12+1 -> 46276
B13: DILLUNS | E13: DIMARTS | H13: DIMECRES | K13: DIJOUS | N13: DIVENDRES | S13: DILLUNS | V13: DIMARTS | Y13: DIMECRES | AB13: DIJOUS | AE13: DIVENDRES
A14: 9-10 | B14: NO LECTIU | R14: 9-10 | S14: BAV | V14: ECO | Y14: ECO | AB14: HIDRO | AE14: FESTIU
A15: 10-11 | R15: 10-11 | S15: HIDRO | V15: HIDRO | Y15: EI | AB15: EI
A16: 11-12 | R16: 11-12 | V16: EI | Y16: BAV | AB16: BAV
A17: 12-13 | R17: 12-13 | V17: ECO | AB17: PI
A18: 13-14 | R18: 13-14
A19: 14-15 | R19: 14-15
A20: 15-16 | R20: 15-16
A21: 16-17 | R21: 16-17
A22: 17-18 | R22: 17-18
A23: 18-19 | R23: 18-19
A24: 19-20 | R24: 19-20
B26: =AE12+3 -> 46279 | E26: =B26+1 -> 46280 | H26: =E26+1 -> 46281 | K26: =H26+1 -> 46282 | N26: =K26+1 -> 46283 | S26: =N26+3 -> 46286 | V26: =S26+1 -> 46287 | Y26: =V26+1 -> 46288 | AB26: =Y26+1 -> 46289 | AE26: =AB26+1 -> 46290
B27: DILLUNS | E27: DIMARTS | H27: DIMECRES | K27: DIJOUS | N27: DIVENDRES | S27: DILLUNS | V27: DIMARTS | Y27: DIMECRES | AB27: DIJOUS | AE27: DIVENDRES
A28: 9-10 | B28: BAV | E28: ECO | H28: ECO | K28: HIDRO | N28: ECO So1 | P28: ECO So3 | R28: 9-10 | S28: BAV | V28: ECO | AB28: FESTIU
A29: 10-11 | B29: HIDRO | E29: HIDRO | H29: EI | K29: EI | N29: ECO So1 | P29: ECO So3 | R29: 10-11 | S29: HIDRO | V29: HIDRO | Y29: BAV So1 | AA29: BAV So2 | AE29: BAV So3 | AG29: BAV So4
A30: 11-12 | B30: ECO Pb1 | D30: EI Pb2 | E30: EI | H30: BAV | K30: BAV | N30: ECO So1 | P30: ECO So3 | R30: 11-12 | S30: ECO Pb1 | U30: EI Pb2 | V30: EI | Y30: BAV So1 | AA30: BAV So2 | AE30: BAV So3 | AG30: BAV So4
A31: 12-13 | B31: EI Pb1 | D31: ECO Pb2 | E31: ECO | K31: PI | N31: ECO So1 | P31: ECO So3 | R31: 12-13 | S31: EI Pb1 | U31: ECO Pb2 | Y31: BAV So1 | AA31: BAV So2 | AE31: BAV So3 | AG31: BAV So4
A32: 13-14 | N32: ECO So1 | P32: ECO So3 | R32: 13-14
A33: 14-15 | N33: ECO So1 | P33: ECO So3 | R33: 14-15
A34: 15-16 | B34: BAV Pr1 | E34: BAV Pr2 | H34: BAV Pr4 | K34: BAV Pr3 | R34: 15-16 | S34: EI Pr1 | U34: EI Pr3 | V34: EI Pr2 | X34: EI Pr4
A35: 16-17 | B35: BAV Pr1 | E35: BAV Pr2 | H35: BAV Pr4 | K35: BAV Pr3 | R35: 16-17 | S35: EI Pr1 | U35: EI Pr3 | V35: EI Pr2 | X35: EI Pr4
A36: 17-18 | B36: BAV Pr1 | E36: BAV Pr2 | H36: BAV Pr4 | K36: BAV Pr3 | R36: 17-18
A37: 18-19 | R37: 18-19
A38: 19-20 | R38: 19-20
B40: =AE26+3 -> 46293 | E40: =B40+1 -> 46294 | H40: =E40+1 -> 46295 | K40: =H40+1 -> 46296 | N40: =K40+1 -> 46297 | S40: =B40+7 -> 46300 | V40: =S40+1 -> 46301 | Y40: =V40+1 -> 46302 | AB40: =Y40+1 -> 46303 | AE40: =AB40+1 -> 46304
B41: DILLUNS | E41: DIMARTS | H41: DIMECRES | K41: DIJOUS | N41: DIVENDRES | S41: DILLUNS | V41: DIMARTS | Y41: DIMECRES | AB41: DIJOUS | AE41: DIVENDRES
A42: 9-10 | B42: PI So1 i 3 | E42: PI So1 i 3 | H42: PI So1 i 3 | I42: BAV So2 | J42: BAV So4 | K42: PI So1 i 3 | N42: PI So1 i 3 | O42: ECO So2 | P42: ECO So4 | R42: 9-10 | S42: PI So2 i 4 | T42: BAV So1 | U42: BAV So3 | V42: PI So2 i 4 | Y42: PI So2 i 4 | AB42: PI So2 i 4 | AE42: PI So2 i 4
A43: 10-11 | B43: PI So1 i 3 | E43: PI So1 i 3 | H43: PI So1 i 3 | I43: BAV So2 | J43: BAV So4 | K43: PI So1 i 3 | N43: PI So1 i 3 | O43: ECO So2 | P43: ECO So4 | R43: 10-11 | S43: PI So2 i 4 | T43: BAV So1 | U43: BAV So3 | V43: PI So2 i 4 | Y43: PI So2 i 4 | AB43: PI So2 i 4 | AE43: PI So2 i 4
A44: 11-12 | B44: PI So1 i 3 | E44: PI So1 i 3 | H44: PI So1 i 3 | I44: BAV So2 | J44: BAV So4 | K44: PI So1 i 3 | N44: PI So1 i 3 | O44: ECO So2 | P44: ECO So4 | R44: 11-12 | S44: PI So2 i 4 | T44: BAV So1 | U44: BAV So3 | V44: PI So2 i 4 | Y44: PI So2 i 4 | AB44: PI So2 i 4 | AE44: PI So2 i 4
...

Sheet 3r curs 1r sem
A1: Grau de CCAA - Tercer curs - 1r semestre Curs 2026/2027
S3: Teoria | U3: Pràctiques d'aula | W3: Pràc. de laboratori | Y3: Seminaris | AA3: Pràc. de camp
A4: 44721 | S4: TE | U4: PAUL (Pb) | W4: PLAB (Pr) | Y4: SESP (Se) | AA4: PCAM (So)
S5: Hores | T5: Grups | U5: Hores | V5: Grups | W5: Hores | X5: Grups | Y5: Hores | Z5: Grups | AA5: Hores | AB5: Grups
B6: 106759 | E6: EIII | H6: Eina III: Avaluació de l'Impacte Ambiental | S6: 20 | T6: 1 | U6: 10 | V6: 2 | W6: - | X6: - | Y6: 12 | Z6: 2 | AA6: 8 | AB6: 2 | AC6: s'han modificat les hores
B7: 106763 | E7: PI III | H7: Projecte Integral III: Impactes Antropogènics | S7: 14 | T7: 1 | U7: 8 | V7: 2 | W7: - | X7: - | Y7: 4 | Z7: 4 | AA7: 24 | AB7: 4
B8: 106765 | E8: EAMB | H8: Enginyeria Ambiental | S8: 28 | T8: 1 | U8: 14 | V8: 2 | W8: - | X8: - | Y8: 6 | Z8: 2 | AA8: - | AB8: -
B9: 106770 | E9: CS | H9: Ciències del Sòl | S9: 30 | T9: 1 | U9: - | V9: - | W9: 12 | X9: 4 | Y9: - | Z9: - | AA9: 6 | AB9: 2
B10: 106771 | E10: CMA | H10: Contaminació del Medi Ambient | S10: 29 | T10: 1 | U10: 11 | V10: 2 | W10: 7 | X10: 4 | Y10: 1 | Z10: 2 | AA10: - | AB10: -
B12: 46265 | E12: =B12+1 -> 46266 | H12: =E12+1 -> 46267 | K12: =H12+1 -> 46268 | N12: =K12+1 -> 46269 | S12: =B12+7 -> 46272 | V12: =S12+1 -> 46273 | Y12: =V12+1 -> 46274 | AB12: =Y12+1 -> 46275 | AE12: =AB12+1 -> 46276
B13: DILLUNS | E13: DIMARTS | H13: DIMECRES | K13: DIJOUS | N13: DIVENDRES | S13: DILLUNS | V13: DIMARTS | Y13: DIMECRES | AB13: DIJOUS | AE13: DIVENDRES
A14: 9-10 | B14: NO LECTIU | R14: 9-10 | V14: CMA | AE14: FESTIU
A15: 10-11 | R15: 10-11 | V15: EAMB | Y15: EAMB | AB15: PI III
A16: 11-12 | R16: 11-12 | V16: PI III | Y16: EAMB | AB16: CMA
A17: 12-13 | R17: 12-13 | V17: CS | Y17: CS | AB17: CMA
A18: 13-14 | R18: 13-14
A19: 14-15 | R19: 14-15
A20: 15-16 | R20: 15-16 | S20: EIII | AB20: EIII Pb1
A21: 16-17 | R21: 16-17 | S21: EIII | AB21: EIII Pb1
A22: 17-18 | R22: 17-18 | S22: EIII | AB22: EIII Pb2
A23: 18-19 | R23: 18-19 | AB23: EIII Pb2
A24: 19-20 | R24: 19-20
B26: =AE12+3 -> 46279 | E26: =B26+1 -> 46280 | H26: =E26+1 -> 46281 | K26: =H26+1 -> 46282 | N26: =K26+1 -> 46283 | S26: =N26+3 -> 46286 | V26: =S26+1 -> 46287 | Y26: =V26+1 -> 46288 | AB26: =Y26+1 -> 46289 | AE26: =AB26+1 -> 46290
B27: DILLUNS | E27: DIMARTS | H27: DIMECRES | K27: DIJOUS | N27: DIVENDRES | S27: DILLUNS | V27: DIMARTS | Y27: DIMECRES | AB27: DIJOUS | AE27: DIVENDRES
A28: 9-10 | N28: EAMB Se1 | O28: EAMB Se2 | R28: 9-10 | AB28: FESTIU
A29: 10-11 | B29: CMA | E29: EAMB | H29: EAMB | N29: EAMB Se1 | O29: EAMB Se2 | R29: 10-11 | S29: CMA | V29: EAMB | Y29: EAMB
A30: 11-12 | B30: CMA Pb1 | C30: EAMB Pb2 | E30: PI III | H30: EAMB | K30: CMA | N30: CS | R30: 11-12 | S30: CMA Pb1 | T30: EAMB Pb2 | V30: PI III | Y30: EAMB
A31: 12-13 | B31: CMA Pb2 | C31: EAMB Pb1 | E31: CS | H31: CS | K31: CMA | N31: CS | R31: 12-13 | S31: CMA Pb2 | T31: EAMB Pb1 | V31: CS | Y31: CS
A32: 13-14 | R32: 13-14
A33: 14-15 | R33: 14-15
A34: 15-16 | K34: EIII | N34: EIII Pb1 | R34: 15-16
A35: 16-17 | K35: EIII | N35: EIII Pb1 | R35: 16-17
A36: 17-18 | K36: EIII | N36: EIII Pb2 | R36: 17-18
A37: 18-19 | N37: EIII Pb2 | R37: 18-19
A38: 19-20 | R38: 19-20
B40: =AE26+3 -> 46293 | E40: =B40+1 -> 46294 | H40: =E40+1 -> 46295 | K40: =H40+1 -> 46296 | N40: =K40+1 -> 46297 | S40: =B40+7 -> 46300 | V40: =S40+1 -> 46301 | Y40: =V40+1 -> 46302 | AB40: =Y40+1 -> 46303 | AE40: =AB40+1 -> 46304
B41: DILLUNS | E41: DIMARTS | H41: DIMECRES | K41: DIJOUS | N41: DIVENDRES | S41: DILLUNS | V41: DIMARTS | Y41: DIMECRES | AB41: DIJOUS | AE41: DIVENDRES (*)
A42: 9-10 | N42: CS So1 | R42: 9-10 | V42: PI III Pb1 | Y42: PI III Pb2 | AE42: CS So2
A43: 10-11 | B43: CMA | E43: EAMB | H43: EAMB | N43: CS So1 | R43: 10-11 | S43: CMA | V43: EAMB | Y43: EAMB | AE43: CS So2
A44: 11-12 | C44: EAMB Pb2 | E44: PI III | H44: CS | K44: CMA | N44: CS So1 | R44: 11-12 | S44: CMA Pb1 | T44: EAMB Pb2 | V44: PI III | Y44: CS | AB44: CMA | AE44: CS So2
...

Sheet 4t curs 1r sem
A1: Grau de CCAA - Quart curs - 1r semestre Curs 2026/2027
S3: Teoria | U3: Pràctiques d'aula | W3: Pràc. de laboratori | Y3: Seminaris | AA3: Pràc. de camp
A4: 44721 | S4: TE | U4: PAUL (Pb) | W4: PLAB (Pr) | Y4: SESP (Se) | AA4: PCAM (So) | AC4: VEXT (So)
S5: Hores | T5: Grups | U5: Hores | V5: Grups | W5: Hores | X5: Grups | Y5: Hores | Z5: Grups | AA5: Hores | AB5: Grups | AC5: Hores | AD5: Grups
B6: 106760 | E6: EIV | H6: Eina IV: Divulgació, Comunicació i Educació Ambiental | S6: 22 | T6: 1 | U6: 20 | V6: 2 | W6: - | X6: - | Y6: 8 | Z6: 2 | AA6: - | AB6: - | AC6: - | AD6: -
B7: 106775 | E7: TAMB | H7: Traçadors Ambientals | S7: 35 | T7: 1 | U7: 7 | V7: 1 | W7: 6 | X7: 1 | Y7: - | Z7: - | AA7: - | AB7: - | AC7: - | AD7: -
B8: 106780 | E8: MIA | H8: Microbiologia Ambiental (1) | S8: 30 | T8: 1 | U8: - | V8: - | W8: 16 | X8: 2 | Y8: - | Z8: - | AA8: - | AB8: - | AC8: 4 | AD8: 2
B9: 106782 | E9: GAMB | H9: Governança Ambiental | S9: 38 | T9: 1 | U9: 10 | V9: 1 | W9: - | X9: - | Y9: - | Z9: - | AA9: - | AB9: - | AC9: - | AD9: -
B10: 106787 | E10: SAMB | H10: Salut Ambiental | S10: 28 | T10: 1 | U10: 14 | V10: 1 | W10: - | X10: - | Y10: - | Z10: - | AA10: 8 | AB10: 1 | AC10: - | AD10: -
B11: 106790 | E11: AGA | H11: Anàlisi i Gestió Ambiental en Empreses i Institucions | S11: 28 | T11: 1 | U11: 15 | V11: 1 | W11: - | X11: - | Y11: - | Z11: - | AA11: - | AB11: - | AC11: 5 | AD11: 1
B12: 106791 | E12: AMCC | H12: Adaptació i Mitigació del Canvi Climàtic i Global | S12: 45 | T12: 1 | U12: - | V12: - | W12: - | X12: - | Y12: - | Z12: - | AA12: - | AB12: - | AC12: 3 | AD12: 1
B13: 106794 | E13: GAC | H13: Gestió i Avaluació de la Ciència (2) | S13: 33.33 | T13: 1 | U13: 16.67 | V13: 1 | W13: - | X13: - | Y13: - | Z13: - | AA13: - | AB13: - | AC13: - | AD13: -
B14: (1) Els horaris de MIA els determina el Grau de Biologia Ambiental (100824 Microbiologia Ambiental) i, per tant, és recomanable consultar els horaris d'aquell Grau. Les classes s'imparteixen a la Facultat de Ciències i Biociències.
B15: (2) Els horaris de GAC els determina el Grau de Ciència, Tecnologia i Humanitats (106237 Gestió i Avaluació de la Ciència) i, per tant, és recomanable consultar els horaris d'aquell Grau.
B17: 46265 | E17: =B17+1 -> 46266 | H17: =E17+1 -> 46267 | K17: =H17+1 -> 46268 | N17: =K17+1 -> 46269 | S17: =B17+7 -> 46272 | V17: =S17+1 -> 46273 | Y17: =V17+1 -> 46274 | AB17: =Y17+1 -> 46275 | AE17: =AB17+1 -> 46276
B18: DILLUNS | E18: DIMARTS | H18: DIMECRES | K18: DIJOUS | N18: DIVENDRES | S18: DILLUNS | V18: DIMARTS | Y18: DIMECRES | AB18: DIJOUS | AE18: DIVENDRES
A19: 9-10 | R19: 9-10 | S19: EIV | V19: GAMB | Y19: TAMB | AB19: AGA
A21: 10-11 | R21: 10-11 | S21: EIV | V21: GAMB | Y21: TAMB | AB21: AGA
A23: 11-12 | R23: 11-12 | S23: EIV Pb1 | T23: EIV Pb2 | V23: AGA | Y23: AMCC | AB23: TAMB
A25: 12-13 | R25: 12-13 | S25: EIV Pb1 | T25: EIV Pb2 | V25: SAMB | Y25: AMCC | AB25: GAMB Pb
A27: 13-14 | R27: 13-14 | V27: SAMB | Y27: AMCC | AB27: SAMB Pb
A29: 14-15 | R29: 14-15
A31: 15-16 | R31: 15-16
A33: 16-17 | R33: 16-17
A35: 17-18 | R35: 17-18
A37: 18-19 | R37: 18-19
A39: 19-20 | R39: 19-20
B42: =AE17+3 -> 46279 | E42: =B42+1 -> 46280 | H42: =E42+1 -> 46281 | K42: =H42+1 -> 46282 | N42: =K42+1 -> 46283 | S42: =B42+7 -> 46286 | V42: =S42+1 -> 46287 | Y42: =V42+1 -> 46288 | AB42: =Y42+1 -> 46289 | AE42: =AB42+1 -> 46290
B43: DILLUNS | E43: DIMARTS | H43: DIMECRES | K43: DIJOUS | N43: DIVENDRES | S43: DILLUNS | V43: DIMARTS | Y43: DIMECRES | AB43: DIJOUS | AE43: DIVENDRES
A44: 9-10 | B44: EIV | E44: GAMB | H44: TAMB | K44: AGA | N44: MIA | R44: 9-10 | S44: EIV | V44: GAMB | Y44: TAMB
A46: 10-11 | B46: EIV | E46: GAMB | H46: TAMB | K46: AGA Pb | N46: MIA | R46: 10-11 | S46: EIV | V46: GAMB | Y46: TAMB
A48: 11-12 | B48: EIV Pb1 | C48: EIV Pb2 | E48: AGA | H48: AMCC | K48: TAMB Pb | N48: GAMB | R48: 11-12 | S48: EIV Pb1 | V48: AGA | Y48: AMCC
A50: 12-13 | B50: EIV Pb1 | C50: EIV Pb2 | E50: SAMB | H50: AMCC | K50: GAMB Pb | N50: GAMB | R50: 12-13 | S50: EIV Pb2 | V50: SAMB | Y50: AMCC
A52: 13-14 | E52: SAMB | H52: AMCC | K52: SAMB Pb | R52: 13-14 | V52: SAMB | Y52: AMCC
A54: 14-15 | R54: 14-15
A56: 15-16 | R56: 15-16
A58: 16-17 | R58: 16-17
A60: 17-18 | R60: 17-18
A62: 18-19 | R62: 18-19
A64: 19-20 | R64: 19-20
...

Sheet 1r curs 2n sem
A1: Grau de CCAA - Primer curs - 2n semestre Curs 2026/2027
S4: Teoria | U4: Pràctiques d'aula | W4: Pràc. de laboratori | Y4: Seminaris | AA4: Pràc. de camp
S5: TE | U5: PAUL (Pb) | W5: PLAB (Pr) | Y5: SESP (Se) | AA5: PCAM (So)
S6: Hores | T6: Grups | U6: Hores | V6: Grups | W6: Hores | X6: Grups | Y6: Hores | Z6: Grups | AA6: Hores | AB6: Grups
B7: 106755 | E7: DAMB | H7: Dret Ambiental | S7: 50 | T7: 1 | U7: - | V7: - | W7: - | X7: - | Y7: - | Z7: - | AA7: - | AB7: -
B8: 106756 | E8: FBIO | H8: Fonaments de Biologia | S8: 38 | T8: 1 | U8: - | V8: - | W8: 15 | X8: 4 | Y8: - | Z8: - | AA8: - | AB8: -
B9: 106753 | E9: FFIS | H9: Fonaments de Física | S9: 37 | T9: 1 | U9: 12 | V9: 2 | W9: - | X9: - | Y9: 1 | Z9: 4 | AA9: - | AB9: -
B10: 106754 | E10: IEA | H10: Introducció a l'Economia Ambiental | S10: 32 | T10: 1 | U10: 17.5 | V10: 2 | W10: - | X10: - | Y10: - | Z10: - | AA10: - | AB10: -
B11: 106752 | E11: SAMB | H11: Sociologia Ambiental | S11: 30 | T11: 1 | U11: 12 | V11: 2 | W11: - | X11: - | Y11: - | Z11: - | AA11: - | AB11: - | AC11: canvi de semestre - s'ha de planificar
B13: 46419 | E13: =B13+1 -> 46420 | H13: =E13+1 -> 46421 | K13: =H13+1 -> 46422 | N13: =K13+1 -> 46423 | S13: =B13+7 -> 46426 | V13: =S13+1 -> 46427 | Y13: =V13+1 -> 46428 | AB13: =Y13+1 -> 46429 | AE13: =AB13+1 -> 46430
B14: DILLUNS | E14: DIMARTS | H14: DIMECRES | K14: DIJOUS | N14: DIVENDRES | S14: DILLUNS | V14: DIMARTS | Y14: DIMECRES | AB14: DIJOUS | AE14: DIVENDRES
A15: 9-10 | R15: 9-10
A16: 10-11 | R16: 10-11
A17: 11-12 | R17: 11-12
A18: 12-13 | R18: 12-13
A19: 13-14 | R19: 13-14
A20: 14-15 | R20: 14-15
A21: 15-16 | B21: SAMB | E21: DAMB | H21: DAMB | N21: IEA 1 | R21: 15-16 | S21: SAMB | V21: DAMB | Y21: DAMB | AE21: IEA 1
A22: 16-17 | B22: FFIS | E22: DAMB | H22: DAMB | K22: FFIS | N22: FBIO | R22: 16-17 | S22: FFIS | V22: DAMB | Y22: DAMB | AB22: FFIS | AE22: FBIO
A23: 17-18 | E23: FBIO | H23: FBIO | K23: IEA 1 | N23: FFIS | R23: 17-18 | S23: SAMB Pb1 | T23: FFIS Pb2 | V23: FBIO | Y23: FBIO | AB23: IEA 1 | AE23: FFIS
A24: 18-19 | E24: SAMB | H24: SAMB | K24: IEA 1 | R24: 18-19 | S24: FFIS Pb1 | T24: SAMB Pb2 | Y24: SAMB | AB24: IEA 1
A25: 19-20 | R25: 19-20
B27: =AE13+3 -> 46433 | E27: =B27+1 -> 46434 | H27: =E27+1 -> 46435 | K27: =H27+1 -> 46436 | N27: =K27+1 -> 46437 | S27: =B27+7 -> 46440 | V27: =S27+1 -> 46441 | Y27: =V27+1 -> 46442 | AB27: =Y27+1 -> 46443 | AE27: =AB27+1 -> 46444
B28: DILLUNS | E28: DIMARTS | H28: DIMECRES | K28: DIJOUS | N28: DIVENDRES | S28: DILLUNS | V28: DIMARTS | Y28: DIMECRES | AB28: DIJOUS | AE28: DIVENDRES
A29: 9-10 | R29: 9-10 | Y29: FFIS Se1 | AB29: IEA Pb2 | AE29: FFIS Se3
A30: 10-11 | R30: 10-11 | Y30: FFIS Se2 | AB30: IEA Pb2 | AE30: FFIS Se4
A31: 11-12 | R31: 11-12 | AB31: IEA Pb1
A32: 12-13 | R32: 12-13 | AB32: IEA Pb1
A33: 13-14 | R33: 13-14
A34: 14-15 | R34: 14-15
A35: 15-16 | B35: SAMB | E35: DAMB | H35: DAMB | N35: IEA 1 | R35: 15-16 | S35: SAMB | V35: DAMB | Y35: DAMB | AE35: IEA 1
A36: 16-17 | B36: FFIS | E36: DAMB | H36: DAMB | K36: FFIS | N36: FBIO | R36: 16-17 | S36: FFIS | V36: DAMB | Y36: DAMB | AB36: FFIS | AE36: FBIO
A37: 17-18 | B37: SAMB Pb1 | C37: FFIS Pb2 | E37: FBIO | H37: FBIO | K37: IEA 1 | N37: FFIS | R37: 17-18 | S37: SAMB Pb1 | T37: FFIS Pb2 | V37: FBIO | Y37: FBIO | AB37: IEA 1 | AE37: FFIS
A38: 18-19 | B38: FFIS Pb1 | C38: SAMB Pb2 | E38: SAMB | H38: SAMB | K38: IEA 1 | R38: 18-19 | S38: FFIS Pb1 | T38: SAMB Pb2 | Y38: SAMB | AB38: IEA 1
A39: 19-20 | R39: 19-20
B41: =AE27+3 -> 46447 | E41: =B41+1 -> 46448 | H41: =E41+1 -> 46449 | K41: =H41+1 -> 46450 | N41: =K41+1 -> 46451 | S41: =B41+7 -> 46454 | V41: =S41+1 -> 46455 | Y41: =V41+1 -> 46456 | AB41: =Y41+1 -> 46457 | AE41: =AB41+1 -> 46458
B42: DILLUNS | E42: DIMARTS | H42: DIMECRES | K42: DIJOUS | N42: DIVENDRES | S42: DILLUNS | V42: DIMARTS | Y42: DIMECRES | AB42: DIJOUS | AE42: DIVENDRES
A43: 9-10 | R43: 9-10 | S43: DIA DE LA DONA - FESTA DE LA FACULTAT | AB43: IEA Pb2
A44: 10-11 | R44: 10-11 | AB44: IEA Pb2
A45: 11-12 | R45: 11-12 | AB45: IEA Pb1
...

Sheet 2n curs 2n sem
A1: Grau de CCAA - Segon curs - 2n semestre Curs 2026/2027
S3: Teoria | U3: Pràctiques d'aula | W3: Pràc. de laboratori | Y3: Seminaris | AA3: Pràc. de camp
S4: TE | U4: PAUL (Pb) | W4: PLAB (Pr) | Y4: SESP (Se) | AA4: PCAM (So) | AC4: VEXT
S5: Hores | T5: Grups | U5: Hores | V5: Grups | W5: Hores | X5: Grups | Y5: Hores | Z5: Grups | AA5: Hores | AB5: Grups | AC5: Hores | AD5: Grups
B6: 106769 | E6: CM | H6: Ciències del Mar | S6: 34 | T6: 1 | U6: 4 | V6: 2 | W6: 4 | X6: 4 | Y6: - | Z6: - | AA6: 6 | AB6: 4 | AC6: - | AD6: - | AE6: S'han modificat les hores de PLAB i PCAM
B7: 106758 | E7: EII | H7: Eina II: GIS - Anàlisi de Geoinformació | S7: - | T7: - | U7: - | V7: - | W7: 50 | X7: 2 | Y7: - | Z7: - | AA7: - | AB7: - | AC7: - | AD7: -
B8: 106781 | E8: PSRU | H8: Plantejament Sostenible Rural i Urbà | S8: 36 | T8: 1 | U8: - | V8: - | W8: - | X8: - | Y8: 12 | Z8: 2 | AA8: - | AB8: - | AC8: - | AD8: -
B9: 106762 | E9: PII | H9: Projecte Integral II: Gestió del Territori | S9: 12 | T9: 1 | U9: 9 | V9: 2 | W9: 2 | X9: 4 | Y9: 3 | Z9: 1 | AA9: 24 | AB9: 4 | AC9: - | AD9: -
B10: 106785 | E10: REN | H10: Recursos Energètics Naturals | S10: 38 | T10: 1 | U10: - | V10: - | W10: - | X10: - | Y10: 8 | Z10: 4 | AA10: - | AB10: - | AC10: 2 | AD10: 4
B13: 46419 | E13: =B13+1 -> 46420 | H13: =E13+1 -> 46421 | K13: =H13+1 -> 46422 | N13: =K13+1 -> 46423 | S13: =B13+7 -> 46426 | V13: =S13+1 -> 46427 | Y13: =V13+1 -> 46428 | AB13: =Y13+1 -> 46429 | AE13: =AB13+1 -> 46430
B14: DILLUNS | E14: DIMARTS | H14: DIMECRES | K14: DIJOUS | N14: DIVENDR. | S14: DILLUNS | V14: DIMARTS | Y14: DIMECRES | AB14: DIJOUS | AE14: DIVENDR.
A15: 9-10 | R15: 9-10 | S15: PSRU | Y15: PII | AB15: PSRU
A16: 10-11 | R16: 10-11 | S16: PSRU | V16: REN | Y16: CM | AB16: PSRU
A17: 11-12 | R17: 11-12 | S17: CM | V17: CM | Y17: REN | AB17: REN
A18: 12-13 | R18: 12-13
A19: 13-14 | R19: 13-14
A20: 14-15 | R20: 14-15
A21: 15-16 | R21: 15-16 | S21: EII Pr1 | V21: EII Pr2 | AB21: DIA INTERNACIONAL DE LA NENA I LA DONA A LA CIÈNCIA ACTIVITATS CAMPUS (15-17h)
A22: 16-17 | R22: 16-17 | S22: EII Pr1 | V22: EII Pr2
A23: 17-18 | R23: 17-18 | S23: EII Pr1 | V23: EII Pr2
A24: 18-19 | R24: 18-19 | S24: EII Pr1 | V24: EII Pr2
A25: 19-20 | R25: 19-20
B27: =AE13+3 -> 46433 | E27: =B27+1 -> 46434 | H27: =E27+1 -> 46435 | K27: =H27+1 -> 46436 | N27: =K27+1 -> 46437 | S27: =N27+3 -> 46440 | V27: =S27+1 -> 46441 | Y27: =V27+1 -> 46442 | AB27: =Y27+1 -> 46443 | AE27: =AB27+1 -> 46444
B28: DILLUNS | E28: DIMARTS | H28: DIMECRES | K28: DIJOUS | N28: DIVENDR. | S28: DILLUNS | V28: DIMARTS | Y28: DIMECRES | AB28: DIJOUS | AE28: DIVENDR.
A29: 9-10 | B29: PSRU | E29: REN | H29: PII | K29: PSRU Se1 | R29: 9-10 | S29: PSRU | Y29: PII | AB29: PSRU
A30: 10-11 | B30: PSRU | E30: REN | H30: CM | K30: PSRU Se1 | R30: 10-11 | S30: PSRU | V30: REN | Y30: CM | AB30: PSRU
A31: 11-12 | B31: CM | E31: CM | H31: REN | K31: PSRU Se2 | R31: 11-12 | S31: CM | V31: CM | Y31: REN | AB31: REN
A32: 12-13 | K32: PSRU Se2 | R32: 12-13 | V32: PII Pb1 | Y32: PII Pb2
A33: 13-14 | R33: 13-14
A34: 14-15 | R34: 14-15
A35: 15-16 | B35: EII Pr1 | E35: EII Pr2 | R35: 15-16 | S35: EII Pr1 | V35: EII Pr2
A36: 16-17 | B36: EII Pr1 | E36: EII Pr2 | R36: 16-17 | S36: EII Pr1 | V36: EII Pr2
A37: 17-18 | B37: EII Pr1 | E37: EII Pr2 | R37: 17-18 | S37: EII Pr1 | V37: EII Pr2
A38: 18-19 | B38: EII Pr1 | E38: EII Pr2 | R38: 18-19 | S38: EII Pr1 | V38: EII Pr2
A39: 19-20 | R39: 19-20
B41: =AE27+3 -> 46447 | E41: =B41+1 -> 46448 | H41: =E41+1 -> 46449 | K41: =H41+1 -> 46450 | N41: =K41+1 -> 46451 | S41: =B41+7 -> 46454 | V41: =S41+1 -> 46455 | Y41: =V41+1 -> 46456 | AB41: =Y41+1 -> 46457 | AE41: =AB41+1 -> 46458
B42: DILLUNS | E42: DIMARTS | H42: DIMECRES | K42: DIJOUS | N42: DIVENDR. | S42: DILLUNS | V42: DIMARTS | Y42: DIMECRES | AB42: DIJOUS | AE42: DIVENDR.
A43: 9-10 | B43: PSRU | E43: REN | H43: PII | K43: PSRU Se1 | N43: EII Pr1 | R43: 9-10 | AB43: PSRU | AE43: PII So2 | AF43: PII So4
A44: 10-11 | B44: PSRU | E44: REN | H44: CM | K44: PSRU Se1 | N44: EII Pr1 | R44: 10-11 | S44: DIA DE LA DONA - FESTA DE LA FACULTAT | V44: REN | Y44: CM | AB44: PSRU | AE44: PII So2 | AF44: PII So4
A45: 11-12 | B45: CM | E45: CM | H45: REN | K45: PSRU Se2 | N45: EII Pr1 | R45: 11-12 | V45: CM | Y45: REN | AB45: REN | AE45: PII So2 | AF45: PII So4
...

Sheet 3r curs 2n sem
A1: Grau de CCAA - Tercer curs - 2n semestre Curs 2026/2027
S3: Teoria | U3: Pràctiques d'aula | W3: Pràc. de laboratori | Y3: Seminaris | AA3: Pràc. de camp
S4: TE | U4: PAUL (Pb) | W4: PLAB (Pr) | Y4: SESP (Se) | AA4: PCAM (So) | AC4: VEXT (So)
S5: Hores | T5: Grups | U5: Hores | V5: Grups | W5: Hores | X5: Grups | Y5: Hores | Z5: Grups | AA5: Hores | AB5: Grups | AC5: Hores | AD5: Grups
B6: 106764 | E6: PI IV | H6: Projecte Integral IV: Tecnologia Ambiental | S6: 8 | T6: 1 | U6: - | V6: - | W6: 8 | X6: 4 | Y6: 8 | Z6: 4 | AA6: - | AB6: - | AC6: 26 | AD6: 4
B7: 106766 | E7: CTA | H7: Ciència i Tecnologia de l'Aigua | S7: 28 | T7: 1 | U7: 14 | V7: 2 | W7: - | X7: - | Y7: 6 | Z7: 4 | AA7: - | AB7: - | AC7: - | AD7: -
B8: 106767 | E8: PRTR | H8: Prevenció, Reciclatge i Tractament de Residus | S8: 28 | T8: 1 | U8: 14 | V8: 2 | W8: - | X8: - | Y8: 6 | Z8: 4 | AA8: - | AB8: - | AC8: - | AD8: -
B9: 106773 | E9: CA | H9: Ciències de l'Atmosfera | S9: 32 | T9: 1 | U9: 8 | V9: 2 | W9: 8 | X9: 4 | Y9: - | Z9: - | AA9: - | AB9: - | AC9: - | AD9: -
B10: 106786 | E10: CCG | H10: Canvi Climàtic i Global | S10: 38 | T10: 1 | U10: 10 | V10: 2 | W10: - | X10: - | Y10: - | Z10: - | AA10: - | AB10: - | AC10: - | AD10: -
B12: 46419 | E12: =B12+1 -> 46420 | H12: =E12+1 -> 46421 | K12: =H12+1 -> 46422 | N12: =K12+1 -> 46423 | S12: =B12+7 -> 46426 | V12: =S12+1 -> 46427 | Y12: =V12+1 -> 46428 | AB12: =Y12+1 -> 46429 | AE12: =AB12+1 -> 46430
B13: DILLUNS | E13: DIMARTS | H13: DIMECRES | K13: DIJOUS | N13: DIVENDRES | S13: DILLUNS | V13: DIMARTS | Y13: DIMECRES | AB13: DIJOUS | AE13: DIVENDRES
A14: 9-10 | B14: CA | E14: CA | H14: CTA | K14: PRTR | R14: 9-10 | S14: CA | V14: CA | Y14: CTA | AB14: PRTR
A15: 10-11 | B15: PRTR | E15: PRTR | H15: CCG | K15: CA | R15: 10-11 | S15: PRTR | V15: PRTR | Y15: CCG | AB15: CA
A16: 11-12 | B16: CTA | E16: CCG | H16: CCG | K16: PI IV | R16: 11-12 | S16: CTA | V16: CCG | Y16: CCG | AB16: PI IV
A17: 12-13 | K17: PI IV | R17: 12-13 | S17: CTA Pb1 | U17: CTA Pb2 | V17: PRTR Pb1 | W17: PRTR Pb2 | AB17: PI IV
A18: 13-14 | R18: 13-14
A19: 14-15 | R19: 14-15
A20: 15-16 | R20: 15-16
A21: 16-17 | R21: 16-17
A22: 17-18 | R22: 17-18
A23: 18-19 | R23: 18-19
A24: 19-20 | R24: 19-20
B26: =AE12+3 -> 46433 | E26: =B26+1 -> 46434 | H26: =E26+1 -> 46435 | K26: =H26+1 -> 46436 | N26: =K26+1 -> 46437 | S26: =N26+3 -> 46440 | V26: =S26+1 -> 46441 | Y26: =V26+1 -> 46442 | AB26: =Y26+1 -> 46443 | AE26: =AB26+1 -> 46444
B27: DILLUNS | E27: DIMARTS | H27: DIMECRES | K27: DIJOUS | N27: DIVENDRES | S27: DILLUNS | V27: DIMARTS | Y27: DIMECRES | AB27: DIJOUS | AE27: DIVENDRES
A28: 9-10 | B28: CA | E28: CA | H28: CTA | K28: PRTR | R28: 9-10 | S28: CA | V28: CA | Y28: CTA | AB28: PRTR
A29: 10-11 | B29: PRTR | E29: PRTR | H29: CCG | K29: CA | R29: 10-11 | S29: PRTR | V29: PRTR | Y29: CCG | AB29: CA
A30: 11-12 | B30: CTA | E30: CCG | H30: CCG | K30: PI IV | R30: 11-12 | S30: CTA | V30: CCG | Y30: CCG | AB30: PI IV
A31: 12-13 | B31: CTA Pb1 | D31: CTA Pb2 | E31: PRTR Pb1 | F31: PRTR Pb2 | H31: CA Pb1 | I31: CCG Pb2 | K31: CCG PB1 | L31: CA Pb2 | R31: 12-13 | S31: CTA Pb1 | U31: CTA Pb2 | V31: PRTR Pb1 | W31: PRTR Pb2 | Y31: CA Pb1 | Z31: CCG Pb2 | AB31: CCG PB1 | AC31: CA Pb2
A32: 13-14 | R32: 13-14
A33: 14-15 | R33: 14-15
A34: 15-16 | R34: 15-16
A35: 16-17 | R35: 16-17
A36: 17-18 | R36: 17-18
A37: 18-19 | R37: 18-19
A38: 19-20 | R38: 19-20
B40: =AE26+3 -> 46447 | E40: =B40+1 -> 46448 | H40: =E40+1 -> 46449 | K40: =H40+1 -> 46450 | N40: =K40+1 -> 46451 | S40: =B40+7 -> 46454 | V40: =S40+1 -> 46455 | Y40: =V40+1 -> 46456 | AB40: =Y40+1 -> 46457 | AE40: =AB40+1 -> 46458
B41: DILLUNS | E41: DIMARTS | H41: DIMECRES | K41: DIJOUS | N41: DIVENDRES | S41: DILLUNS | V41: DIMARTS | Y41: DIMECRES | AB41: DIJOUS | AE41: DIVENDRES
A42: 9-10 | B42: CA | E42: CA | H42: CTA | N42: PRTR Se1 | O42: PRTR Se3 | R42: 9-10 | V42: CA | Y42: CTA | AB42: CTA | AE42: CTA Pb1 | AG42: CTA Pb2
A43: 10-11 | B43: PRTR | E43: PRTR | H43: CCG | K43: CA | N43: PRTR Se1 | O43: PRTR Se3 | R43: 10-11 | V43: PRTR | Y43: CCG | AB43: CA | AE43: CTA Pb1 | AG43: CTA Pb2
A44: 11-12 | B44: CTA | E44: CCG | H44: CCG | K44: PI IV | N44: PRTR Se2 | O44: PRTR Se4 | R44: 11-12 | V44: CCG | Y44: CCG | AB44: PI IV | AE44: PRTR Pb1 | AF44: PRTR Pb2
...

Sheet 4t curs 2n sem
A1: Grau de CCAA - Quart curs - 2n semestre Curs 2026/2027
S3: Teoria | U3: Pràctiques d'aula | W3: Pràc. de laboratori | Y3: Seminaris | AA3: Pràc. de camp
S4: TE | U4: PAUL (Pb) | W4: PLAB (Pr) | Y4: SESP (Se) | AA4: PCAM (So) | AC4: VEXT (So)
S5: Hores | T5: Grups | U5: Hores | V5: Grups | W5: Hores | X5: Grups | Y5: Hores | Z5: Grups | AA5: Hores | AB5: Grups | AC5: Hores | AD5: Grups
B6: 106772 | E6: MAMB | H6: Modelització Ambiental | S6: 30 | T6: 1 | U6: 18 | V6: 1 | W6: - | X6: - | Y6: - | Z6: - | AA6: - | AB6: - | AC6: - | AD6: -
B7: 106774 | E7: MTA | H7: Mostreig i Tècniques Analítiques | S7: 26 | T7: 1 | U7: 10 | V7: 1 | W7: 8 | X7: 1 | Y7: - | Z7: - | AA7: 4 | AB7: 1 | AC7: - | AD7: -
B8: 106776 | E8: PQS | H8: Processos Químics Sostenibles | S8: 38 | T8: 1 | U8: 10 | V8: 1 | W8: - | X8: - | Y8: - | Z8: - | AA8: - | AB8: - | AC8: - | AD8: -
B9: 106777 | E9: PGE | H9: Processos Geològics Externs | S9: 18 | T9: 1 | U9: - | V9: - | W9: - | X9: - | Y9: - | Z9: - | AA9: 30 | AB9: 1 | AC9: - | AD9: -
B10: 106783 | E10: EECO | H10: Economia Ecològica | S10: 40 | T10: 1 | U10: 8 | V10: 1 | W10: - | X10: - | Y10: - | Z10: - | AA10: - | AB10: - | AC10: - | AD10: -
B11: 106784 | E11: NEA | H11: Negociació i Política Ambiental (1) | S11: 30 | T11: 1 | U11: 19.5 | V11: 1 | W11: - | X11: - | Y11: - | Z11: - | AA11: - | AB11: - | AC11: - | AD11: -
B12: 106788 | E12: RISC | H12: Risc Ambiental | S12: 28 | T12: 1 | U12: 14 | V12: 1 | W12: - | X12: - | Y12: - | Z12: - | AA12: 6 | AB12: 1 | AC12: - | AD12: -
B13: 106789 | E13: CGS | H13: Ciutats, Globalització i Sostenibilitat (2) | S13: 33.3 | T13: 1 | U13: 8.33 | V13: 2 | W13: 8.33 | X13: 2 | Y13: - | Z13: - | AA13: - | AB13: - | AC13: - | AD13: -
B14: 106792 | E14: GMN | H14: Gestió del Medi Natural | S14: 28 | T14: 1 | U14: 12 | V14: 1 | W14: - | X14: - | Y14: - | Z14: - | AA14: 8 | AB14: 2 | AC14: - | AD14: -
B15: 106796 | E15: TFG | H15: Treball de fi de grau | S15: - | T15: - | U15: - | V15: - | W15: - | X15: - | Y15: - | Z15: - | AA15: - | AB15: - | AC15: - | AD15: -
B16: (1) Els horaris de NEA els determina el Grau de Ciència Política i Gestió Pública (101108 Negociació d'intervencions públiques), i per tant és recomanable consultar els horaris d'aquell Grau. A més les classes s'imparteixen a la Facultat de Ciències Polítiques i Sociologia.
B17: (2) Els horaris de CGS els determina el Grau de Geografia, Medi Ambient i Planificació Territorial (107583 Ciutats, Globalització i Sostenibilitat) i, per tant, és recomanable consultar els horaris d'aquell Grau.
B19: 46419 | E19: =B19+1 -> 46420 | H19: =E19+1 -> 46421 | K19: =H19+1 -> 46422 | N19: =K19+1 -> 46423 | S19: =N19+3 -> 46426 | V19: =S19+1 -> 46427 | Y19: =V19+1 -> 46428 | AB19: =Y19+1 -> 46429 | AE19: =AB19+1 -> 46430
B20: DILLUNS | E20: DIMARTS | H20: DIMECRES | K20: DIJOUS | N20: DIVENDRES | S20: DILLUNS | V20: DIMARTS | Y20: DIMECRES | AB20: DIJOUS | AE20: DIVENDRES
A21: 9-10 | B21: PQS | E21: EECO | H21: PGE | K21: GMN | N21: PGE So | R21: 9-10 | S21: PQS | V21: EECO | Y21: PGE | AB21: GMN | AE21: PGE So
A22: 10-11 | B22: PQS | E22: EECO | H22: MTA | K22: GMN | N22: PGE So | R22: 10-11 | S22: PQS | V22: EECO | Y22: MTA | AB22: GMN | AE22: PGE So
A23: 11-12 | B23: MAMB | E23: RISC | H23: MTA | K23: PGE | N23: PGE So | R23: 11-12 | S23: MAMB | V23: RISC | Y23: MTA | AB23: RISC Pb | AE23: PGE So
A24: 12-13 | B24: MAMB | E24: RISC | H24: MAMB Pb | N24: PGE So | R24: 12-13 | S24: MAMB | V24: RISC | Y24: MAMB Pb | AB24: MTA Pb | AE24: PGE So
A25: 13-14 | N25: PGE So | R25: 13-14 | S25: EECO | V25: PQS Pb | AE25: PGE So
A26: 14-15 | R26: 14-15
A27: 15-16 | R27: 15-16
A28: 16-17 | R28: 16-17
A29: 17-18 | R29: 17-18
A30: 18-19 | R30: 18-19
A31: 19-20 | R31: 19-20
B33: =AE19+3 -> 46433 | E33: =B33+1 -> 46434 | H33: =E33+1 -> 46435 | K33: =H33+1 -> 46436 | N33: =K33+1 -> 46437 | S33: =N33+3 -> 46440 | V33: =S33+1 -> 46441 | Y33: =V33+1 -> 46442 | AB33: =Y33+1 -> 46443 | AE33: =AB33+1 -> 46444
B34: DILLUNS | E34: DIMARTS | H34: DIMECRES | K34: DIJOUS | N34: DIVENDRES | S34: DILLUNS | V34: DIMARTS | Y34: DIMECRES | AB34: DIJOUS | AE34: DIVENDRES
A35: 9-10 | B35: PQS | E35: EECO | H35: PGE | K35: GMN | N35: PGE So | R35: 9-10 | S35: PQS | V35: EECO | Y35: PGE | AB35: GMN | AE35: PGE So
A36: 10-11 | B36: PQS | E36: EECO | H36: MTA | K36: GMN | N36: PGE So | R36: 10-11 | S36: PQS | V36: EECO | Y36: MTA | AB36: GMN | AE36: PGE So
A37: 11-12 | B37: MAMB | E37: RISC | H37: MTA | K37: RISC Pb | N37: PGE So | R37: 11-12 | S37: MAMB | V37: RISC | Y37: MTA | AB37: RISC Pb | AE37: PGE So
A38: 12-13 | B38: MAMB | E38: RISC | H38: MAMB Pb | K38: MTA Pb | N38: PGE So | R38: 12-13 | S38: MAMB | V38: RISC | Y38: MAMB Pb | AE38: PGE So
A39: 13-14 | B39: EECO Pb | E39: PQS Pb | N39: PGE So | R39: 13-14 | S39: EECO Pb | V39: PQS Pb | AB39: MTA So | AE39: PGE So
A40: 14-15 | R40: 14-15 | AB40: MTA So
A41: 15-16 | R41: 15-16 | AB41: MTA So
A42: 16-17 | R42: 16-17 | AB42: MTA So
A43: 17-18 | R43: 17-18
...

Sheet FULL CONTROL
A1: FULL DE CONTROL
A2: COMPARATIVA PROGRAMACIÓ REAL (HORES) VS PLANIFICACIÓ (TPD) Grau Ciències Ambientals - Curs 2026/2027
A5: Els quadres següents mostren HORES DE DOCÈNCIA:
A7: En negre, quan les hores de docència QUADREN amb les planificades a la TPD
A8: En vermell, quan les hores de docència NO quadren amb les planificades a la TPD
A11: PRIMER CURS
A13: 1r SEMESTRE
K15: INVENTARI D'ETIQUETES
A16: HORES VS TPD 1r Curs 1r Semestre | C16: TEORIA
C17: TPD | D17: HORES | K17: 106751
C18: TE | D18: TE1 | E18: TE2 | K18: Tip.Doc. | L18: Etiqueta
A19: ='1r curs 1r sem'!B7 -> 106751 | B19: ='1r curs 1r sem'!D7 -> FGR | C19: ='1r curs 1r sem'!M7 -> 38 | D19: =COUNTIF('1r curs 1r sem'!A15:W167,"FGR") -> 38 | E19: - | K19: TE1 | L19: FGR
A20: ='1r curs 1r sem'!B8 -> 106749 | B20: ='1r curs 1r sem'!D8 -> FGEO | C20: ='1r curs 1r sem'!M8 -> 37 | D20: =COUNTIF('1r curs 1r sem'!A15:W167,"FGEO") -> 37 | E20: - | K20: PAUL1 | L20: FGR Pb1
A21: ='1r curs 1r sem'!B9 -> 106747 | B21: ='1r curs 1r sem'!D9 -> FMAT | C21: ='1r curs 1r sem'!M9 -> 38 | D21: =COUNTIF('1r curs 1r sem'!A15:W167,"FMAT") -> 38 | E21: - | K21: PAUL2 | L21: FGR Pb2
A22: ='1r curs 1r sem'!B10 -> 106750 | B22: ='1r curs 1r sem'!D10 -> FQUI | C22: ='1r curs 1r sem'!M10 -> 29 | D22: =COUNTIF('1r curs 1r sem'!A15:W167,"FQUI 1") -> 28 | E22: =COUNTIF('1r curs 1r sem'!A15:W167,"FQUI 2") -> 28
A23: ='1r curs 1r sem'!B11 -> 106757 | B23: ='1r curs 1r sem'!D11 -> IRCA | C23: ='1r curs 1r sem'!M11 -> 30 | D23: =COUNTIF('1r curs 1r sem'!A15:W167,"IRCA") -> 30 | E23: - | K23: 106749
K24: Tip.Doc. | L24: Etiqueta
C25: PAUL (Pb) | K25: TE1 | L25: FGEO
C26: TPD | D26: HORES | K26: PLAB1 | L26: FGEO Pr1
C27: PAUL | D27: PAUL1 | E27: PAUL2 | K27: PLAB2 | L27: FGEO Pr2
A28: =A19 -> 106751 | B28: =B19 -> FGR | C28: ='1r curs 1r sem'!O7 -> 12 | D28: =COUNTIF('1r curs 1r sem'!A15:W167,"FGR Pb1") -> 12 | E28: =COUNTIF('1r curs 1r sem'!A15:W167,"FGR Pb2") -> 12 | K28: PLAB3 | L28: FGEO Pr3
A29: =A20 -> 106749 | B29: =B20 -> FGEO | C29: ='1r curs 1r sem'!O8 -> - | D29: - | E29: - | K29: PCAM1 | L29: FGEO So1
A30: =A21 -> 106747 | B30: =B21 -> FMAT | C30: ='1r curs 1r sem'!O9 -> 12 | D30: =COUNTIF('1r curs 1r sem'!A15:W167,"FMAT Pb1") -> 12 | E30: =COUNTIF('1r curs 1r sem'!A15:W167,"FMAT Pb2") -> 12 | K30: PCAM2 | L30: FGEO So2
A31: =A22 -> 106750 | B31: =B22 -> FQUI | C31: ='1r curs 1r sem'!O10 -> 10 | D31: =COUNTIF('1r curs 1r sem'!A15:W167,"FQUI Pb1") -> 10 | E31: =COUNTIF('1r curs 1r sem'!A15:W167,"FQUI Pb2") -> 10 | K31: PCAM3 | L31: FGEO So3
A32: =A23 -> 106757 | B32: =B23 -> IRCA | C32: ='1r curs 1r sem'!O11 -> 6 | D32: =COUNTIF('1r curs 1r sem'!A15:W167,"IRCA Pb1") -> 6 | E32: =COUNTIF('1r curs 1r sem'!B15:X167,"IRCA Pb2") -> 6
K33: 106747
C34: PLAB (Pr) | K34: Tip.Doc. | L34: Etiqueta
C35: TPD | D35: HORES | K35: TE1 | L35: FMAT
C36: PLAB | D36: PLAB1 | E36: PLAB2 | F36: PLAB3 | K36: PAUL1 | L36: FMAT Pb1
A37: =A19 -> 106751 | B37: =B19 -> FGR | C37: ='1r curs 1r sem'!Q7 -> - | D37: - | E37: - | F37: - | K37: PAUL2 | L37: FMAT Pb2
A38: =A20 -> 106749 | B38: =B20 -> FGEO | C38: ='1r curs 1r sem'!Q8 -> 8 | D38: =COUNTIF('1r curs 1r sem'!A15:W167,"FGEO Pr1") -> 8 | E38: =COUNTIF('1r curs 1r sem'!A15:W167,"FGEO Pr2") -> 8 | F38: =COUNTIF('1r curs 1r sem'!A15:W167,"FGEO Pr3") -> 8
A39: =A21 -> 106747 | B39: =B21 -> FMAT | C39: ='1r curs 1r sem'!Q9 -> - | D39: - | E39: - | F39: - | K39: 106750
A40: =A22 -> 106750 | B40: =B22 -> FQUI | C40: ='1r curs 1r sem'!Q10 -> - | D40: - | E40: - | F40: - | K40: Tip.Doc. | L40: Etiqueta
A41: =A23 -> 106757 | B41: =B23 -> IRCA | C41: ='1r curs 1r sem'!Q11 -> - | D41: - | E41: - | F41: - | K41: TE1 | L41: FQUI 1
K42: TE2 | L42: FQUI 2
C43: PLAB 40 (Pr) | K43: PAUL1 | L43: FQUI Pb1
C44: TPD | D44: HORES | K44: PAUL2 | L44: FQUI Pb2
C45: PLAB | D45: PLAB1 | E45: PLAB2 | F45: PLAB3 | K45: PLAB40 1 | L45: FQUI Pr1
A46: =A28 -> 106751 | B46: =B28 -> FGR | C46: ='1r curs 1r sem'!S7 -> - | D46: - | E46: - | F46: - | K46: PLAB40 2 | L46: FQUI Pr2
A47: =A29 -> 106749 | B47: =B29 -> FGEO | C47: ='1r curs 1r sem'!S8 -> - | D47: - | E47: - | F47: - | K47: PLAB40 3 | L47: FQUI Pr3
...
